{"text_format":"1","workbook":"xlsx","n_sheets":15,"sheets":["Background","Prob_Alc","Risk_Alc","Prob_Marj","Risk_Marj","Prob_Tob","Risk_Tob","Prob_RxDrugs","Risk_RxDrugs","Prob_Other","Risk_Other","CommAssess","StrategySelect","LM","EBP_Matrix"],"not_rendered":{"charts":0,"images":77,"macros":1,"external_links":2,"defined_names":107,"comments":1,"pivot_tables":0},"unopened":[],"bounds":{"document_bytes":16777216,"sheet_cells":100000,"rows_first":2000,"rows_last":500,"rows_between":2000,"halvings":0,"cell_chars":16384,"cell_head_chars":4096},"cells_cut":0,"cells_raw":0,"read":"whole","date_system":"1900"}

{"sheet":"Background","index":0,"n_rows":25,"n_cols":1,"rows_kept":25,"cut":false,"hidden":false,"merged":[[13,0,15,0],[16,0,18,0],[19,0,21,0]]}
["UR ABCs: \nUsing Readiness, Attitudes, Behaviors, and Community data for Strategy Selection"]
[]
[]
["Overview"]
["UR ABCs was developed by Partners for Insightful Evaluation (PIE) through funding from the Nebraska Department of Health Human Services, Substance Abuse and Mental Health Services Administration, Substance Abuse Prevention & Treatment Block Grant. The purpose of this tool is to guide your coalition with selecting evidence-based strategies that align with your local needs. This is done by exploring community readiness, attitudes and behaviors related to substance use and other community data.\n"]
["Coverage Area"]
["This tool was developed for Omaha Collegiate Consoritum, which includes data from a variety of sources covering Douglas/Sarpy Counties. "]
[]
["Instructions on how to use UR ABCs"]
["Preparing for use of UR ABCs \nThe process of selecting your strategies is meant to involve coalition members; thus, this tool is designed to be used for a group to complete together. It is recommended that coalition members meet to work through UR ABCs. This Tool utilizes this Excel file as well as a corresponding PowerPoint file that includes a series of data figures. It is recommended that the PowerPoint file with the data figures be shared with coalition members prior to meeting, allowing time for individuals who wish to review information beforehand to do so. The PowerPoint file includes the questions that will be answered in this Excel file. "]
[]
["Opening the Tool\nThis Excel file includes macros that must be enabled in order for the tool to work properly. The first time you open this Excel file, there will be a yellow ribbon below the command ribbon that has a button to “Enable Content.” Then a pop-up window may appear that asks if you want to make this a trusted document. Select \"yes.\"  This will enable the codes embedded throughout the tool work correctly."]
[]
["\nUsing the Tool\nThroughout the tool - you will be filling in the cells that are light green.\n\nSteps 1 and 2. \nTo complete these steps, you will first review prevalence data for a variety of subtances (step 1). If you determine a substance is of concern based on prevalence, you will then review risk and protective factors to identify the specific concerns to address (step 2). \n\n  - Begin by reviewing Alcohol Figure 1 in the PowerPoint file and answer the corresponding questions in this Excel file's Prob_Alc       tab for Figure 1. To review the data, you will assess \n    differences between your local area and the state and differences over time (as data is available). To determine if these differences are statistically significant (where we are 95% confident\n    the difference is not due to chance), you will look for vertical dashed black lines      that indicate differences between local and state data points and black arrows pointing up or down \n    that indicate significant changes over time. For significant changes over time, additional information is also provided below the figure to explain which years are different from each other.   \n    Repeat this process for all of the Alcohol problem figures. NOTE: The axis changes slide to slide to allow the greatest display of differences, but be aware of this because it can be \n    misleading in interpretting differences that may appear larger than other figures. \n\n  - If you determine at least one of these figures indicates that Alcohol is a problem in your community, then you be directed to investigate the issue further and explore the Risk and \n    Protective Factors associated with Alcohol, and your community's readiness in this area. To do this, review the Alcohol Risk and Protective Factors in the PowerPoint file and answer the \n    corresponding questions in this Excel file's RPF_Alc      tab. If you did NOT datermine that Alcohol is a problem in your community, you do not need to review the Alcohol Risk and \n    Protective Factors figures in the PowerPoint file, and you can move on to the next substance.\n\n  - Next, repeat the process for the other substances: \n\nNOTE: The risk and protective factors you identify as concerns will be used to guide the recommended strategies. Thus, it is recommended that you be strategic in your selection of which risk and protective factors you identify as a concern. The fewer you select, the more targeted the list of recommended strategies will be. \n\n\nStep 3. \nNext you will provide a self-assessment of your community, which involves assessing your community's assets and gaps, readiness, and collaborations. You will provide this information in the                          tab. \n\n Step 3a: \n   - First you will identify assets and gaps. \n        - You will first do this by listing all existing strategies, programs, practices, and policies that address substance use and abuse \n          prevention in your area. Then, you will indicate if there are local data to show the strategy's effectiveness, if the strategy is an EBP, and if there is sufficient funding, \n          staffing, and resources to implement the strategy.\n        - You will also indicate if you have enough people, time, and funding/money to address the substances that you have identied as areas of concern.\n        - And you will identify any gaps in any of the areas you have identified as an area of concern in your community.\n\n Step 3b: \n   - Next you will assess your community's readiness by indicating how much you agree or disagree with six statements that are designed to assess readiness for each of the \n     substances you have identified as a concern in your community.\n\n Step 3c: \n   - Finally, you will indicate whether your collaborations with various agencies and organiztions are strong, weak, or neutral (or you don't know).\n\nThe information provided in the self-assessment will be scored using the following scoring criteria, which will be used for summarizing the information for Step 4"]
[]
[]
["        Community Assessment Scoring:\n        The answers you provide in Step 3 will be scored using the following criteria, which will be used for summarizingl the information for Step 4 to help in determining strategy fit.\n\n        Assets/Gaps:\n          - An overall score is calculated for each strategy/program/practice/policy listed in Step 3a, which is a sum of the answers to the three questions asked. Any answers that have \"agree\" \n            or \"yes\" are coded as positive numbers (\"strongly agree\"=2, \"agree\"=1\", \"yes\"=1), while any answers that have \"disagree\" or \"no\" are coded as negative numers (\"strongly \n            disagree\"=-2, \"disagree\"=-1, \"no\"=-1), and \"neutral or don't know\" responses are coded as 0. A strategy/program/practice/policy is considered an \"Asset\" if the calculated score is 3 or \n            higher, while it is considered a \"Gap\" if the score is -3 or lower.\n\n        Readiness:\n          - Readiness scores are determined based on an overall calculation of responses to the readiness questions in Step 3b. For each question, \"Strongly agree\"=2, \"Agree\"=1, \"Neutral or \n            don't know\"=0, \"Disagree\"=-1, and \"Strongly disagree\"=-2. For each substance, an overal score is calculated based on the sum of coded responses across the 6 questions, with       \n            scores ranging from -12 to 12. Readiness is considered \"high\" if the aggregated score is 6 or higher, \"medium\" if between 5 and -5, and \"low\" if -6 or lower.\n\n        Collaborations:\n          - Reports of weak collaborations are categorized as \"weak\", while reports of strong collaborations are categorized as \"strong.\" Those reported as \"Neutral or Don't know\" are not \n            categorized.\n\n"]
[]
[]
["Step 4.\nThe final step involves reviewing strategies and determining which are the best fit for your community. \n\n - When you open the                         tab, you will first see a summary of your community assessment. This is to provide you with the information you need to determine if a strategy is a \n   good fit for your community (e.g., a school-based curriculum may be a good fit for a community that has a strong collaboration with schools). \n\n - Below the summary of community information is a list of recommended evidence-based strategies. This list of strategies is based on your identified risk and protective factors of \n   concern. Each strategy can be explored further by clicking on the name of the strategy, which will take you to the row in the final                       tab about that specific strategy. The \n   information provided in this tab includes a brief description of the strategy and an external link to the strategy's website, as well as information about the strategy, such as the strategy and \n   intervention type, populations targeted by the strategy, logistics for implementing the strategy (# of sessions, frequency, setting, cost, preparation and follow-up time required, training \n   requirements), efficacy of the strategy, and a user review (when available). The specific risk and protective factors the strategy addresses are also marked in the final columns for each \n   strategy.\n\n - Using the Community Summary provided at the top of the page, first indicate in Column B if you feel your community has the resources, readiness, and \n   collaborations to implement each strategy. \n\n - After determining your community's ability to implement each strategy, indicate for each strategy in Column C if you will or will not include that strategy in your \n   workplan. \n\n - For any strategies selected, Column E will change from gray to light green, indicating that you will need to enter information in that cell. \n   In this cell you will enter the number you intend to reach (an estimate is fine). \n\n- If you would like to implement additional strategies beyond those suggested, you may enter those in the second table provided on this tab.\n\nNOTE: If the list of strategies is too long, you can repeat steps 1 and 2 to reduce the number of risk and protective factors identified as concerns (prioritizing which ones you feel are most concerning), which will then create a more targeted list of recommended strategies based on the prioritized concern areas. "]
[]
[]
["Voila…\n\nUpon completion of these steps, click anywhere on the                      tab and a logic model will update that illustrates the problems and intervening variables (risk and protective factors) you plan to address, the interventions you intend to implement and how many you intend you reach, and the outcomes you intend to change as a result (the risk and protective factors and problems identified).\n\n"]
[]
["Data Sources:\nFirst Year College Student Data: Year One College Behavior Profile (Y1CBP)\nCollege Student Data: Nebraska Assessment of College Health Behaviors Survey (NACHB)\nState and Local Young Adult (18-25 year olds) Data: Nebraska Young Adult Alcohol Opinion Survey (NYAAOS)\nState and Local Adult (19 and older) Data: Nebraska Annual Social Indicators Survey/Nebraska Community Alcohol Opinion Survey (NASIS/NCAOS)\n"]

{"sheet":"Prob_Alc","index":1,"n_rows":71,"n_cols":4,"rows_kept":71,"cut":false,"hidden":false,"merged":[[55,3,59,3],[53,0,53,3],[32,0,32,3],[52,0,52,1],[34,3,38,3],[4,0,4,3],[6,3,10,3],[13,3,17,3],[46,0,46,3],[39,0,39,3],[0,0,0,3],[11,0,11,3],[59,0,59,1],[45,0,45,1],[10,0,10,1],[24,0,24,1],[31,0,31,1],[17,0,17,1],[38,0,38,1],[18,0,18,3],[20,3,24,3],[27,3,31,3],[25,0,25,3],[41,3,45,3],[48,3,52,3],[3,0,3,3]]}
["UR ABCs: Omaha Collegiate Consortium (OCC)"]
["ALCOHOL: Problem Identification"]
[]
["Step 1: Alcohol Problem Identification"]
["Underage Drinking: Young Adults (19-20)"]
["Answer the following questions based on what you see in Figure 1.",null,null,"Notes"]
[1,"Are there any statistically significant differences (either over time or between your area and the statewide average)?"]
["1B","While not statistically significant, do you see a pattern that that is of concern?"]
[2,"Over time, how have things changed?"]
[3,"How does your area compare to the state average at the most recent time point? "]
["Based on your assessment of this data, is this a problem in your area? "]
["Binge Drinking: Young Adults (19-25)"]
["Answer the following questions based on what you see in Figure 2.",null,null,"Notes"]
[1,"Are there any statistically significant differences (either over time or between your area and the statewide average)?"]
["1B","While not statistically significant, do you see a pattern that is of concern?"]
[2,"Over time, how have things changed?"]
[3,"How does your area compare to the state average at the most recent time point? "]
["Based on your assessment of this data, is this a problem in your area? "]
["Drinking: First Year College Students"]
["Answer the following questions based on what you see in Figure 3.",null,null,"Notes"]
[1,"Are there any statistically significant differences (either over time or between your area and the statewide average)?"]
["1B","While not statistically significant, do you see a pattern that is of concern?"]
[2,"Over time, how have things changed?"]
[3,"How does your area compare to the state average at the most recent time point? "]
["Based on your assessment of this data, is this a problem in your area? "]
["Drinking: College Students"]
["Answer the following questions based on what you see in Figure 4.",null,null,"Notes"]
[1,"Are there any statistically significant differences (either over time or between your area and the statewide average)?"]
["1B","While not statistically significant, do you see a pattern that is of concern?"]
[2,"Over time, how have things changed?"]
[3,"How does your area compare to the state average at the most recent time point? "]
["Based on your assessment of this data, is this a problem in your area? "]
["INSERT TITLE HERE"]
["Answer the following questions based on what you see in Figure X.",null,null,"Notes"]
[1,"Are there any statistically significant differences between your area and the statewide average?"]
["1B","While not statistically significant, do you see a pattern that is of concern?"]
[2,"Over time, how have things changed?"]
[3,"How does your area compare to the state average at the most recent time point? "]
["Based on your assessment of this data, is this a problem in your area? "]
["Drinking & Driving: Young Adults (19-25)"]
["Answer the following questions based on what you see in Figure 4.",null,null,"Notes"]
[1,"Are there any statistically significant differences (either over time or between your area and the statewide average)?"]
["1B","While not statistically significant, do you see a pattern that is of concern?"]
[2,"Over time, how have things changed?"]
[3,"How does your area compare to the state average at the most recent time point? "]
["Based on your assessment of this data, is this a problem in your area? "]
["Drinking & Driving: College Students"]
["Answer the following questions based on what you see in Figure 5.",null,null,"Notes"]
[1,"Are there any statistically significant differences over time?"]
["1B","While not statistically significant, do you see a pattern that is of concern?"]
[2,"Over time, how have things changed?"]
[3,"How does your area compare to the state average at the most recent time point? "]
["Based on your assessment of this data, is this a problem in your area? "]
["INSERT TITLE HERE"]
["Answer the following questions based on what you see in Figure X.",null,null,"Notes"]
[1,"Are there any statistically significant differences (either over time or between your area and the statewide average)?"]
["1B","While not statistically significant, do you see a pattern that is of concern?"]
[2,"Over time, how have things changed?"]
[3,"How does your area compare to the state average at the most recent time point? "]
["Based on your assessment of this data, is this a problem in your area? "]
[]
["*hide these rows (they are used to populate the LM tab)"]
[1,{"$f":"A5","v":"Underage Drinking: Young Adults (19-20)"},{"$f":"IF(C11=\"YES\",1,0)","v":0}]
[2,{"$f":"A12","v":"Binge Drinking: Young Adults (19-25)"},{"$f":"IF(C18=\"YES\",1,0)","v":0}]
[3,{"$f":"A19","v":"Drinking: First Year College Students"},{"$f":"IF(C25=\"YES\",1,0)","v":0}]
[4,{"$f":"A26","v":"Drinking: College Students"},{"$f":"IF(C32=\"YES\",1,0)","v":0}]
[5,{"$f":"A33","v":"INSERT TITLE HERE"},{"$f":"IF(C39=\"YES\",1,0)","v":0}]
[6,{"$f":"A40","v":"Drinking & Driving: Young Adults (19-25)"},{"$f":"IF(C46=\"YES\",1,0)","v":0}]
[7,{"$f":"A47","v":"Drinking & Driving: College Students"},{"$f":"IF(C53=\"YES\",1,0)","v":0}]
[8,{"$f":"A54","v":"INSERT TITLE HERE"},{"$f":"IF(C60=\"YES\",1,0)","v":0}]
[null,null,{"$f":"SUM(C63:C70)","v":0}]

{"sheet":"Risk_Alc","index":2,"n_rows":294,"n_cols":11,"rows_kept":294,"cut":false,"hidden":true,"merged":[[0,0,0,3],[237,3,241,3],[244,3,248,3],[241,0,241,1],[227,0,227,1],[181,3,185,3],[74,0,74,3],[76,3,80,3],[80,0,80,1],[111,3,115,3],[115,0,115,1],[122,0,122,1],[123,0,123,3],[130,0,130,3],[144,0,144,3],[151,0,151,3],[171,0,171,1],[185,0,185,1],[164,0,164,1],[109,0,109,3],[165,0,165,3],[172,0,172,3],[174,3,178,3],[178,0,178,1],[1,0,1,3],[3,0,3,3],[4,0,4,3],[11,0,11,3],[18,0,18,3],[255,0,255,1],[158,0,158,3],[153,3,157,3],[125,3,129,3],[132,3,136,3],[146,3,150,3],[136,0,136,1],[129,0,129,1],[160,3,164,3],[248,0,248,1],[234,0,234,1],[251,3,255,3],[143,0,143,1],[157,0,157,1],[150,0,150,1],[221,0,221,3],[235,0,235,3],[242,0,242,3],[249,0,249,3],[90,3,94,3],[97,3,101,3],[60,0,60,3],[67,0,67,3],[6,3,10,3],[13,3,17,3],[20,3,24,3],[27,3,31,3],[34,3,38,3],[41,3,45,3],[48,3,52,3],[55,3,59,3],[62,3,66,3],[25,0,25,3],[32,0,32,3],[39,0,39,3],[46,0,46,3],[53,0,53,3],[213,0,213,1],[214,0,214,3],[104,3,108,3],[52,0,52,1],[87,0,87,1],[10,0,10,1],[59,0,59,1],[66,0,66,1],[31,0,31,1],[17,0,17,1],[24,0,24,1],[101,0,101,1],[38,0,38,1],[45,0,45,1],[73,0,73,1],[69,3,73,3],[81,0,81,3],[88,0,88,3],[95,0,95,3],[102,0,102,3],[94,0,94,1],[83,3,87,3],[207,0,207,3],[209,3,213,3],[216,3,220,3],[220,0,220,1],[139,3,143,3],[137,0,137,3],[138,0,138,2],[108,0,108,1],[179,0,179,3],[230,3,234,3],[229,0,229,2],[228,0,228,3],[116,0,116,3],[118,3,122,3],[117,0,117,2],[223,3,227,3],[167,3,171,3],[193,0,193,3],[195,3,199,3],[199,0,199,1],[186,0,186,3],[188,3,192,3],[192,0,192,1],[200,0,200,3],[202,3,206,3],[206,0,206,1]]}
[{"$f":"Prob_Alc!A1","v":"UR ABCs: Omaha Collegiate Consortium (OCC)"}]
["ALCOHOL: Risk Factors"]
[]
["Step 2: Alcohol Risk Factor Identification"]
["Perceived Risk of Harm:\n\n\nPerceived risk of harm: Youth"]
["Answer the following questions based on what you see in Figure 1.",null,null,"Notes"]
[1,"Are there any statistically significant differences over time?"]
["1B","While not statistically significant, do you see a pattern that is of concern?"]
[2,"Over time, how have things changed?"]
[3,"How does your area compare to the state average at the most recent time point? "]
["Based on your assessment of this data, is this a risk factor to address in your area? "]
["Perceived risk of harm: Young Adults (19-25)"]
["Answer the following questions based on what you see in Figure 1.",null,null,"Notes"]
[1,"Are there any statistically significant differences (either over time or between your area and the statewide average)?"]
["1B","While not statistically significant, do you see a pattern that is of concern?"]
[2,"Over time, how have things changed?"]
[3,"How does your area compare to the state average at the most recent time point? "]
["Based on your assessment of this data, is this a risk factor to address in your area? "]
["Perceived risk of harm: Adults"]
["Answer the following questions based on what you see in Figure 3.",null,null,"Notes"]
[1,"Are there any statistically significant differences (either over time or between your area and the statewide average)?"]
["1B","While not statistically significant, do you see a pattern that is of concern?"]
[2,"Over time, how have things changed?"]
[3,"How does your area compare to the state average at the most recent time point? "]
["Based on your assessment of this data, is this a risk factor to address in your area? "]
["Early initiation\n\n\n\nEarly initiation of drinking: Youth"]
["Answer the following questions based on what you see in Figure 4.",null,null,"Notes"]
[1,"Are there any statistically significant differences (either over time or between your area and the statewide average)?"]
["1B","While not statistically significant, do you see a pattern that is of concern?"]
[2,"Over time, how have things changed?"]
[3,"How does your area compare to the state average at the most recent time point? "]
["Based on your assessment of this data, is this a risk factor to address in your area? "]
["Attitudes Toward Drinking\n\n\n\nCollege student attitudes toward drinking"]
["Answer the following questions based on what you see in Figure 2.",null,null,"Notes"]
[1,"Are there any statistically significant differences over time?"]
["1B","While not statistically significant, do you see a pattern that is of concern?"]
[2,"Over time, how have things changed?"]
[3,"How does your area compare to the state average at the most recent time point? "]
["Based on your assessment of this data, is this a risk factor to address in your area? "]
["College student attitudes toward drinking"]
["Answer the following questions based on what you see in Figure 3.",null,null,"Notes"]
[1,"Are there any statistically significant differences (either over time or between your area and the statewide average)?",null,"~20% believe peers think getting drunk is ok"]
["1B","While not statistically significant, do you see a pattern that is of concern?"]
[2,"Over time, how have things changed?"]
[3,"How does your area compare to the state average at the most recent time point? "]
["Based on your assessment of this data, is this a risk factor to address in your area? "]
["Young adult attitudes toward underage drinking (18-20)"]
["Answer the following questions based on what you see in Figure 4.",null,null,"Notes"]
[1,"Are there any statistically significant differences (either over time or between your area and the statewide average)?"]
["1B","While not statistically significant, do you see a pattern that is of concern?"]
[2,"Over time, how have things changed?"]
[3,"How does your area compare to the state average at the most recent time point? "]
["Based on your assessment of this data, is this a risk factor to address in your area? "]
["Adult attitudes toward underage drinking (18-20)"]
["Answer the following questions based on what you see in Figure 5.",null,null,"Notes"]
[1,"Are there any statistically significant differences (either over time or between your area and the statewide average)?"]
["1B","While not statistically significant, do you see a pattern that is of concern?"]
[2,"Over time, how have things changed?"]
[3,"How does your area compare to the state average at the most recent time point? "]
["Based on your assessment of this data, is this a risk factor to address in your area? "]
["Adult attitudes toward underage binge drinking (under 18)"]
["Answer the following questions based on what you see in Figure 8a.",null,null,"Notes"]
[1,"Are there any statistically significant differences (either over time or between your area and the statewide average)?"]
["1B","While not statistically significant, do you see a pattern that is of concern?"]
[2,"Over time, how have things changed?"]
[3,"How does your area compare to the state average at the most recent time point? "]
["Based on your assessment of this data, is this a risk factor to address in your area? "]
["Adult attitudes toward underage binge drinking (18-20)"]
["Answer the following questions based on what you see in Figure 6.",null,null,"Notes"]
[1,"Are there any statistically significant differences (either over time or between your area and the statewide average)?"]
["1B","While not statistically significant, do you see a pattern that is of concern?"]
[2,"Over time, how have things changed?"]
[3,"How does your area compare to the state average at the most recent time point? "]
["Based on your assessment of this data, is this a risk factor to address in your area? "]
["Perceived acceptance of alcohol use among parents: Youth"]
["Answer the following questions based on what you see in Figure 9.",null,null,"Notes"]
[1,"Are there any statistically significant differences (either over time or between your area and the statewide average)?"]
["1B","While not statistically significant, do you see a pattern that is of concern?"]
[2,"Over time, how have things changed?"]
[3,"How does your area compare to the state average at the most recent time point? "]
["Based on your assessment of this data, is this a risk factor to address in your area? "]
["Peer Perceptions\n\n\n\nPerceived peer alcohol use: College students - drinks per occasion"]
["Answer the following questions based on what you see in Figure 7.",null,null,"Notes"]
[1,"Are there any statistically significant differences over time?"]
["1B","While not statistically significant, do you see a pattern that is of concern?"]
[2,"Is there a difference between perceptions and reports of use?"]
[3,"Over time, how have things changed?"]
["Based on your assessment of this data, is this a risk factor to address in your area? "]
["Perceived peer alcohol use: College students - drinks per week"]
["Answer the following questions based on what you see in Figure 8.",null,null,"Notes"]
[1,"Are there any statistically significant differences over time?"]
["1B","While not statistically significant, do you see a pattern that is of concern?"]
[2,"Is there a difference between perceptions and reports of use?"]
[3,"Over time, how have things changed?"]
["Based on your assessment of this data, is this a risk factor to address in your area? "]
["Perceived peer alcohol use: Young Adults (19-20)"]
["Answer the following questions based on what you see in Figure 9.",null,null,"Notes"]
[1,"Are there any statistically significant differences (either over time or between perceptions and reports of use)?"]
["1B","While not statistically significant, do you see a pattern that is of concern?"]
[2,"Is there a difference between perceptions and reports of use?"]
[3,"Over time, how have things changed?"]
["Based on your assessment of this data, is this a risk factor to address in your area? "]
["Access to Alcohol and Enforcement\n\n\n\nCollege students means of obtaining alcohol "]
["Answer the following questions based on what you see in Figure 10.",null,null,"Notes"]
[1,"Are there any statistically significant differences over time?"]
["1B","While not statistically significant, do you see a pattern that is of concern?"]
[2,"Over time, how have things changed?"]
[3,"How does your area compare to the state average at the most recent time point? "]
["Based on your assessment of this data, is this a risk factor to address for parents/caregivers providing? "]
["College students means of obtaining alcohol - friends providing"]
["Answer the following questions based on what you see in Figure 10.",null,null,"Notes"]
[1,"Are there any statistically significant differences over time?"]
["1B","While not statistically significant, do you see a pattern that is of concern?"]
[2,"Over time, how have things changed?"]
[3,"How does your area compare to the state average at the most recent time point? "]
["Based on your assessment of this data, is this a risk factor to address for friends providing? "]
["Social access of alcohol from parents: using fake IDs or where IDs are not checked"]
["Answer the following questions based on what you see in Figure 10.",null,null,"Notes"]
[1,"Are there any statistically significant differences (either over time or between your area and the statewide average)?"]
["1B","While not statistically significant, do you see a pattern that is of concern?"]
[2,"Over time, how have things changed?"]
[3,"How does your area compare to the state average at the most recent time point? "]
["Based on your assessment of this data, is this a risk factor to address for IDs (use of fake IDs or IDs not being checked)? "]
["Social access of alcohol from parents: Adults"]
["Answer the following questions based on what you see in Figure 11.",null,null,"Notes"]
[1,"Are there any statistically significant differences (either over time or between your area and the statewide average)?"]
["1B","While not statistically significant, do you see a pattern that is of concern?"]
[2,"Over time, how have things changed?"]
[3,"How does your area compare to the state average at the most recent time point? "]
["Based on your assessment of this data, is this a risk factor to address in your area? "]
["Social access of alcohol from peers: Youth"]
["Answer the following questions based on what you see in Figure 16.",null,null,"Notes"]
[1,"Are there any statistically significant differences over time?"]
["1B","While not statistically significant, do you see a pattern that is of concern?"]
[2,"Over time, how have things changed?"]
[3,"How does your area compare to the state average at the most recent time point? "]
["Based on your assessment of this data, is this a risk factor to address in your area? "]
["Social access of alcohol from peers: Young Adults"]
["Answer the following questions based on what you see in Figure X.",null,null,"Notes"]
[1,"Are there any statistically significant differences (either over time or between your area and the statewide average)?"]
["1B","While not statistically significant, do you see a pattern that is of concern?"]
[2,"Over time, how have things changed?"]
[3,"How does your area compare to the state average at the most recent time point? "]
["Based on your assessment of this data, is this a risk factor in your area? "]
["Attitudes toward providing alcohol to minors: Young Adults"]
["Answer the following questions based on what you see in Figure 12.",null,null,"Notes"]
[1,"Are there any statistically significant differences (either over time or between your area and the statewide average)?"]
["1B","While not statistically significant, do you see a pattern that is of concern?"]
[2,"Over time, how have things changed?"]
[3,"How does your area compare to the state average at the most recent time point? "]
["Based on your assessment of this data, is this a risk factor to address in your area? "]
["Attitudes toward providing alcohol to minors: Adults"]
["Answer the following questions based on what you see in Figure 13.",null,null,"Notes"]
[1,"Are there any statistically significant differences (either over time or between your area and the statewide average)?"]
["1B","While not statistically significant, do you see a pattern that is of concern?"]
[2,"Over time, how have things changed?"]
[3,"How does your area compare to the state average at the most recent time point? "]
["Based on your assessment of this data, is this a risk factor to address in your area? "]
["Retail Access: Youth"]
["Answer the following questions based on what you see in Figure 19.",null,null,"Notes"]
[1,"Are there any statistically significant differences over time?"]
["1B","While not statistically significant, do you see a pattern that is of concern?"]
[2,"Over time, how have things changed?"]
[3,"How does your area compare to the state average at the most recent time point? "]
["Based on your assessment of this data, is this a risk factor to address in your area? "]
["Retail Access: Young Adults"]
["Answer the following questions based on what you see in Figure 14a.",null,null,"Notes"]
[1,"Are there any statistically significant differences (either over time or between your area and the statewide average)?"]
["1B","While not statistically significant, do you see a pattern that is of concern?"]
[2,"Over time, how have things changed?"]
[3,"How does your area compare to the state average at the most recent time point? "]
["Based on your assessment of this data, is this a risk factor in your area? "]
["Retail Access: Young Adults"]
["Answer the following questions based on what you see in Figure 14b.",null,null,"Notes"]
[1,"Are there any statistically significant differences (either over time or between your area and the statewide average)?"]
["1B","While not statistically significant, do you see a pattern that is of concern?"]
[2,"Over time, how have things changed?"]
[3,"How does your area compare to the state average at the most recent time point? "]
["Based on your assessment of this data, is this a risk factor in your area? "]
["Law enforcement practices - arrested for DUI: Young Adults"]
["Answer the following questions based on what you see in Figure 15.",null,null,"Notes"]
[1,"Are there any statistically significant differences (either over time or between your area and the statewide average)?"]
["1B","While not statistically significant, do you see a pattern that is of concern?"]
[2,"Over time, how have things changed?"]
[3,"How does your area compare to the state average at the most recent time point? "]
["Based on your assessment of this data, is this a risk factor in your area? "]
["Law enforcement practices - arrested for providing to minors: Young Adults"]
["Answer the following questions based on what you see in Figure 16.",null,null,"Notes"]
[1,"Are there any statistically significant differences (either over time or between your area and the statewide average)?"]
["1B","While not statistically significant, do you see a pattern that is of concern?"]
[2,"Over time, how have things changed?"]
[3,"How does your area compare to the state average at the most recent time point? "]
["Based on your assessment of this data, is this a risk factor in your area? "]
["Law enforcement practices - police break up parties: Young Adults"]
["Answer the following questions based on what you see in Figure 17.",null,null,"Notes"]
[1,"Are there any statistically significant differences (either over time or between your area and the statewide average)?"]
["1B","While not statistically significant, do you see a pattern that is of concern?"]
[2,"Over time, how have things changed?"]
[3,"How does your area compare to the state average at the most recent time point? "]
["Based on your assessment of this data, is this a risk factor in your area? "]
["Campus concern: College Students"]
["Answer the following questions based on what you see in Figure 18.",null,null,"Notes"]
[1,"Are there any statistically significant differences between groups?"]
["1B","While not statistically significant, do you see a pattern that is of concern?"]
[2,"Over time, how have things changed?"]
[3,"How does your area compare to the state average at the most recent time point? "]
["Based on your assessment of this data, is this a risk factor for concern about alcohol and drug abuse? "]
["Campus alcohol policies enforcement: College Students"]
["Answer the following questions based on what you see in Figure 18.",null,null,"Notes"]
[1,"Are there any statistically significant differences between groups?"]
["1B","While not statistically significant, do you see a pattern that is of concern?"]
[2,"Over time, how have things changed?"]
[3,"How does your area compare to the state average at the most recent time point? "]
["Based on your assessment of this data, is this a risk factor for on campus enforcement? "]
["Off campus alcohol policies enforcement: College Students"]
["Answer the following questions based on what you see in Figure 19.",null,null,"Notes"]
[1,"Are there any statistically significant differences between groups?"]
["1B","While not statistically significant, do you see a pattern that is of concern?"]
[2,"Over time, how have things changed?"]
[3,"How does your area compare to the state average at the most recent time point? "]
["Based on your assessment of this data, is this a risk factor for off campus enforcement? "]
["Prevention message exposure\n\n\n\nPrevention message exposure: Youth"]
["Answer the following questions based on what you see in Figure 24.",null,null,"Notes"]
[1,"Are there any statistically significant differences over time?"]
["1B","While not statistically significant, do you see a pattern that is of concern?"]
[2,"Over time, how have things changed?"]
[3,"How does your area compare to the state average at the most recent time point? "]
["Based on your assessment of this data, is this a risk factor to address in your area? "]
["Prevention message exposure: Young Adults"]
["Answer the following questions based on what you see in Figure X.",null,null,"Notes"]
[1,"Are there any statistically significant differences (either over time or between your area and the statewide average)?"]
["1B","While not statistically significant, do you see a pattern that is of concern?"]
[2,"Over time, how have things changed?"]
[3,"How does your area compare to the state average at the most recent time point? "]
["Based on your assessment of this data, is this a risk factor in your area? "]
["Prevention message exposure: Adults"]
["Answer the following questions based on what you see in Figure 20.",null,null,"Notes"]
[1,"Are there any statistically significant differences (either over time or between your area and the statewide average)?"]
["1B","While not statistically significant, do you see a pattern that is of concern?"]
[2,"Over time, how have things changed?"]
[3,"How does your area compare to the state average at the most recent time point? "]
["Based on your assessment of this data, is this a risk factor to address in your area? "]
["Parent Communication\n\n\n\nParent Communication about alcohol use: Youth"]
["Answer the following questions based on what you see in Figure 26.",null,null,"Notes"]
[1,"Are there any statistically significant differences (either over time or between your area and the statewide average)?"]
["1B","While not statistically significant, do you see a pattern that is of concern?"]
[2,"Over time, how have things changed?"]
[3,"How does your area compare to the state average at the most recent time point? "]
["Based on your assessment of this data, is this a risk factor to address in your area? "]
["Parent Communication about alcohol use: Adults"]
["Answer the following questions based on what you see in Figure 21.",null,null,"Notes"]
[1,"Are there any statistically significant differences (either over time or between your area and the statewide average)?"]
["1B","While not statistically significant, do you see a pattern that is of concern?"]
[2,"Over time, how have things changed?"]
[3,"How does your area compare to the state average at the most recent time point? "]
["Based on your assessment of this data, is this a risk factor to address in your area? "]
[]
["*hide these rows (they are used to populate the LM tab)",null,null,"Connect to Strategy Selection","Match with EBP column","Name for Strategy Selection",null,null,"Column Match on EBP Matrix"]
[1,{"$f":"A5","v":"Perceived Risk of Harm:\n\n\nPerceived risk of harm: Youth"},{"$f":"IF(C11=\"YES\",1,0)","v":0},null,"X","Perceived risk of harm",null,"Low perceived risk of harm (think using substances does not present a risk)","X",{"$f":"D261","v":0},"Perceived risk of harm, alcohol"]
[2,{"$f":"A12","v":"Perceived risk of harm: Young Adults (19-25)"},{"$f":"IF(C18=\"YES\",1,0)","v":0},null,"X","Perceived risk of harm",null,"Parent Communication about substance use (talking to youth about substances)","Y",{"$f":"D294","v":0},"Parent communication, alcohol"]
[3,{"$f":"A19","v":"Perceived risk of harm: Adults"},{"$f":"IF(C25=\"YES\",1,0)","v":0},{"$f":"IF(OR(C259=1,C260=1,C261=1),1,0)","v":0},"X","Perceived risk of harm",null,"Early initiation of substance use (began using at early age)","Z",{"$f":"D262","v":0},"Early initiation, alcohol"]
[4,{"$f":"A26","v":"Early initiation\n\n\n\nEarly initiation of drinking: Youth"},{"$f":"IF(C32=\"YES\",1,0)","v":0},{"$f":"C262","v":0},"Z","Early initiation",null,"Favorable adult attitudes toward youth substance use (parents/adults feel it is okay for youth to use substances)","AA",{"$f":"D269","v":0},"Adult attitudes, alcohol"]
[5,{"$f":"A33","v":"Attitudes Toward Drinking\n\n\n\nCollege student attitudes toward drinking"},{"$f":"IF(C39=\"YES\",1,0)","v":0},{"$f":"C263","v":0},"AB","Young adult attitudes toward underage drinking",null,"Favorable young adult attitudes toward substance use (18-25 year olds think it is okay for people their age to use substances)","AB",{"$f":"D265","v":0},"Young adult attitudes, alcohol"]
[6,{"$f":"A40","v":"College student attitudes toward drinking"},{"$f":"IF(C46=\"YES\",1,0)","v":0},{"$f":"C264","v":0},"AB","Young adult attitudes toward underage drinking",null,"Favorable youth attitudes toward substance use (youth under 19 think it is okay to use substances)","AC",null,"Youth attitudes, alcohol"]
[7,{"$f":"A47","v":"Young adult attitudes toward underage drinking (18-20)"},{"$f":"IF(C53=\"YES\",1,0)","v":0},{"$f":"IF(OR(C263=1,C264=1,C265=1),1,0)","v":0},"AB","Young adult attitudes toward underage drinking",null,"Perceived acceptance of substance use among peers (youth believe their peers think using substances is acceptable)","AD",{"$f":"D287","v":0},"Perceived acceptance, alcohol"]
[8,{"$f":"A54","v":"Adult attitudes toward underage drinking (18-20)"},{"$f":"IF(C60=\"YES\",1,0)","v":0},null,"AA","Adult attitudes toward underage drinking",null,"Overall availability of substances (ease of accessing substances)","AE",null,"Availability/ease of access, alcohol"]
[9,{"$f":"A61","v":"Adult attitudes toward underage binge drinking (under 18)"},{"$f":"IF(C67=\"YES\",1,0)","v":0},null,"AA","Adult attitudes toward underage drinking",null,"Social acces - parents providing alcohol to minors","AF",{"$f":"D276","v":0},"Social access of alcohol from parents"]
[10,{"$f":"A68","v":"Adult attitudes toward underage binge drinking (18-20)"},{"$f":"IF(C74=\"YES\",1,0)","v":0},null,"AA","Adult attitudes toward underage drinking",null,"Social acces - peers providing alcohol to minors","AG",{"$f":"D278","v":0},"Social access of alcohol from peers"]
[11,{"$f":"A75","v":"Perceived acceptance of alcohol use among parents: Youth"},{"$f":"IF(C81=\"YES\",1,0)","v":0},{"$f":"IF(OR(C266=1,C267=1,C268=1,C269=1),1,0)","v":0},"AA","Adult attitudes toward underage drinking",null,"Social access - favorable attitudes toward adults providing alcohol (think it is okay for those 21+ to provide alcohol to minors)","AH",{"$f":"D280","v":0},"Social access - Attitudes toward providing alcohol to minors"]
[12,{"$f":"A82","v":"Peer Perceptions\n\n\n\nPerceived peer alcohol use: College students - drinks per occasion"},{"$f":"IF(C88=\"YES\",1,0)","v":0},null,"AD","Alcohol use among peers",null,"Retail Access (stores/bars provide easy access to alcohol)","AI",{"$f":"D283","v":0},"Retail access, alcohol"]
[13,{"$f":"A89","v":"Perceived peer alcohol use: College students - drinks per week"},{"$f":"IF(C95=\"YES\",1,0)","v":0},null,"AD","Alcohol use among peers",null,"Law enforcement practices (law enforcement does not enforce illegal substance use behaviors)","AJ",{"$f":"D289","v":0},"Law enforcement practices, alcohol"]
[14,{"$f":"A96","v":"Perceived peer alcohol use: Young Adults (19-20)"},{"$f":"IF(C102=\"YES\",1,0)","v":0},null,"AD","Alcohol use among peers",null,"Prevention messaging exposure","AK",{"$f":"D292","v":0},"Prevention message exposure, alcohol"]
[15,{"$f":"A103","v":"Access to Alcohol and Enforcement\n\n\n\nCollege students means of obtaining alcohol "},{"$f":"IF(C109=\"YES\",1,0)","v":0},null,"AF","Social access of alcohol from parents"]
[16,{"$f":"A110","v":"College students means of obtaining alcohol - friends providing"},{"$f":"IF(C116=\"YES\",1,0)","v":0},null,"AG","Social access of alcohol from peers"]
[17,{"$f":"A117","v":"Social access of alcohol from parents: using fake IDs or where IDs are not checked"},{"$f":"IF(C123=\"YES\",1,0)","v":0},null,"AI","Retail access"]
[18,{"$f":"A124","v":"Social access of alcohol from parents: Adults"},{"$f":"IF(C130=\"YES\",1,0)","v":0},{"$f":"IF(OR(C273=1,C276=-1),1,0)","v":0},"AF","Social access of alcohol from parents"]
[19,{"$f":"A131","v":"Social access of alcohol from peers: Youth"},{"$f":"IF(C137=\"YES\",1,0)","v":0},null,"AG","Social access of alcohol from peers"]
[20,{"$f":"A138","v":"Social access of alcohol from peers: Young Adults"},{"$f":"IF(C144=\"YES\",1,0)","v":0},{"$f":"IF(OR(C274,C277=1,C278=1),1,0)","v":0},"AG","Social access of alcohol from peers"]
[21,{"$f":"A145","v":"Attitudes toward providing alcohol to minors: Young Adults"},{"$f":"IF(C151=\"YES\",1,0)","v":0},null,"AH","Attitudes toward providing alcohol to minors"]
[22,{"$f":"A152","v":"Attitudes toward providing alcohol to minors: Adults"},{"$f":"IF(C158=\"YES\",1,0)","v":0},{"$f":"IF(OR(C279=1,C280=1),1,0)","v":0},"AH","Attitudes toward providing alcohol to minors"]
[23,{"$f":"A159","v":"Retail Access: Youth"},{"$f":"IF(C165=\"YES\",1,0)","v":0},null,"AI","Retail access"]
[24,{"$f":"A166","v":"Retail Access: Young Adults"},{"$f":"IF(C172=\"YES\",1,0)","v":0},null,"AI","Retail access"]
[25,{"$f":"A173","v":"Retail Access: Young Adults"},{"$f":"IF(C179=\"YES\",1,0)","v":0},{"$f":"IF(OR(C275,C281=1,C282=1,C283),1,0)","v":0},"AI","Retail access"]
[27,{"$f":"A180","v":"Law enforcement practices - arrested for DUI: Young Adults"},{"$f":"IF(C186=\"YES\",1,0)","v":0},null,"AJ","Law enforcement practices"]
[28,{"$f":"A187","v":"Law enforcement practices - arrested for providing to minors: Young Adults"},{"$f":"IF(C193=\"YES\",1,0)","v":0},null,"AJ","Law enforcement practices"]
[29,{"$f":"A194","v":"Law enforcement practices - police break up parties: Young Adults"},{"$f":"IF(C200=\"YES\",1,0)","v":0},null,"AJ","Law enforcement practices"]
[30,{"$f":"A201","v":"Campus concern: College Students"},{"$f":"IF(C207=\"YES\",1,0)","v":0},{"$f":"IF(OR(C270=1,C271=1,C272=1,C287=1),1,0)","v":0},"AD","Alcohol use among peers"]
[31,{"$f":"A208","v":"Campus alcohol policies enforcement: College Students"},{"$f":"IF(C214=\"YES\",1,0)","v":0},null,"AJ","Law enforcement practices"]
[32,{"$f":"A215","v":"Off campus alcohol policies enforcement: College Students"},{"$f":"IF(C221=\"YES\",1,0)","v":0},{"$f":"IF(OR(C284=1,C285=1,C286=1,C288=1,C289),1,0)","v":0},"AJ","Law enforcement practices"]
[33,{"$f":"A222","v":"Prevention message exposure\n\n\n\nPrevention message exposure: Youth"},{"$f":"IF(C228=\"YES\",1,0)","v":0},null,"AK","Prevention message exposure"]
[34,{"$f":"A229","v":"Prevention message exposure: Young Adults"},{"$f":"IF(C235=\"YES\",1,0)","v":0},null,"AK","Prevention message exposure"]
[35,{"$f":"A236","v":"Prevention message exposure: Adults"},{"$f":"IF(C242=\"YES\",1,0)","v":0},{"$f":"IF(OR(C290=1,C291=1,C292=1),1,0)","v":0},"AK","Prevention message exposure"]
[36,{"$f":"A243","v":"Parent Communication\n\n\n\nParent Communication about alcohol use: Youth"},{"$f":"IF(C249=\"YES\",1,0)","v":0},null,"Y","Parent communication "]
[37,{"$f":"A250","v":"Parent Communication about alcohol use: Adults"},{"$f":"IF(C256=\"YES\",1,0)","v":0},{"$f":"IF(OR(C293=1,C294=1),1,0)","v":0},"Y","Parent communication "]

{"sheet":"Prob_Marj","index":3,"n_rows":71,"n_cols":4,"rows_kept":71,"cut":false,"hidden":false,"merged":[[0,0,0,3],[6,3,10,3],[13,3,17,3],[20,3,24,3],[27,3,31,3],[3,0,3,3],[4,0,4,3],[11,0,11,3],[18,0,18,3],[25,0,25,3],[5,0,5,2],[12,0,12,2],[19,0,19,2],[26,0,26,2],[10,0,10,1],[17,0,17,1],[24,0,24,1],[31,0,31,1],[33,0,33,2],[32,0,32,3],[48,3,52,3],[53,0,53,3],[54,0,54,2],[55,3,59,3],[38,0,38,1],[45,0,45,1],[52,0,52,1],[59,0,59,1],[34,3,38,3],[39,0,39,3],[40,0,40,2],[41,3,45,3],[46,0,46,3],[47,0,47,2]]}
[{"$f":"Prob_Alc!A1","v":"UR ABCs: Omaha Collegiate Consortium (OCC)"}]
["MARIJUANA: Problem Identification"]
[]
["Step 1: Marijuana Problem Identification"]
["Marijuana Use: Young Adults (19-25)"]
["Answer the following questions based on what you see in Figure 1.",null,null,"Notes"]
[1,"Are there any statistically significant differences (either over time or between your area and the statewide average)?"]
["1B","While not statistically significant, do you see a pattern that that is of concern?"]
[2,"Over time, how have things changed?"]
[3,"How does your area compare to the state average at the most recent time point? "]
["Based on your assessment of this data, is this a problem in your area? "]
["Marijuana Use: First Year College Students"]
["Answer the following questions based on what you see in Figure 2.",null,null,"Notes"]
[1,"Are there any statistically significant differences (either over time or between your area and the statewide average)?"]
["1B","While not statistically significant, do you see a pattern that is of concern?"]
[2,"Over time, how have things changed?"]
[3,"How does your area compare to the state average at the most recent time point? "]
["Based on your assessment of this data, is this a problem in your area? "]
["Marijuana Use: College Students"]
["Answer the following questions based on what you see in Figure 3.",null,null,"Notes"]
[1,"Are there any statistically significant differences (either over time or between your area and the statewide average)?"]
["1B","While not statistically significant, do you see a pattern that is of concern?"]
[2,"Over time, how have things changed?"]
[3,"How does your area compare to the state average at the most recent time point? "]
["Based on your assessment of this data, is this a problem in your area? "]
["Marijuana & Driving: Young Adults (19-25)"]
["Answer the following questions based on what you see in Figure 4.",null,null,"Notes"]
[1,"Are there any statistically significant differences (either over time or between your area and the statewide average)?"]
["1B","While not statistically significant, do you see a pattern that is of concern?"]
[2,"Over time, how have things changed?"]
[3,"How does your area compare to the state average at the most recent time point? "]
["Based on your assessment of this data, is this a problem in your area? "]
["Marijuana & Driving: First Year College Students"]
["Answer the following questions based on what you see in Figure 5.",null,null,"Notes"]
[1,"Are there any statistically significant differences (either over time or between your area and the statewide average)?"]
["1B","While not statistically significant, do you see a pattern that is of concern?"]
[2,"Over time, how have things changed?"]
[3,"How does your area compare to the state average at the most recent time point? "]
["Based on your assessment of this data, is this a problem in your area? "]
["Marijuana & Driving: College Students"]
["Answer the following questions based on what you see in Figure 6.",null,null,"Notes"]
[1,"Are there any statistically significant differences (either over time or between your area and the statewide average)?"]
["1B","While not statistically significant, do you see a pattern that is of concern?"]
[2,"Over time, how have things changed?"]
[3,"How does your area compare to the state average at the most recent time point? "]
["Based on your assessment of this data, is this a problem in your area? "]
["[insert topic/title of figure]"]
["Answer the following questions based on what you see in Figure X.",null,null,"Notes"]
[1,"Are there any statistically significant differences (either over time or between your area and the statewide average)?"]
["1B","While not statistically significant, do you see a pattern that is of concern?"]
[2,"Over time, how have things changed?"]
[3,"How does your area compare to the state average at the most recent time point? "]
["Based on your assessment of this data, is this a problem in your area? "]
["[insert topic/title of figure]"]
["Answer the following questions based on what you see in Figure X.",null,null,"Notes"]
[1,"Are there any statistically significant differences (either over time or between your area and the statewide average)?"]
["1B","While not statistically significant, do you see a pattern that is of concern?"]
[2,"Over time, how have things changed?"]
[3,"How does your area compare to the state average at the most recent time point? "]
["Based on your assessment of this data, is this a problem in your area? "]
[]
["*hide these rows (they are used to populate the LM tab)"]
[1,{"$f":"A5","v":"Marijuana Use: Young Adults (19-25)"},{"$f":"IF(C11=\"YES\",1,0)","v":0}]
[2,{"$f":"A12","v":"Marijuana Use: First Year College Students"},{"$f":"IF(C18=\"YES\",1,0)","v":0}]
[3,{"$f":"A19","v":"Marijuana Use: College Students"},{"$f":"IF(C25=\"YES\",1,0)","v":0}]
[4,{"$f":"A26","v":"Marijuana & Driving: Young Adults (19-25)"},{"$f":"IF(C32=\"YES\",1,0)","v":0}]
[5,{"$f":"A33","v":"Marijuana & Driving: First Year College Students"},{"$f":"IF(C39=\"YES\",1,0)","v":0}]
[6,{"$f":"A40","v":"Marijuana & Driving: College Students"},{"$f":"IF(C46=\"YES\",1,0)","v":0}]
[7,{"$f":"A47","v":"[insert topic/title of figure]"},{"$f":"IF(C53=\"YES\",1,0)","v":0}]
[8,{"$f":"A54","v":"[insert topic/title of figure]"},{"$f":"IF(C60=\"YES\",1,0)","v":0}]
[null,null,{"$f":"SUM(C63:C70)","v":0}]

{"sheet":"Risk_Marj","index":4,"n_rows":253,"n_cols":11,"rows_kept":253,"cut":false,"hidden":true,"merged":[[0,0,0,3],[109,0,109,3],[110,0,110,2],[111,3,115,3],[115,0,115,1],[61,0,61,2],[74,0,74,3],[62,3,66,3],[76,3,80,3],[104,3,108,3],[87,0,87,1],[94,0,94,1],[17,0,17,1],[18,0,18,2],[24,0,24,1],[31,0,31,1],[11,0,11,3],[3,0,3,3],[12,0,12,2],[13,3,17,3],[27,3,31,3],[25,0,25,3],[26,0,26,2],[6,3,10,3],[214,0,214,3],[215,0,215,2],[216,3,220,3],[220,0,220,1],[82,0,82,2],[83,3,87,3],[90,3,94,3],[207,0,207,3],[208,0,208,2],[209,3,213,3],[213,0,213,1],[143,0,143,1],[144,0,144,2],[150,0,150,1],[118,3,122,3],[188,3,192,3],[171,0,171,1],[136,0,136,1],[137,0,137,2],[129,0,129,1],[157,0,157,1],[158,0,158,2],[164,0,164,1],[97,3,101,3],[202,3,206,3],[200,0,200,3],[186,0,186,3],[201,0,201,2],[165,0,165,2],[199,0,199,1],[206,0,206,1],[172,0,172,2],[178,0,178,1],[179,0,179,2],[185,0,185,1],[192,0,192,1],[193,0,193,2],[187,0,187,2],[10,0,10,1],[4,0,4,3],[5,0,5,1],[151,0,151,2],[75,0,75,2],[116,0,116,3],[102,0,102,3],[103,0,103,2],[117,0,117,2],[108,0,108,1],[122,0,122,1],[80,0,80,1],[101,0,101,1],[81,0,81,3],[88,0,88,3],[89,0,89,2],[95,0,95,3],[96,0,96,2],[124,0,124,2],[131,0,131,2],[125,3,129,3],[132,3,136,3],[123,0,123,3],[130,0,130,3],[32,0,32,3],[39,0,39,3],[33,0,33,2],[40,0,40,2],[69,3,73,3],[67,0,67,3],[60,0,60,3],[68,0,68,2],[38,0,38,1],[45,0,45,1],[52,0,52,1],[46,0,46,3],[59,0,59,1],[66,0,66,1],[73,0,73,1],[48,3,52,3],[53,0,53,3],[54,0,54,2],[55,3,59,3],[34,3,38,3],[41,3,45,3],[47,0,47,2]]}
[{"$f":"Prob_Alc!A1","v":"UR ABCs: Omaha Collegiate Consortium (OCC)"}]
["MARIJUANA: Risk & Protective Factors"]
[]
["Step 2: Marijuana Risk Factor Identification"]
["Early Initiation\n\n\n\nEarly initiation of use: Youth"]
["Answer the following questions based on what you see in Figure 1.",null,null,"Notes"]
[1,"Are there any statistically significant differences (either over time or between your area and the statewide average)?"]
["1B","While not statistically significant, do you see a pattern that is of concern?"]
[2,"Over time, how have things changed?"]
[3,"How does your area compare to the state average at the most recent time point? "]
["Based on your assessment of this data, is this a risk factor in your area? "]
["Perceived Risk of Harm\n\n\n\nLow perceived risk of harm: Youth"]
["Answer the following questions based on what you see in Figure 2.",null,null,"Notes"]
[1,"Are there any statistically significant differences over time?"]
["1B","While not statistically significant, do you see a pattern that is of concern?"]
[2,"Over time, how have things changed?"]
[3,"How does your area compare to the state average at the most recent time point? "]
["Based on your assessment of this data, is this a risk factor to address in your area? "]
["Low perceived risk of harm: Young Adults"]
["Answer the following questions based on what you see in Figure X."]
[1,"Are there any statistically significant differences (either over time or between your area and the statewide average)?"]
["1B","While not statistically significant, do you see a pattern that is of concern?"]
[2,"Over time, how have things changed?"]
[3,"How does your area compare to the state average at the most recent time point? "]
["Based on your assessment of this data, is this a risk factor in your area? "]
["Low perceived risk of harm: Adults"]
["Answer the following questions based on what you see in Figure 1.",null,null,"Notes"]
[1,"Are there any statistically significant differences (either over time or between your area and the statewide average)?"]
["1B","While not statistically significant, do you see a pattern that is of concern?"]
[2,"Over time, how have things changed?"]
[3,"How does your area compare to the state average at the most recent time point? "]
["Based on your assessment of this data, is this a risk factor to address in your area? "]
["Parent Communication about Marijuana use: Youth"]
["Answer the following questions based on what you see in Figure X.",null,null,"Notes"]
[1,"Are there any statistically significant differences (either over time or between your area and the statewide average)?"]
["1B","While not statistically significant, do you see a pattern that is of concern?"]
[2,"Over time, how have things changed?"]
[3,"How does your area compare to the state average at the most recent time point? "]
["Based on your assessment of this data, is this a risk factor in your area? "]
["Parent Communication about Marijuana use: Adults"]
["Answer the following questions based on what you see in Figure X.",null,null,"Notes"]
[1,"Are there any statistically significant differences (either over time or between your area and the statewide average)?"]
["1B","While not statistically significant, do you see a pattern that is of concern?"]
[2,"Over time, how have things changed?"]
[3,"How does your area compare to the state average at the most recent time point? "]
["Based on your assessment of this data, is this a risk factor in your area? "]
["Attitudes Toward Marijuana Use\n\n\n\nYouth attitudes toward marijuana use"]
["Answer the following questions based on what you see in Figure 4.",null,null,"Notes"]
[1,"Are there any statistically significant differences over time?"]
["1B","While not statistically significant, do you see a pattern that is of concern?"]
[2,"Over time, how have things changed?"]
[3,"How does your area compare to the state average at the most recent time point? "]
["Based on your assessment of this data, is this a risk factor to address in your area? "]
["Young adult attitudes toward marijuana use"]
["Answer the following questions based on what you see in Figure X.",null,null,"Notes"]
[1,"Are there any statistically significant differences (either over time or between your area and the statewide average)?"]
["1B","While not statistically significant, do you see a pattern that is of concern?"]
[2,"Over time, how have things changed?"]
[3,"How does your area compare to the state average at the most recent time point? "]
["Based on your assessment of this data, is this a risk factor in your area? "]
["Adult attitudes toward marijuana use (under 18)"]
["Answer the following questions based on what you see in Figure 5a.",null,null,"Notes"]
[1,"Are there any statistically significant differences (either over time or between your area and the statewide average)?"]
["1B","While not statistically significant, do you see a pattern that is of concern?"]
[2,"Over time, how have things changed?"]
[3,"How does your area compare to the state average at the most recent time point? "]
["Based on your assessment of this data, is this a risk factor to address in your area? "]
["Adult attitudes toward marijuana use (18-20)"]
["Answer the following questions based on what you see in Figure 2a.",null,null,"Notes"]
[1,"Are there any statistically significant differences (either over time or between your area and the statewide average)?"]
["1B","While not statistically significant, do you see a pattern that is of concern?"]
[2,"Over time, how have things changed?"]
[3,"How does your area compare to the state average at the most recent time point? "]
["Based on your assessment of this data, is this a risk factor to address in your area? "]
["Adult attitudes toward marijuana (adults 21+)"]
["Answer the following questions based on what you see in Figure 2b.",null,null,"Notes"]
[1,"Are there any statistically significant differences (either over time or between your area and the statewide average)?"]
["1B","While not statistically significant, do you see a pattern that is of concern?"]
[2,"Over time, how have things changed?"]
[3,"How does your area compare to the state average at the most recent time point? "]
["Based on your assessment of this data, is this a risk factor to address in your area? "]
["Perceived acceptance of marijuana use among parents: Youth"]
["Answer the following questions based on what you see in Figure 6.",null,null,"Notes"]
[1,"Are there any statistically significant differences over time?"]
["1B","While not statistically significant, do you see a pattern that is of concern?"]
[2,"Over time, how have things changed?"]
[3,"How does your area compare to the state average at the most recent time point? "]
["Based on your assessment of this data, is this a risk factor to address in your area? "]
["Peer Perceptions\n\n\n\nPerceived acceptance of Marijuana use among peers: Youth"]
["Answer the following questions based on what you see in Figure 7.",null,null,"Notes"]
[1,"Are there any statistically significant differences over time?"]
["1B","While not statistically significant, do you see a pattern that is of concern?"]
[2,"Over time, how have things changed?"]
[3,"How does your area compare to the state average at the most recent time point? "]
["Based on your assessment of this data, is this a risk factor to address in your area? "]
["Perceived peer Marijuana use: Young Adults"]
["Answer the following questions based on what you see in Figure 3.",null,null,"Notes"]
[1,"Are there any statistically significant differences (either over time or between perceptions and reports of use)?"]
["1B","While not statistically significant, do you see a pattern that is of concern?"]
[2,"Is there a difference between perceptions and reports of use?"]
[3,"Over time, how have things changed?"]
["Based on your assessment of this data, is this a risk factor to address in your area? "]
["Perceived peer Marijuana use: First Year College Students"]
["Answer the following questions based on what you see in Figure 4.",null,null,"Notes"]
[1,"Are there any statistically significant differences (either over time or between your area and the statewide average)?"]
["1B","While not statistically significant, do you see a pattern that is of concern?"]
[2,"Is there a difference between perceptions and reports of use?"]
[3,"How does your area compare to the state average at the most recent time point? "]
["Based on your assessment of this data, is this a risk factor to address for first year college students? "]
["Perceived peer Marijuana use: College Students"]
["Answer the following questions based on what you see in Figure 5.",null,null,"Notes"]
[1,"Are there any statistically significant differences (either over time or between your area and the statewide average)?"]
["1B","While not statistically significant, do you see a pattern that is of concern?"]
[2,"Is there a difference between perceptions and reports of use?"]
[3,"How does your area compare to the state average at the most recent time point? "]
["Based on your assessment of this data, is this a risk factor to address for college students? "]
["Access to Marijuana\n\n\n\nLocation of college students using marijuana"]
["Answer the following questions based on what you see in Figure 6.",null,null,"Notes"]
[1,"Are there any statistically significant differences over time?"]
["1B","While not statistically significant, do you see a pattern that is of concern?"]
[2,"Over time, how have things changed?"]
[3,"How does your area compare to the state average at the most recent time point? "]
["Based on your assessment of this data, is this a risk factor to address for use at social gatherings or parties? "]
["Location of college students using marijuana - in a car"]
["Answer the following questions based on what you see in Figure 6.",null,null,"Notes"]
[1,"Are there any statistically significant differences (either over time or between your area and the statewide average)?"]
["1B","While not statistically significant, do you see a pattern that is of concern?"]
[2,"Over time, how have things changed?"]
[3,"How does your area compare to the state average at the most recent time point? "]
["Based on your assessment of this data, is this a risk factor for use in a car? "]
["Location of college students using marijuana - residence halls"]
["Answer the following questions based on what you see in Figure 6.",null,null,"Notes"]
[1,"Are there any statistically significant differences (either over time or between your area and the statewide average)?"]
["1B","While not statistically significant, do you see a pattern that is of concern?"]
[2,"Over time, how have things changed?"]
[3,"How does your area compare to the state average at the most recent time point? "]
["Based on your assessment of this data, is this a risk factor for use in a residence hall? "]
["[Insert title here]"]
["Answer the following questions based on what you see in Figure X."]
[1,"Are there any statistically significant differences (either over time or between your area and the statewide average)?"]
["1B","While not statistically significant, do you see a pattern that is of concern?"]
[2,"Over time, how have things changed?"]
[3,"How does your area compare to the state average at the most recent time point? "]
["Based on your assessment of this data, is this a risk factor in your area? "]
["[Insert title here]"]
["Answer the following questions based on what you see in Figure X."]
[1,"Are there any statistically significant differences (either over time or between your area and the statewide average)?"]
["1B","While not statistically significant, do you see a pattern that is of concern?"]
[2,"Over time, how have things changed?"]
[3,"How does your area compare to the state average at the most recent time point? "]
["Based on your assessment of this data, is this a risk factor in your area? "]
["[Insert title here]"]
["Answer the following questions based on what you see in Figure X."]
[1,"Are there any statistically significant differences (either over time or between your area and the statewide average)?"]
["1B","While not statistically significant, do you see a pattern that is of concern?"]
[2,"Over time, how have things changed?"]
[3,"How does your area compare to the state average at the most recent time point? "]
["Based on your assessment of this data, is this a risk factor in your area? "]
["[Insert title here]"]
["Answer the following questions based on what you see in Figure X."]
[1,"Are there any statistically significant differences (either over time or between your area and the statewide average)?"]
["1B","While not statistically significant, do you see a pattern that is of concern?"]
[2,"Over time, how have things changed?"]
[3,"How does your area compare to the state average at the most recent time point? "]
["Based on your assessment of this data, is this a risk factor in your area? "]
["[Insert title here]"]
["Answer the following questions based on what you see in Figure X."]
[1,"Are there any statistically significant differences (either over time or between your area and the statewide average)?"]
["1B","While not statistically significant, do you see a pattern that is of concern?"]
[2,"Over time, how have things changed?"]
[3,"How does your area compare to the state average at the most recent time point? "]
["Based on your assessment of this data, is this a risk factor in your area? "]
["[Insert title here]"]
["Answer the following questions based on what you see in Figure X."]
[1,"Are there any statistically significant differences (either over time or between your area and the statewide average)?"]
["1B","While not statistically significant, do you see a pattern that is of concern?"]
[2,"Over time, how have things changed?"]
[3,"How does your area compare to the state average at the most recent time point? "]
["Based on your assessment of this data, is this a risk factor in your area? "]
["[Insert title here]"]
["Answer the following questions based on what you see in Figure X."]
[1,"Are there any statistically significant differences (either over time or between your area and the statewide average)?"]
["1B","While not statistically significant, do you see a pattern that is of concern?"]
[2,"Over time, how have things changed?"]
[3,"How does your area compare to the state average at the most recent time point? "]
["Based on your assessment of this data, is this a risk factor in your area? "]
["Prevention Messaging Exposure\n\n\n\nPrevention message exposure: Youth"]
["Answer the following questions based on what you see in Figure 11.",null,null,"Notes"]
[1,"Are there any statistically significant differences over time?"]
["1B","While not statistically significant, do you see a pattern that is of concern?"]
[2,"Over time, how have things changed?"]
[3,"How does your area compare to the state average at the most recent time point? "]
["Based on your assessment of this data, is this a risk factor to address in your area? "]
["Prevention message exposure: Young Adults"]
["Answer the following questions based on what you see in Figure X."]
[1,"Are there any statistically significant differences (either over time or between your area and the statewide average)?"]
["1B","While not statistically significant, do you see a pattern that is of concern?"]
[2,"Over time, how have things changed?"]
[3,"How does your area compare to the state average at the most recent time point? "]
["Based on your assessment of this data, is this a risk factor in your area? "]
["Prevention message exposure: Adults"]
["Answer the following questions based on what you see in Figure 7.",null,null,"Notes"]
[1,"Are there any statistically significant differences (either over time or between your area and the statewide average)?"]
["1B","While not statistically significant, do you see a pattern that is of concern?"]
[2,"Over time, how have things changed?"]
[3,"How does your area compare to the state average at the most recent time point? "]
["Based on your assessment of this data, is this a risk factor to address in your area? "]
["Parent Communication\n\n\n\nParent Communication about marijuna use: Adults"]
["Answer the following questions based on what you see in Figure 8.",null,null,"Notes"]
[1,"Are there any statistically significant differences over time?"]
["1B","While not statistically significant, do you see a pattern that is of concern?"]
[2,"Over time, how have things changed?"]
[3,"How does your area compare to the state average at the most recent time point? "]
["Based on your assessment of this data, is this a risk factor to address in your area? "]
["[INSERT TEXT HERE]"]
["Answer the following questions based on what you see in Figure X.",null,null,"Notes"]
[1,"Are there any statistically significant differences over time?"]
["1B","While not statistically significant, do you see a pattern that is of concern?"]
[2,"Over time, how have things changed?"]
[3,"How does your area compare to the state average at the most recent time point? "]
["Based on your assessment of this data, is this a risk factor to address in your area? "]
[]
["*hide these rows (they are used to populate the LM tab)",null,null,"Connect to Strategy Selection","Match with EBP column","Name for Strategy Selection",null,null,"Column Match on EBP Matrix"]
[1,{"$f":"A5","v":"Early Initiation\n\n\n\nEarly initiation of use: Youth"},{"$f":"IF(C11=\"YES\",1,0)","v":0},{"$f":"C224","v":0},"Z","Early Initiation",null,"Low perceived risk of harm (think using substances does not present a risk)","X",{"$f":"D227","v":0},"Perceived risk of harm, marijuana"]
[2,{"$f":"A12","v":"Perceived Risk of Harm\n\n\n\nLow perceived risk of harm: Youth"},{"$f":"IF(C18=\"YES\",1,0)","v":0},null,"X","Low perceived risk of harm",null,"Parent Communication about substance use (talking to youth about substances)","Y",{"$f":"IF(OR(D229=1,D253=1),1,0)","v":0},"Parent communication, marijuana"]
[3,{"$f":"A19","v":"Low perceived risk of harm: Young Adults"},{"$f":"IF(C25=\"YES\",1,0)","v":0},null,"X","Low perceived risk of harm",null,"Early initiation of substance use (began using at early age)","Z",{"$f":"D224","v":0},"Early initiation, marijuana"]
[4,{"$f":"A26","v":"Low perceived risk of harm: Adults"},{"$f":"IF(C32=\"YES\",1,0)","v":0},{"$f":"IF(OR(C225=1,C226=1,C227=1),1,0)","v":0},"X","Low perceived risk of harm",null,"Favorable adult attitudes toward youth substance use (parents/adults feel it is okay for youth to use substances)","AA",{"$f":"D234","v":0},"Adult attitudes, marijuana"]
[5,{"$f":"A33","v":"Parent Communication about Marijuana use: Youth"},{"$f":"IF(C39=\"YES\",1,0)","v":0},null,"Y","Parent communication ",null,"Favorable young adult attitudes toward substance use (18-25 year olds think it is okay for people their age to use substances)","AB","NA","Young adult attitudes, marijuana"]
[6,{"$f":"A40","v":"Parent Communication about Marijuana use: Adults"},{"$f":"IF(C46=\"YES\",1,0)","v":0},{"$f":"IF(OR(C228=1,C229=1),1,0)","v":0},"Y","Parent communication ",null,"Favorable youth attitudes toward substance use (youth under 19 think it is okay to use substances)","AC",{"$f":"D230","v":0},"Youth attitudes, marijuana"]
[7,{"$f":"A47","v":"Attitudes Toward Marijuana Use\n\n\n\nYouth attitudes toward marijuana use"},{"$f":"IF(C53=\"YES\",1,0)","v":0},{"$f":"C230","v":0},"AC","Youth attitudes toward underage use",null,"Perceived acceptance of substance use among peers (youth believe their peers think using substances is acceptable)","AD",{"$f":"D239","v":0},"Perceived acceptance, marijuana"]
[8,{"$f":"A54","v":"Young adult attitudes toward marijuana use"},{"$f":"IF(C60=\"YES\",1,0)","v":0},{"$f":"C231","v":0},"AB","Young adult attitudes toward underage use",null,"Overall availability of substances (ease of accessing substances)","AE",{"$f":"D240","v":0},"Availability/ease of access, marijuana"]
[9,{"$f":"A61","v":"Adult attitudes toward marijuana use (under 18)"},{"$f":"IF(C67=\"YES\",1,0)","v":0},null,"AA","Adult attitudes toward underage use",null,"Social acces - parents providing alcohol to minors","AF","NA","Social access "]
[10,{"$f":"A68","v":"Adult attitudes toward marijuana use (18-20)"},{"$f":"IF(C74=\"YES\",1,0)","v":0},null,"AA","Adult attitudes toward underage use",null,"Social acces - peers providing alcohol to minors","AG",{"$f":"D240","v":0},"Social access of marijuana from peers"]
[11,{"$f":"A75","v":"Adult attitudes toward marijuana (adults 21+)"},{"$f":"IF(C81=\"YES\",1,0)","v":0},{"$f":"IF(OR(C232=1,C233=1,C234=1),1,0)","v":0},"AA","Adult attitudes toward underage use",null,"Social access - favorable attitudes toward adults providing alcohol (think it is okay for those 21+ to provide alcohol to minors)","AH","NA","Social access - Attitudes toward providing marijuana to minors"]
[12,{"$f":"A82","v":"Perceived acceptance of marijuana use among parents: Youth"},{"$f":"IF(C88=\"YES\",1,0)","v":0},null,"AD","Perceived peer Marijuana use",null,"Retail Access (stores/bars provide easy access to alcohol)","AI","NA","Retail access, marijuana"]
[13,{"$f":"A89","v":"Peer Perceptions\n\n\n\nPerceived acceptance of Marijuana use among peers: Youth"},{"$f":"IF(C95=\"YES\",1,0)","v":0},null,"AD","Perceived peer Marijuana use",null,"Law enforcement practices (law enforcement does not enforce illegal substance use behaviors)","AJ",{"$f":"D241","v":0},"Law enforcement practices, marijuana"]
[14,{"$f":"A96","v":"Perceived peer Marijuana use: Young Adults"},{"$f":"IF(C102=\"YES\",1,0)","v":0},null,"AD","Perceived peer Marijuana use",null,"Prevention messaging exposure","AK",{"$f":"D252","v":0},"Prevention message exposure, marijuana"]
[15,{"$f":"A103","v":"Perceived peer Marijuana use: First Year College Students"},{"$f":"IF(C109=\"YES\",1,0)","v":0},null,"AD","Perceived peer Marijuana use"]
[16,{"$f":"A110","v":"Perceived peer Marijuana use: College Students"},{"$f":"IF(C116=\"YES\",1,0)","v":0},{"$f":"IF(OR(C236=1,C237=1,C238=1,C239=1),1,0)","v":0},"AD","Perceived peer Marijuana use"]
[17,{"$f":"A117","v":"Access to Marijuana\n\n\n\nLocation of college students using marijuana"},{"$f":"IF(C123=\"YES\",1,0)","v":0},{"$f":"C240","v":0},"AG","Social access of marijuana from peers"]
[18,{"$f":"A124","v":"Location of college students using marijuana - in a car"},{"$f":"IF(C130=\"YES\",1,0)","v":0},{"$f":"C241","v":0},"AJ","law enforcement"]
[19,{"$f":"A131","v":"Location of college students using marijuana - residence halls"},{"$f":"IF(C137=\"YES\",1,0)","v":0}]
[20,{"$f":"A138","v":"[Insert title here]"},{"$f":"IF(C144=\"YES\",1,0)","v":0}]
[21,{"$f":"A145","v":"[Insert title here]"},{"$f":"IF(C151=\"YES\",1,0)","v":0}]
[22,{"$f":"A152","v":"[Insert title here]"},{"$f":"IF(C158=\"YES\",1,0)","v":0}]
[23,{"$f":"A159","v":"[Insert title here]"},{"$f":"IF(C165=\"YES\",1,0)","v":0}]
[24,{"$f":"A166","v":"[Insert title here]"},{"$f":"IF(C172=\"YES\",1,0)","v":0}]
[25,{"$f":"A173","v":"[Insert title here]"},{"$f":"IF(C179=\"YES\",1,0)","v":0}]
[26,{"$f":"A180","v":"[Insert title here]"},{"$f":"IF(C186=\"YES\",1,0)","v":0}]
[27,{"$f":"A187","v":"Prevention Messaging Exposure\n\n\n\nPrevention message exposure: Youth"},{"$f":"IF(C193=\"YES\",1,0)","v":0}]
[28,{"$f":"A194","v":"Prevention message exposure: Young Adults"},{"$f":"IF(C200=\"YES\",1,0)","v":0}]
[29,{"$f":"A201","v":"Prevention message exposure: Adults"},{"$f":"IF(C207=\"YES\",1,0)","v":0},{"$f":"IF(OR(C250=1,C251=1,C252=1),1,0)","v":0},"AK","Prevention message exposure"]
[30,{"$f":"A208","v":"Parent Communication\n\n\n\nParent Communication about marijuna use: Adults"},{"$f":"IF(C214=\"YES\",1,0)","v":0},{"$f":"C253","v":0},"Y","Parent communication "]

{"sheet":"Prob_Tob","index":5,"n_rows":71,"n_cols":4,"rows_kept":71,"cut":false,"hidden":false,"merged":[[59,0,59,1],[34,3,38,3],[41,3,45,3],[32,0,32,3],[39,0,39,3],[46,0,46,3],[53,0,53,3],[48,3,52,3],[55,3,59,3],[54,0,54,2],[47,0,47,2],[40,0,40,2],[33,0,33,2],[27,3,31,3],[31,0,31,1],[38,0,38,1],[45,0,45,1],[52,0,52,1],[19,0,19,2],[20,3,24,3],[24,0,24,1],[25,0,25,3],[26,0,26,2],[11,0,11,3],[12,0,12,2],[13,3,17,3],[17,0,17,1],[18,0,18,3],[0,0,0,3],[3,0,3,3],[4,0,4,3],[5,0,5,2],[6,3,10,3],[10,0,10,1]]}
[{"$f":"Prob_Alc!A1","v":"UR ABCs: Omaha Collegiate Consortium (OCC)"}]
["TOBACCO: Problem Identification"]
[]
["Step 1: Tobacco Problem Identification"]
["Cigarette 30-day use: Youth"]
["Answer the following questions based on what you see in Figure 1.",null,null,"Notes"]
[1,"Are there any statistically significant differences (either over time or between your area and the statewide average)?"]
["1B","While not statistically significant, do you see a pattern that that is of concern?"]
[2,"Over time, how have things changed?"]
[3,"How does your area compare to the state average at the most recent time point? "]
["Based on your assessment of this data, is this a problem in your area? "]
["E-vapor 30-day use: Youth"]
["Answer the following questions based on what you see in Figure 2.",null,null,"Notes"]
[1,"Are there any statistically significant differences (either over time or between your area and the statewide average)?"]
["1B","While not statistically significant, do you see a pattern that is of concern?"]
[2,"Over time, how have things changed?"]
[3,"How does your area compare to the state average at the most recent time point? "]
["Based on your assessment of this data, is this a problem in your area? "]
["Cigarette 30-day use: Young Adults (19-25)"]
["Answer the following questions based on what you see in Figure 1.",null,null,"Notes"]
[1,"Are there any statistically significant differences (either over time or between your area and the statewide average)?"]
["1B","While not statistically significant, do you see a pattern that is of concern?"]
[2,"Over time, how have things changed?"]
[3,"How does your area compare to the state average at the most recent time point? "]
["Based on your assessment of this data, is this a problem in your area? "]
["E-cigarette 30-day use: Young Adults (19-25)"]
["Answer the following questions based on what you see in Figure 2.",null,null,"Notes"]
[1,"Are there any statistically significant differences (either over time or between your area and the statewide average)?"]
["1B","While not statistically significant, do you see a pattern that is of concern?"]
[2,"Over time, how have things changed?"]
[3,"How does your area compare to the state average at the most recent time point? "]
["Based on your assessment of this data, is this a problem in your area? "]
["Past Year Tobacco Use: College Students"]
["Answer the following questions based on what you see in Figure 3.",null,null,"Notes"]
[1,"Are there any statistically significant differences (either over time or between your area and the statewide average)?"]
["1B","While not statistically significant, do you see a pattern that is of concern?"]
[2,"Over time, how have things changed?"]
[3,"How does your area compare to the state average at the most recent time point? "]
["Based on your assessment of this data, are Cigarettes a problem in your area? "]
["E-cigarette 30-day use: Adults"]
["Answer the following questions based on what you see in Figure 4.",null,null,"Notes"]
[1,"Are there any statistically significant differences (either over time or between your area and the statewide average)?"]
["1B","While not statistically significant, do you see a pattern that is of concern?"]
[2,"Over time, how have things changed?"]
[3,"How does your area compare to the state average at the most recent time point? "]
["Based on your assessment of this data, are E-Cigarettes or JUUL a problem in your area? "]
["[insert topic/title of figure]"]
["Answer the following questions based on what you see in Figure X.",null,null,"Notes"]
[1,"Are there any statistically significant differences (either over time or between your area and the statewide average)?"]
["1B","While not statistically significant, do you see a pattern that is of concern?"]
[2,"Over time, how have things changed?"]
[3,"How does your area compare to the state average at the most recent time point? "]
["Based on your assessment of this data, are other types of Tobacco products a problem in your area? "]
["[insert topic/title of figure]"]
["Answer the following questions based on what you see in Figure X.",null,null,"Notes"]
[1,"Are there any statistically significant differences (either over time or between your area and the statewide average)?"]
["1B","While not statistically significant, do you see a pattern that is of concern?"]
[2,"Over time, how have things changed?"]
[3,"How does your area compare to the state average at the most recent time point? "]
["Based on your assessment of this data, is this a problem in your area? "]
[]
["*hide these rows (they are used to populate the LM tab)"]
[1,{"$f":"A5","v":"Cigarette 30-day use: Youth"},{"$f":"IF(C11=\"YES\",1,0)","v":0}]
[2,{"$f":"A12","v":"E-vapor 30-day use: Youth"},{"$f":"IF(C18=\"YES\",1,0)","v":0}]
[3,{"$f":"A19","v":"Cigarette 30-day use: Young Adults (19-25)"},{"$f":"IF(C25=\"YES\",1,0)","v":0}]
[4,{"$f":"A26","v":"E-cigarette 30-day use: Young Adults (19-25)"},{"$f":"IF(C32=\"YES\",1,0)","v":0}]
[5,"Cigarettes: College Students",{"$f":"IF(C39=\"YES\",1,0)","v":0}]
[6,"E-cigarettes or JUUL: College Students",{"$f":"IF(C46=\"YES\",1,0)","v":0}]
[7,"Other types of tobacco products: College Students",{"$f":"IF(C53=\"YES\",1,0)","v":0}]
[8,{"$f":"A54","v":"[insert topic/title of figure]"},{"$f":"IF(C60=\"YES\",1,0)","v":0}]
[null,null,{"$f":"SUM(C63:C70)","v":0}]

{"sheet":"Risk_Tob","index":6,"n_rows":234,"n_cols":11,"rows_kept":234,"cut":false,"hidden":true,"merged":[[18,0,18,3],[25,0,25,3],[45,0,45,1],[52,0,52,1],[11,0,11,3],[12,0,12,2],[13,3,17,3],[39,0,39,3],[40,0,40,2],[17,0,17,1],[32,0,32,3],[33,0,33,2],[34,3,38,3],[38,0,38,1],[19,0,19,2],[20,3,24,3],[24,0,24,1],[26,0,26,2],[27,3,31,3],[60,0,60,3],[61,0,61,2],[31,0,31,1],[53,0,53,3],[54,0,54,2],[55,3,59,3],[59,0,59,1],[41,3,45,3],[46,0,46,3],[47,0,47,2],[48,3,52,3],[129,0,129,1],[123,0,123,3],[124,0,124,2],[125,3,129,3],[111,3,115,3],[115,0,115,1],[116,0,116,3],[117,0,117,2],[118,3,122,3],[122,0,122,1],[103,0,103,2],[104,3,108,3],[108,0,108,1],[109,0,109,3],[110,0,110,2],[95,0,95,3],[96,0,96,2],[97,3,101,3],[101,0,101,1],[102,0,102,3],[82,0,82,2],[83,3,87,3],[87,0,87,1],[88,0,88,3],[94,0,94,1],[89,0,89,2],[90,3,94,3],[74,0,74,3],[75,0,75,2],[76,3,80,3],[80,0,80,1],[81,0,81,3],[66,0,66,1],[67,0,67,3],[68,0,68,2],[69,3,73,3],[73,0,73,1],[62,3,66,3],[0,0,0,3],[3,0,3,3],[4,0,4,3],[5,0,5,2],[6,3,10,3],[10,0,10,1]]}
[{"$f":"Prob_Alc!A1","v":"UR ABCs: Omaha Collegiate Consortium (OCC)"}]
["TOBACCO: Risk Factors"]
[]
["Step 2: Tobacco Risk Factor Identification"]
["Perceived Risk of Harm\n\n\n\nPerceived risk of harm from smoking cigarettes: Youth"]
["Answer the following questions based on what you see in Figure 1.",null,null,"Notes"]
[1,"Are there any statistically significant differences over time?"]
["1B","While not statistically significant, do you see a pattern that is of concern?"]
[2,"Over time, how have things changed?"]
[3,"How does your area compare to the state average at the most recent time point? "]
["Based on your assessment of this data, is this a risk factor to address in your area? "]
["Perceived risk of harm from vaping: Youth"]
["Answer the following questions based on what you see in Figure 2.",null,null,"Notes"]
[1,"Are there any statistically significant differences over time?"]
["1B","While not statistically significant, do you see a pattern that is of concern?"]
[2,"Over time, how have things changed?"]
[3,"How does your area compare to the state average at the most recent time point? "]
["Based on your assessment of this data, is this a risk factor to address in your area? \t"]
["Attitudes Toward Tobacco\n\n\n\nYouth attitudes toward peer smoking"]
["Answer the following questions based on what you see in Figure 3.",null,null,"Notes"]
[1,"Are there any statistically significant differences over time?"]
["1B","While not statistically significant, do you see a pattern that is of concern?"]
[2,"Over time, how have things changed?"]
[3,"How does your area compare to the state average at the most recent time point? "]
["Based on your assessment of this data, is this a risk factor to address in your area? "]
["Perceived acceptance of cigarette use among parents: Youth"]
["Answer the following questions based on what you see in Figure 4.",null,null,"Notes"]
[1,"Are there any statistically significant differences over time?"]
["1B","While not statistically significant, do you see a pattern that is of concern?"]
[2,"Over time, how have things changed?"]
[3,"How does your area compare to the state average at the most recent time point? "]
["Based on your assessment of this data, is this a risk factor to address in your area? "]
["Peer Use Perceptions\n\n\n\nPerceived acceptance of tobacco use among peers: Youth"]
["Answer the following questions based on what you see in Figure 5.",null,null,"Notes"]
[1,"Are there any statistically significant differences over time?"]
["1B","While not statistically significant, do you see a pattern that is of concern?"]
[2,"Over time, how have things changed?"]
[3,"How does your area compare to the state average at the most recent time point? "]
["Based on your assessment of this data, is this a risk factor to address in your area? "]
["Perceived Peer Smoking Use: Youth"]
["Answer the following questions based on what you see in Figure 6.",null,null,"Notes"]
[1,"Are there any statistically significant differences over time?"]
["1B","While not statistically significant, do you see a pattern that is of concern?"]
[2,"Over time, how have things changed?"]
[3,"How does your area compare to the state average at the most recent time point? "]
["Based on your assessment of this data, is this a risk factor to address in your area? "]
["Parent Communication\n\n\n\nParent Communication about tobacco: Adults"]
["Answer the following questions based on what you see in Figure 1.",null,null,"Notes"]
[1,"Are there any statistically significant differences (either over time or between your area and the statewide average)?"]
["1B","While not statistically significant, do you see a pattern that is of concern?"]
[2,"Over time, how have things changed?"]
[3,"How does your area compare to the state average at the most recent time point? "]
["Based on your assessment of this data, is this a risk factor to address in your area? "]
["Prevention Messaging Exposure\n\n\n\nPrevention messaging exposure regarding tobacco: Adults"]
["Answer the following questions based on what you see in Figure 2.",null,null,"Notes"]
[1,"Are there any statistically significant differences (either over time or between your area and the statewide average)?"]
["1B","While not statistically significant, do you see a pattern that is of concern?"]
[2,"Over time, how have things changed?"]
[3,"How does your area compare to the state average at the most recent time point? "]
["Based on your assessment of this data, is this a risk factor to address in your area? "]
["[Insert title here]"]
["Answer the following questions based on what you see in Figure X.",null,null,"Notes"]
[1,"Are there any statistically significant differences (either over time or between your area and the statewide average)?"]
["1B","While not statistically significant, do you see a pattern that is of concern?"]
[2,"Over time, how have things changed?"]
[3,"How does your area compare to the state average at the most recent time point? "]
["Based on your assessment of this data, is this a risk factor to address in your area? "]
["[Insert title here]"]
["Answer the following questions based on what you see in Figure X.",null,null,"Notes"]
[1,"Are there any statistically significant differences (either over time or between your area and the statewide average)?"]
["1B","While not statistically significant, do you see a pattern that is of concern?"]
[2,"Over time, how have things changed?"]
[3,"How does your area compare to the state average at the most recent time point? "]
["Based on your assessment of this data, is this a risk factor to address in your area? "]
["[Insert title here]"]
["Answer the following questions based on what you see in Figure X.",null,null,"Notes"]
[1,"Are there any statistically significant differences (either over time or between your area and the statewide average)?"]
["1B","While not statistically significant, do you see a pattern that is of concern?"]
[2,"Over time, how have things changed?"]
[3,"How does your area compare to the state average at the most recent time point? "]
["Based on your assessment of this data, is this a risk factor to address in your area? "]
["[Insert title here]"]
["Answer the following questions based on what you see in Figure X.",null,null,"Notes"]
[1,"Are there any statistically significant differences (either over time or between your area and the statewide average)?"]
["1B","While not statistically significant, do you see a pattern that is of concern?"]
[2,"Over time, how have things changed?"]
[3,"How does your area compare to the state average at the most recent time point? "]
["Based on your assessment of this data, is this a risk factor to address in your area? "]
["[Insert title here]"]
["Answer the following questions based on what you see in Figure X.",null,null,"Notes"]
[1,"Are there any statistically significant differences (either over time or between your area and the statewide average)?"]
["1B","While not statistically significant, do you see a pattern that is of concern?"]
[2,"Over time, how have things changed?"]
[3,"How does your area compare to the state average at the most recent time point? "]
["Based on your assessment of this data, is this a risk factor to address in your area? "]
["[Insert title here]"]
["Answer the following questions based on what you see in Figure X.",null,null,"Notes"]
[1,"Are there any statistically significant differences (either over time or between your area and the statewide average)?"]
["1B","While not statistically significant, do you see a pattern that is of concern?"]
[2,"Over time, how have things changed?"]
[3,"How does your area compare to the state average at the most recent time point? "]
["Based on your assessment of this data, is this a risk factor to address in your area? "]
["[Insert title here]"]
["Answer the following questions based on what you see in Figure X.",null,null,"Notes"]
[1,"Are there any statistically significant differences (either over time or between your area and the statewide average)?"]
["1B","While not statistically significant, do you see a pattern that is of concern?"]
[2,"Over time, how have things changed?"]
[3,"How does your area compare to the state average at the most recent time point? "]
["Based on your assessment of this data, is this a risk factor to address in your area? "]
["[Insert title here]"]
["Answer the following questions based on what you see in Figure X.",null,null,"Notes"]
[1,"Are there any statistically significant differences (either over time or between your area and the statewide average)?"]
["1B","While not statistically significant, do you see a pattern that is of concern?"]
[2,"Over time, how have things changed?"]
[3,"How does your area compare to the state average at the most recent time point? "]
["Based on your assessment of this data, is this a risk factor to address in your area? "]
["[Insert title here]"]
["Answer the following questions based on what you see in Figure X.",null,null,"Notes"]
[1,"Are there any statistically significant differences (either over time or between your area and the statewide average)?"]
["1B","While not statistically significant, do you see a pattern that is of concern?"]
[2,"Over time, how have things changed?"]
[3,"How does your area compare to the state average at the most recent time point? "]
["Based on your assessment of this data, is this a risk factor to address in your area? "]
["[Insert title here]"]
["Answer the following questions based on what you see in Figure X.",null,null,"Notes"]
[1,"Are there any statistically significant differences (either over time or between your area and the statewide average)?"]
["1B","While not statistically significant, do you see a pattern that is of concern?"]
[2,"Over time, how have things changed?"]
[3,"How does your area compare to the state average at the most recent time point? "]
["Based on your assessment of this data, is this a risk factor to address in your area? "]
[]
[]
[]
[]
[]
[]
[]
[]
[]
[]
[]
[]
[]
[]
[]
[]
[]
[]
[]
[]
[]
[]
[]
[]
[]
[]
[]
[]
[]
[]
[]
[]
[]
[]
[]
[]
[]
[]
[]
[]
[]
[]
[]
[]
[]
[]
[]
[]
[]
[]
[]
[]
[]
[]
[]
[]
[]
[]
[]
[]
[]
[]
[]
[]
[]
[]
[]
[]
[]
[]
[]
[]
[]
[]
[]
[]
[]
[]
[]
[]
[]
[]
[]
[]
[]
["*hide these rows (they are used to populate the LM tab)",null,null,"Connect to Strategy Selection","Match with EBP column","Name for Strategy Selection",null,null,"Column Match on EBP Matrix"]
[1,{"$f":"A5","v":"Perceived Risk of Harm\n\n\n\nPerceived risk of harm from smoking cigarettes: Youth"},{"$f":"IF(C11=\"YES\",1,0)","v":0},null,"X","Low perceived risk of harm",null,"Low perceived risk of harm (think using substances does not present a risk)","X",{"$f":"D218","v":0},"Perceived risk of harm, tobacco"]
[2,{"$f":"A12","v":"Perceived risk of harm from vaping: Youth"},{"$f":"IF(C18=\"YES\",1,0)","v":0},{"$f":"IF(OR(C217=1,C218=1),1,0)","v":0},"X","Low perceived risk of harm",null,"Parent Communication about substance use (talking to youth about substances)","Y",{"$f":"D223","v":0},"Parent communication, tobacco"]
[3,{"$f":"A19","v":"Attitudes Toward Tobacco\n\n\n\nYouth attitudes toward peer smoking"},{"$f":"IF(C25=\"YES\",1,0)","v":0},null,null,null,null,"Early initiation of substance use (began using at early age)","Z","NA","Early initiation, tobacco"]
[4,{"$f":"A26","v":"Perceived acceptance of cigarette use among parents: Youth"},{"$f":"IF(C32=\"YES\",1,0)","v":0},{"$f":"IF(OR(C219=1,C220=1),1,0)","v":0},"AC","Attitudes toward tobacco - youth",null,"Favorable adult attitudes toward youth substance use (parents/adults feel it is okay for youth to use substances)","AA","NA","Adult attitudes, tobacco"]
[5,{"$f":"A33","v":"Peer Use Perceptions\n\n\n\nPerceived acceptance of tobacco use among peers: Youth"},{"$f":"IF(C39=\"YES\",1,0)","v":0},null,null,null,null,"Favorable young adult attitudes toward substance use (18-25 year olds think it is okay for people their age to use substances)","AB","NA","Young adult attitudes, tobacco"]
[6,{"$f":"A40","v":"Perceived Peer Smoking Use: Youth"},{"$f":"IF(C46=\"YES\",1,0)","v":0},{"$f":"IF(OR(C221=1,C222=1),1,0)","v":0},"AD","Perceived acceptance",null,"Favorable youth attitudes toward substance use (youth under 19 think it is okay to use substances)","AC",{"$f":"D220","v":0},"Youth attitudes, tobacco"]
[7,{"$f":"A47","v":"Parent Communication\n\n\n\nParent Communication about tobacco: Adults"},{"$f":"IF(C53=\"YES\",1,0)","v":0},{"$f":"C223","v":0},"Y","Parent communication ",null,"Perceived acceptance of substance use among peers (youth believe their peers think using substances is acceptable)","AD",{"$f":"D222","v":0},"Perceived acceptance, tobacco"]
[8,{"$f":"A54","v":"Prevention Messaging Exposure\n\n\n\nPrevention messaging exposure regarding tobacco: Adults"},{"$f":"IF(C60=\"YES\",1,0)","v":0},{"$f":"C224","v":0},"AK","Prevention messaging exposure",null,"Overall availability of substances (ease of accessing substances)","AE","NA","Availability/ease of access, tobacco"]
[8,{"$f":"A61","v":"[Insert title here]"},{"$f":"IF(C67=\"YES\",1,0)","v":0},null,null,null,null,"Social acces - parents providing alcohol to minors","AF","NA","Social access of tobacco from parents"]
[9,{"$f":"A68","v":"[Insert title here]"},{"$f":"IF(C74=\"YES\",1,0)","v":0},null,null,null,null,"Social acces - peers providing alcohol to minors","AG","NA","Social access of tobacco from peers"]
[10,{"$f":"A75","v":"[Insert title here]"},{"$f":"IF(C81=\"YES\",1,0)","v":0},null,null,null,null,"Social access - favorable attitudes toward adults providing alcohol (think it is okay for those 21+ to provide alcohol to minors)","AH","NA","Social access - Attitudes toward providing tobacco to minors"]
[11,{"$f":"A82","v":"[Insert title here]"},{"$f":"IF(C88=\"YES\",1,0)","v":0},null,null,null,null,"Retail Access (stores/bars provide easy access to alcohol)","AI","NA","Retail access, tobacco"]
[12,{"$f":"A89","v":"[Insert title here]"},{"$f":"IF(C95=\"YES\",1,0)","v":0},null,null,null,null,"Law enforcement practices (law enforcement does not enforce illegal substance use behaviors)","AJ","NA","Law enforcement practices, tobacco"]
[13,{"$f":"A96","v":"[Insert title here]"},{"$f":"IF(C102=\"YES\",1,0)","v":0},null,null,null,null,"Prevention messaging exposure","AK",{"$f":"D224","v":0},"Prevention message exposure, tobacco"]
[14,{"$f":"A103","v":"[Insert title here]"},{"$f":"IF(C109=\"YES\",1,0)","v":0}]
[15,{"$f":"A110","v":"[Insert title here]"},{"$f":"IF(C116=\"YES\",1,0)","v":0}]
[16,{"$f":"A117","v":"[Insert title here]"},{"$f":"IF(C123=\"YES\",1,0)","v":0}]
[17,{"$f":"A124","v":"[Insert title here]"},{"$f":"IF(C130=\"YES\",1,0)","v":0}]

{"sheet":"Prob_RxDrugs","index":7,"n_rows":31,"n_cols":4,"rows_kept":31,"cut":false,"hidden":false,"merged":[[18,0,18,3],[19,0,19,2],[20,3,24,3],[24,0,24,1],[11,0,11,3],[12,0,12,2],[13,3,17,3],[17,0,17,1],[0,0,0,3],[3,0,3,3],[4,0,4,3],[5,0,5,2],[6,3,10,3],[10,0,10,1]]}
[{"$f":"Prob_Alc!A1","v":"UR ABCs: Omaha Collegiate Consortium (OCC)"}]
["PRESCRIPTION DRUGS: Problem Identification"]
[]
["Step 1: Prescription Drugs Problem Identification"]
["Lifetime prescription drug misuse: Young Adults (19-25)"]
["Answer the following questions based on what you see in Figure 1.",null,null,"Notes"]
[1,"Are there any statistically significant differences (either over time or between your area and the statewide average)?"]
["1B","While not statistically significant, do you see a pattern that is of concern?"]
[2,"Over time, how have things changed?"]
[3,"How does your area compare to the state average at the most recent time point? "]
["Based on your assessment of this data, is this a problem in your area? "]
["Prescription pain medicine misuse: College Students"]
["Answer the following questions based on what you see in Figure 2.",null,null,"Notes"]
[1,"Are there any statistically significant differences (either over time or between your area and the statewide average)?"]
["1B","While not statistically significant, do you see a pattern that is of concern?"]
[2,"Over time, how have things changed?"]
[3,"How does your area compare to the state average at the most recent time point? "]
["Based on your assessment of this data, is this a problem in your area? "]
["Prescription pain medicine & driving: College Students"]
["Answer the following questions based on what you see in Figure 3.",null,null,"Notes"]
[1,"Are there any statistically significant differences (either over time or between your area and the statewide average)?"]
["1B","While not statistically significant, do you see a pattern that is of concern?"]
[2,"Over time, how have things changed?"]
[3,"How does your area compare to the state average at the most recent time point? "]
["Based on your assessment of this data, is this a problem in your area? "]
[]
["*hide these rows (they are used to populate the LM tab)"]
[1,{"$f":"A5","v":"Lifetime prescription drug misuse: Young Adults (19-25)"},{"$f":"IF(C11=\"YES\",1,0)","v":0}]
[2,{"$f":"A12","v":"Prescription pain medicine misuse: College Students"},{"$f":"IF(C18=\"YES\",1,0)","v":0}]
[3,{"$f":"A19","v":"Prescription pain medicine & driving: College Students"},{"$f":"IF(C25=\"YES\",1,0)","v":0}]
[null,null,{"$f":"SUM(C28:C30)","v":0}]

{"sheet":"Risk_RxDrugs","index":8,"n_rows":233,"n_cols":11,"rows_kept":233,"cut":false,"hidden":true,"merged":[[116,0,116,3],[117,0,117,2],[118,3,122,3],[122,0,122,1],[104,3,108,3],[108,0,108,1],[109,0,109,3],[110,0,110,2],[111,3,115,3],[115,0,115,1],[103,0,103,2],[83,3,87,3],[87,0,87,1],[88,0,88,3],[89,0,89,2],[90,3,94,3],[94,0,94,1],[95,0,95,3],[96,0,96,2],[97,3,101,3],[101,0,101,1],[102,0,102,3],[82,0,82,2],[41,3,45,3],[45,0,45,1],[67,0,67,3],[68,0,68,2],[69,3,73,3],[73,0,73,1],[74,0,74,3],[75,0,75,2],[76,3,80,3],[80,0,80,1],[81,0,81,3],[55,3,59,3],[59,0,59,1],[60,0,60,3],[61,0,61,2],[62,3,66,3],[66,0,66,1],[54,0,54,2],[27,3,31,3],[31,0,31,1],[46,0,46,3],[47,0,47,2],[48,3,52,3],[52,0,52,1],[53,0,53,3],[40,0,40,2],[32,0,32,3],[33,0,33,2],[34,3,38,3],[38,0,38,1],[39,0,39,3],[26,0,26,2],[0,0,0,2],[3,0,3,3],[4,0,4,3],[5,0,5,2],[6,3,10,3],[10,0,10,1],[11,0,11,3],[12,0,12,2],[13,3,17,3],[17,0,17,1],[25,0,25,3],[18,0,18,3],[19,0,19,2],[20,3,24,3],[24,0,24,1]]}
[{"$f":"Prob_Alc!A1","v":"UR ABCs: Omaha Collegiate Consortium (OCC)"}]
["PRESCRIPTION DRUGS: Risk Factors"]
[]
["Step 2: Prescription Drugs Risk Factor Identification"]
["Perceived risk of harm\n\n\n\nPerceived risk of harm from prescription drugs: Youth"]
["Answer the following questions based on what you see in Figure 1.",null,null,"Notes"]
[1,"Are there any statistically significant differences over time?"]
["1B","While not statistically significant, do you see a pattern that is of concern?"]
[2,"Over time, how have things changed?"]
[3,"How does your area compare to the state average at the most recent time point? "]
["Based on your assessment of this data, is this a risk factor in your area? "]
["Attitudes Toward Prescription Misuse\n\n\n\nYouth attitudes toward prescription misuse"]
["Answer the following questions based on what you see in Figure 2.",null,null,"Notes"]
[1,"Are there any statistically significant differences over time?"]
["1B","While not statistically significant, do you see a pattern that is of concern?"]
[2,"Over time, how have things changed?"]
[3,"How does your area compare to the state average at the most recent time point? "]
["Based on your assessment of this data, is this a risk factor to address in your area? "]
["Perceived acceptance prescription drugs misuse among parents: Youth"]
["Answer the following questions based on what you see in Figure 3.",null,null,"Notes"]
[1,"Are there any statistically significant differences over time?"]
["1B","While not statistically significant, do you see a pattern that is of concern?"]
[2,"Over time, how have things changed?"]
[3,"How does your area compare to the state average at the most recent time point? "]
["Based on your assessment of this data, is this a risk factor to address in your area? "]
["Access to Prescription Drugs\n\n\n\nEase of obtaining prescription drugs: College Students"]
["Answer the following questions based on what you see in Figure 1.",null,null,"Notes"]
[1,"Are there any statistically significant differences over time?"]
["1B","While not statistically significant, do you see a pattern that is of concern?"]
[2,"Over time, how have things changed?"]
[3,"How does your area compare to the state average at the most recent time point? "]
["Based on your assessment of this data, is this a risk factor to address in your area? "]
["Accessing prescription drugs: College Students"]
["Answer the following questions based on what you see in Figure 2.",null,null,"Notes"]
[1,"Are there any statistically significant differences (either over time or between your area and the statewide average)?"]
["1B","While not statistically significant, do you see a pattern that is of concern?"]
[2,"Over time, how have things changed?"]
[3,"How does your area compare to the state average at the most recent time point? "]
["Based on your assessment of this data, is this a risk factor for accessing from friends? "]
["Accessing prescription drugs: College Students"]
["Answer the following questions based on what you see in Figure 2.",null,null,"Notes"]
[1,"Are there any statistically significant differences (either over time or between your area and the statewide average)?"]
["1B","While not statistically significant, do you see a pattern that is of concern?"]
[2,"Over time, how have things changed?"]
[3,"How does your area compare to the state average at the most recent time point? "]
["Based on your assessment of this data, is this a risk factor for accessing from family? "]
["Parent Communication\n\n\n\nParent Communication about painkillers: Adults"]
["Answer the following questions based on what you see in Figure 3.",null,null,"Notes"]
[1,"Are there any statistically significant differences (either over time or between your area and the statewide average)?"]
["1B","While not statistically significant, do you see a pattern that is of concern?"]
[2,"Over time, how have things changed?"]
[3,"How does your area compare to the state average at the most recent time point? "]
["Based on your assessment of this data, is this a risk factor to address in your area? "]
["Prevention messaging exposure\n\n\n\nPrevention messaging exposure regarding painkillers: Adults"]
["Answer the following questions based on what you see in Figure 4.",null,null,"Notes"]
[1,"Are there any statistically significant differences (either over time or between your area and the statewide average)?"]
["1B","While not statistically significant, do you see a pattern that is of concern?"]
[2,"Over time, how have things changed?"]
[3,"How does your area compare to the state average at the most recent time point? "]
["Based on your assessment of this data, is this a risk factor to address in your area? "]
["Peer Perceptions\n\n\n\nPerceived acceptance of prescription misuse use among peers: Youth"]
["Answer the following questions based on what you see in Figure X.",null,null,"Notes"]
[1,"Are there any statistically significant differences over time?"]
["1B","While not statistically significant, do you see a pattern that is of concern?"]
[2,"Over time, how have things changed?"]
[3,"How does your area compare to the state average at the most recent time point? "]
["Based on your assessment of this data, is this a risk factor to address in your area? "]
[]
["Answer the following questions based on what you see in Figure X.",null,null,"Notes"]
[1,"Are there any statistically significant differences (either over time or between your area and the statewide average)?"]
["1B","While not statistically significant, do you see a pattern that is of concern?"]
[2,"Over time, how have things changed?"]
[3,"How does your area compare to the state average at the most recent time point? "]
["Based on your assessment of this data, is this a risk factor in your area? "]
[]
["Answer the following questions based on what you see in Figure X.",null,null,"Notes"]
[1,"Are there any statistically significant differences (either over time or between your area and the statewide average)?"]
["1B","While not statistically significant, do you see a pattern that is of concern?"]
[2,"Over time, how have things changed?"]
[3,"How does your area compare to the state average at the most recent time point? "]
["Based on your assessment of this data, is this a risk factor in your area? "]
[]
["Answer the following questions based on what you see in Figure X.",null,null,"Notes"]
[1,"Are there any statistically significant differences (either over time or between your area and the statewide average)?"]
["1B","While not statistically significant, do you see a pattern that is of concern?"]
[2,"Over time, how have things changed?"]
[3,"How does your area compare to the state average at the most recent time point? "]
["Based on your assessment of this data, is this a risk factor in your area? "]
[]
["Answer the following questions based on what you see in Figure X.",null,null,"Notes"]
[1,"Are there any statistically significant differences (either over time or between your area and the statewide average)?"]
["1B","While not statistically significant, do you see a pattern that is of concern?"]
[2,"Over time, how have things changed?"]
[3,"How does your area compare to the state average at the most recent time point? "]
["Based on your assessment of this data, is this a risk factor in your area? "]
[]
["Answer the following questions based on what you see in Figure X.",null,null,"Notes"]
[1,"Are there any statistically significant differences (either over time or between your area and the statewide average)?"]
["1B","While not statistically significant, do you see a pattern that is of concern?"]
[2,"Over time, how have things changed?"]
[3,"How does your area compare to the state average at the most recent time point? "]
["Based on your assessment of this data, is this a risk factor in your area? "]
[]
["Answer the following questions based on what you see in Figure X.",null,null,"Notes"]
[1,"Are there any statistically significant differences (either over time or between your area and the statewide average)?"]
["1B","While not statistically significant, do you see a pattern that is of concern?"]
[2,"Over time, how have things changed?"]
[3,"How does your area compare to the state average at the most recent time point? "]
["Based on your assessment of this data, is this a risk factor in your area? "]
[]
["Answer the following questions based on what you see in Figure X.",null,null,"Notes"]
[1,"Are there any statistically significant differences (either over time or between your area and the statewide average)?"]
["1B","While not statistically significant, do you see a pattern that is of concern?"]
[2,"Over time, how have things changed?"]
[3,"How does your area compare to the state average at the most recent time point? "]
["Based on your assessment of this data, is this a risk factor in your area? "]
[]
["Answer the following questions based on what you see in Figure X.",null,null,"Notes"]
[1,"Are there any statistically significant differences (either over time or between your area and the statewide average)?"]
["1B","While not statistically significant, do you see a pattern that is of concern?"]
[2,"Over time, how have things changed?"]
[3,"How does your area compare to the state average at the most recent time point? "]
["Based on your assessment of this data, is this a risk factor in your area? "]
[]
[]
[]
[]
[]
[]
[]
[]
[]
[]
[]
[]
[]
[]
[]
[]
[]
[]
[]
[]
[]
[]
[]
[]
[]
[]
[]
[]
[]
[]
[]
[]
[]
[]
[]
[]
[]
[]
[]
[]
[]
[]
[]
[]
[]
[]
[]
[]
[]
[]
[]
[]
[]
[]
[]
[]
[]
[]
[]
[]
[]
[]
[]
[]
[]
[]
[]
[]
[]
[]
[]
[]
[]
[]
[]
[]
[]
[]
[]
[]
[]
[]
[]
[]
[]
[]
[]
[]
[]
[]
[]
[]
["*hide these rows (they are used to populate the LM tab)",null,null,"Connect to Strategy Selection","Match with EBP column","Name for Strategy Selection",null,null,"Column Match on EBP Matrix"]
[1,{"$f":"A5","v":"Perceived risk of harm\n\n\n\nPerceived risk of harm from prescription drugs: Youth"},{"$f":"IF(C11=\"YES\",1,0)","v":0},{"$f":"C217","v":0},"X","Low perceived risk of harm",null,"Low perceived risk of harm (think using substances does not present a risk)","X",{"$f":"D217","v":0},"Perceived risk of harm, Rx Drugs"]
[2,{"$f":"A12","v":"Attitudes Toward Prescription Misuse\n\n\n\nYouth attitudes toward prescription misuse"},{"$f":"IF(C18=\"YES\",1,0)","v":0},{"$f":"C218","v":0},"AC","Youth attitudes",null,"Parent Communication about substance use (talking to youth about substances)","Y",{"$f":"D221","v":0},"Parent communication, Rx Drugs"]
[3,{"$f":"A19","v":"Perceived acceptance prescription drugs misuse among parents: Youth"},{"$f":"IF(C25=\"YES\",1,0)","v":0},{"$f":"C219","v":0},"AA","Adult attitudes",null,"Early initiation of substance use (began using at early age)","Z","NA","Early initiation, Rx Drugs"]
[4,{"$f":"A26","v":"Access to Prescription Drugs\n\n\n\nEase of obtaining prescription drugs: College Students"},{"$f":"IF(C32=\"YES\",1,0)","v":0},0,"AE","Ease of access",null,"Favorable adult attitudes toward youth substance use (parents/adults feel it is okay for youth to use substances)","AA",{"$f":"D219","v":0},"Adult attitudes, Rx Drugs"]
[5,{"$f":"A47","v":"Parent Communication\n\n\n\nParent Communication about painkillers: Adults"},{"$f":"IF(C53=\"YES\",1,0)","v":0},0,"Y","Parent communication ",null,"Favorable young adult attitudes toward substance use (18-25 year olds think it is okay for people their age to use substances)","AB","NA","Young adult attitudes, Rx Drugs"]
[6,{"$f":"A54","v":"Prevention messaging exposure\n\n\n\nPrevention messaging exposure regarding painkillers: Adults"},{"$f":"IF(C60=\"YES\",1,0)","v":0},0,"AK","Prevention messaging exposure",null,"Favorable youth attitudes toward substance use (youth under 19 think it is okay to use substances)","AC",{"$f":"D218","v":0},"Youth attitudes, Rx Drugs"]
[7,{"$f":"A61","v":"Peer Perceptions\n\n\n\nPerceived acceptance of prescription misuse use among peers: Youth"},{"$f":"IF(C67=\"YES\",1,0)","v":0},0,"AD","Perceived acceptance",null,"Perceived acceptance of substance use among peers (youth believe their peers think using substances is acceptable)","AD",{"$f":"D223","v":0},"Perceived acceptance, Rx Drugs"]
[8,{"$f":"A33","v":"Accessing prescription drugs: College Students"},{"$f":"IF(C39=\"YES\",1,0)","v":0},{"$f":"C224","v":0},"AG","Social access - peers providing",null,"Overall availability of substances (ease of accessing substances)","AE",{"$f":"D220","v":0},"Availability/ease of access, Rx Drugs"]
[9,{"$f":"A40","v":"Accessing prescription drugs: College Students"},{"$f":"IF(C46=\"YES\",1,0)","v":0},{"$f":"C225","v":0},"AF","Social access - parents providing",null,"Social acces - parents providing alcohol to minors","AF",{"$f":"D225","v":0},"Social access of Rx Drugs from parents"]
[10,{"$f":"A68","v":0},{"$f":"IF(C74=\"YES\",1,0)","v":0},null,null,null,null,"Social acces - peers providing alcohol to minors","AG",{"$f":"D224","v":0},"Social access of Rx Drugs from peers"]
[11,{"$f":"A75","v":0},{"$f":"IF(C81=\"YES\",1,0)","v":0},null,null,null,null,"Social access - favorable attitudes toward adults providing alcohol (think it is okay for those 21+ to provide alcohol to minors)","AH","NA","Social access - Attitudes toward providing Rx Drugs to minors"]
[12,{"$f":"A82","v":0},{"$f":"IF(C88=\"YES\",1,0)","v":0},null,null,null,null,"Retail Access (stores/bars provide easy access to alcohol)","AI","NA","Retail access, Rx Drugs"]
[13,{"$f":"A89","v":0},{"$f":"IF(C95=\"YES\",1,0)","v":0},null,null,null,null,"Law enforcement practices (law enforcement does not enforce illegal substance use behaviors)","AJ","NA","Law enforcement practices, Rx Drugs"]
[14,{"$f":"A96","v":0},{"$f":"IF(C102=\"YES\",1,0)","v":0},null,null,null,null,"Prevention messaging exposure","AK",{"$f":"D222","v":0},"Prevention message exposure, Rx Drugs"]
[15,{"$f":"A103","v":0},{"$f":"IF(C109=\"YES\",1,0)","v":0}]
[16,{"$f":"A110","v":0},{"$f":"IF(C116=\"YES\",1,0)","v":0}]
[17,{"$f":"A117","v":0},{"$f":"IF(C123=\"YES\",1,0)","v":0}]

{"sheet":"Prob_Other","index":9,"n_rows":23,"n_cols":4,"rows_kept":23,"cut":false,"hidden":false,"merged":[[0,0,0,3],[6,3,10,3],[10,0,10,1],[3,0,3,3],[4,0,4,3],[5,0,5,2]]}
[{"$f":"Prob_Alc!A1","v":"UR ABCs: Omaha Collegiate Consortium (OCC)"}]
["OTHER SUBSTANCES: Problem Identification"]
[]
["Step 1: Other Substances Problem Identification"]
["Use of hallucinogens, cocaine, and opioids: College Students"]
["Answer the following questions based on what you see in Figure 1.",null,null,"Notes"]
[1,"Are there any statistically significant differences (either over time or between your area and the statewide average)?"]
["1B","While not statistically significant, do you see a pattern that is of concern?"]
[2,"Over time, how have things changed?"]
[3,"How does your area compare to the state average at the most recent time point? "]
["Based on your assessment of this data, is this a risk or protective factor in your area? "]
[]
[]
[]
[]
[]
[]
[]
[]
["*hide these rows (they are used to populate the LM tab)"]
[1,{"$f":"A5","v":"Use of hallucinogens, cocaine, and opioids: College Students"},{"$f":"IF(C11=\"YES\",1,0)","v":0}]
[2,{"$f":"A12","v":0}]
[null,null,{"$f":"SUM(C21:C22)","v":0}]

{"sheet":"Risk_Other","index":10,"n_rows":230,"n_cols":11,"rows_kept":230,"cut":false,"hidden":true,"merged":[[34,3,38,3],[38,0,38,1],[26,0,26,2],[27,3,31,3],[31,0,31,1],[32,0,32,3],[33,0,33,2],[18,0,18,3],[19,0,19,2],[20,3,24,3],[24,0,24,1],[25,0,25,3],[0,0,0,3],[11,0,11,3],[12,0,12,2],[13,3,17,3],[17,0,17,1],[3,0,3,3],[4,0,4,3],[5,0,5,2],[6,3,10,3],[10,0,10,1]]}
[{"$f":"Prob_Alc!A1","v":"UR ABCs: Omaha Collegiate Consortium (OCC)"}]
["OTHER SUBSTANCES: Risk Factors"]
[]
["Step 2: Other Substances Risk Factor Identification"]
["Parent Communication\n\n\n\nParent Communication about other drugs: Adults"]
["Answer the following questions based on what you see in Figure 1.",null,null,"Notes"]
[1,"Are there any statistically significant differences (either over time or between your area and the statewide average)?"]
["1B","While not statistically significant, do you see a pattern that is of concern?"]
[2,"Over time, how have things changed?"]
[3,"How does your area compare to the state average at the most recent time point? "]
["Based on your assessment of this data, is this a risk factor to address in your area? "]
["Prevention messaging exposure\n\n\n\nPrevention messaging exposure regarding other drugs: Adults"]
["Answer the following questions based on what you see in Figure 2.",null,null,"Notes"]
[1,"Are there any statistically significant differences (either over time or between your area and the statewide average)?"]
["1B","While not statistically significant, do you see a pattern that is of concern?"]
[2,"Over time, how have things changed?"]
[3,"How does your area compare to the state average at the most recent time point? "]
["Based on your assessment of this data, is this a risk factor to address in your area? "]
[]
["Answer the following questions based on what you see in Figure X.",null,null,"Notes"]
[1,"Are there any statistically significant differences (either over time or between your area and the statewide average)?"]
["1B","While not statistically significant, do you see a pattern that is of concern?"]
[2,"Over time, how have things changed?"]
[3,"How does your area compare to the state average at the most recent time point? "]
["Based on your assessment of this data, is this a risk factor in your area? "]
[]
["Answer the following questions based on what you see in Figure X.",null,null,"Notes"]
[1,"Are there any statistically significant differences (either over time or between your area and the statewide average)?"]
["1B","While not statistically significant, do you see a pattern that is of concern?"]
[2,"Over time, how have things changed?"]
[3,"How does your area compare to the state average at the most recent time point? "]
["Based on your assessment of this data, is this a risk factor in your area? "]
[]
["Answer the following questions based on what you see in Figure X.",null,null,"Notes"]
[1,"Are there any statistically significant differences (either over time or between your area and the statewide average)?"]
["1B","While not statistically significant, do you see a pattern that is of concern?"]
[2,"Over time, how have things changed?"]
[3,"How does your area compare to the state average at the most recent time point? "]
["Based on your assessment of this data, is this a risk factor in your area? "]
[]
[]
[]
[]
[]
[]
[]
[]
[]
[]
[]
[]
[]
[]
[]
[]
[]
[]
[]
[]
[]
[]
[]
[]
[]
[]
[]
[]
[]
[]
[]
[]
[]
[]
[]
[]
[]
[]
[]
[]
[]
[]
[]
[]
[]
[]
[]
[]
[]
[]
[]
[]
[]
[]
[]
[]
[]
[]
[]
[]
[]
[]
[]
[]
[]
[]
[]
[]
[]
[]
[]
[]
[]
[]
[]
[]
[]
[]
[]
[]
[]
[]
[]
[]
[]
[]
[]
[]
[]
[]
[]
[]
[]
[]
[]
[]
[]
[]
[]
[]
[]
[]
[]
[]
[]
[]
[]
[]
[]
[]
[]
[]
[]
[]
[]
[]
[]
[]
[]
[]
[]
[]
[]
[]
[]
[]
[]
[]
[]
[]
[]
[]
[]
[]
[]
[]
[]
[]
[]
[]
[]
[]
[]
[]
[]
[]
[]
[]
[]
[]
[]
[]
[]
[]
[]
[]
[]
[]
[]
[]
[]
[]
[]
[]
[]
[]
[]
[]
[]
[]
[]
[]
[]
[]
[]
[]
["*hide these rows (they are used to populate the LM tab)",null,null,"Connect to Strategy Selection","Match with EBP column","Name for Strategy Selection",null,null,"Column Match on EBP Matrix"]
[1,{"$f":"A5","v":"Parent Communication\n\n\n\nParent Communication about other drugs: Adults"},{"$f":"IF(C11=\"YES\",1,0)","v":0},{"$f":"C217","v":0},"Y","Parent Communication",null,"Low perceived risk of harm (think using substances does not present a risk)","X","NA","Perceived risk of harm, Other drugs"]
[2,{"$f":"A12","v":"Prevention messaging exposure\n\n\n\nPrevention messaging exposure regarding other drugs: Adults"},{"$f":"IF(C18=\"YES\",1,0)","v":0},{"$f":"C218","v":0},"AK","Prevention messaging exposure",null,"Parent Communication about substance use (talking to youth about substances)","Y",{"$f":"D217","v":0},"Parent communication, Other drugs"]
[3,{"$f":"A19","v":0},{"$f":"IF(C25=\"YES\",1,0)","v":0},null,null,null,null,"Early initiation of substance use (began using at early age)","Z","NA","Early initiation, Other drugs"]
[4,{"$f":"A26","v":0},{"$f":"IF(C32=\"YES\",1,0)","v":0},null,null,null,null,"Favorable adult attitudes toward youth substance use (parents/adults feel it is okay for youth to use substances)","AA","NA","Adult attitudes, Other drugs"]
[5,{"$f":"A33","v":0},{"$f":"IF(C39=\"YES\",1,0)","v":0},null,null,null,null,"Favorable young adult attitudes toward substance use (18-25 year olds think it is okay for people their age to use substances)","AB","NA","Young adult attitudes, Other drugs"]
[null,null,null,null,null,null,null,"Favorable youth attitudes toward substance use (youth under 19 think it is okay to use substances)","AC","NA","Youth attitudes, Other drugs"]
[null,null,null,null,null,null,null,"Perceived acceptance of substance use among peers (youth believe their peers think using substances is acceptable)","AD","NA","Perceived acceptance, Other drugs"]
[null,null,null,null,null,null,null,"Overall availability of substances (ease of accessing substances)","AE","NA","Availability/ease of access, Other drugs"]
[null,null,null,null,null,null,null,"Social acces - parents providing alcohol to minors","AF","NA","Social access of Other drugs from parents"]
[null,null,null,null,null,null,null,"Social acces - peers providing alcohol to minors","AG","NA","Social access of Other drugs from peers"]
[null,null,null,null,null,null,null,"Social access - favorable attitudes toward adults providing alcohol (think it is okay for those 21+ to provide alcohol to minors)","AH","NA","Social access - Attitudes toward providing Other drugs to minors"]
[null,null,null,null,null,null,null,"Retail Access (stores/bars provide easy access to alcohol)","AI","NA","Retail access, Other drugs"]
[null,null,null,null,null,null,null,"Law enforcement practices (law enforcement does not enforce illegal substance use behaviors)","AJ","NA","Law enforcement practices, Other drugs"]
[null,null,null,null,null,null,null,"Prevention messaging exposure","AK",{"$f":"D218","v":0},"Prevention message exposure, Other drugs"]

{"sheet":"CommAssess","index":11,"n_rows":54,"n_cols":29,"rows_kept":54,"cut":false,"hidden":false,"merged":[[42,12,42,13],[40,12,40,13],[41,4,41,5],[41,6,41,7],[41,8,41,9],[41,10,41,11],[41,12,41,13],[38,12,38,13],[39,4,39,5],[39,6,39,7],[39,8,39,9],[39,10,39,11],[39,12,39,13],[38,8,38,9],[38,10,38,11],[40,4,40,5],[40,6,40,7],[40,8,40,9],[40,10,40,11],[42,4,42,5],[42,6,42,7],[42,8,42,9],[42,10,42,11],[51,1,51,11],[52,1,52,11],[38,2,38,3],[39,2,39,3],[40,2,40,3],[41,2,41,3],[35,0,35,13],[36,1,36,13],[12,10,12,11],[13,10,13,11],[14,10,14,11],[15,10,15,11],[16,10,16,11],[17,10,17,11],[18,10,18,11],[19,10,19,11],[16,12,16,13],[17,12,17,13],[18,12,18,13],[32,2,32,13],[33,2,33,13],[42,2,42,3],[38,4,38,5],[38,6,38,7],[10,0,19,0],[16,4,16,7],[53,1,53,11],[45,1,45,13],[46,1,46,11],[47,1,47,11],[48,1,48,11],[49,1,49,11],[50,1,50,11],[48,12,48,13],[53,12,53,13],[46,12,46,13],[49,12,49,13],[50,12,50,13],[47,12,47,13],[37,4,37,5],[37,6,37,7],[37,8,37,9],[51,12,51,13],[52,12,52,13],[37,10,37,11],[37,12,37,13],[44,0,44,13],[36,0,37,0],[1,0,1,13],[20,1,20,13],[21,1,21,11],[22,1,22,11],[23,1,23,11],[19,12,19,13],[22,12,22,13],[23,12,23,13],[3,0,5,13],[21,12,21,13],[10,10,10,11],[11,10,11,11],[10,1,19,2],[11,8,11,9],[7,0,7,13],[8,0,8,13],[11,12,11,13],[19,4,19,7],[12,12,12,13],[13,12,13,13],[14,12,14,13],[15,12,15,13],[9,12,9,13],[10,12,10,13],[37,14,37,25],[11,4,11,7],[12,4,12,7],[13,4,13,7],[14,4,14,7],[15,4,15,7],[19,8,19,9],[17,8,17,9],[18,8,18,9],[24,1,24,11],[26,1,26,11],[27,1,27,11],[25,1,25,11],[13,8,13,9],[17,4,17,7],[18,4,18,7],[12,8,12,9],[37,2,37,3],[9,14,9,16],[30,2,30,13],[28,1,28,13],[29,2,29,13],[31,2,31,13],[10,4,10,7],[10,8,10,9],[14,8,14,9],[15,8,15,9],[16,8,16,9],[9,10,9,11],[9,8,9,9],[24,12,24,13],[26,12,26,13],[27,12,27,13],[25,12,25,13]]}
[{"$f":"Prob_Alc!A1","v":"UR ABCs: Omaha Collegiate Consortium (OCC)"}]
["Community Assessment"]
[]
["This part of the tool helps coalitions think through community readiness to address problems related to a particular substance. Question sets are grouped under the categories of Resources, Resource Gaps, and Readiness and Collaboration. Some questions are open-ended while others require a response selected from a drop-down menu."]
[]
[]
[]
["For addressing alcohol-related problems, please answer the following questions…"]
["Step 3A: Community Assets or Gaps for Addressing Substance Use/Abuse"]
[null,null,null,null,null,null,null,null,"There is local data showing that this strategy is effective in addressing substance use-related problems",null,"This strategy is evidence-based",null,"There is sufficient funding, staffing, and resources to implement this strategy",null,"Resource Score for each program - hide these columns",null,null,"Sum","Asset or Gap?"]
[1,"Please list existing strategies, programs, practices, and policies that address substance use and abuse prevention in your area AND indicate how much you agree or disagree with the statements in row 10. Note: The strategies you list should include efforts implemented by your coalition as well as efforts outside of your coalition.",null,1,"BMI",null,null,null,"Disagree",null,"Yes",null,"Agree",null,{"$f":"_xlfn.IFS(I11=\"Strongly agree\",2,I11=\"Agree\",1,I11=\"Neutral or Don't know\",0,I11=\"Disagree\",-1,I11=\"Strongly disagree\",-2,I11=\"\",\"\")","v":-1},{"$f":"_xlfn.IFS(K11=\"Yes\",1,K11=\"No\",-1,K11=\"\",\"\")","v":1},{"$f":"_xlfn.IFS(M11=\"Strongly agree\",2,M11=\"Agree\",1,M11=\"Neutral or Don't know\",0,M11=\"Disagree\",-1,M11=\"Strongly disagree\",-2,M11=\"\",\"\")","v":1},{"$f":"SUM(O11:Q11)","v":1},{"$f":"_xlfn.IFS(R11=3,\"Asset\",R11=4,\"Asset\",R11=5,\"Asset\",R11=-3,\"Gap\",R11=-4,\"Gap\",R11=-5,\"Gap\",R11=2,\"\",R11=1,\"\",R11=0,\"\",R11=-1,\"\",R11=-2,\"\",R11=\"\",\"\")","v":""},"3,4,5 = asset, -3,-4,-5 = gap"]
[null,null,null,2,"Y1CBP",null,null,null,"Agree",null,"Yes",null,"Agree",null,{"$f":"_xlfn.IFS(I12=\"Strongly agree\",2,I12=\"Agree\",1,I12=\"Neutral or Don't know\",0,I12=\"Disagree\",-1,I12=\"Strongly disagree\",-2,I12=\"\",\"\")","v":1},{"$f":"_xlfn.IFS(K12=\"Yes\",1,K12=\"No\",-1,K12=\"\",\"\")","v":1},{"$f":"_xlfn.IFS(M12=\"Strongly agree\",2,M12=\"Agree\",1,M12=\"Neutral or Don't know\",0,M12=\"Disagree\",-1,M12=\"Strongly disagree\",-2,M12=\"\",\"\")","v":1},3,{"$f":"_xlfn.IFS(R12=3,\"Asset\",R12=4,\"Asset\",R12=5,\"Asset\",R12=-3,\"Gap\",R12=-4,\"Gap\",R12=-5,\"Gap\",R12=2,\"\",R12=1,\"\",R12=0,\"\",R12=-1,\"\",R12=-2,\"\",R12=\"\",\"\")","v":"Asset"},"3,4,5 = asset, -3,-4,-5 = gap"]
[null,null,null,3,"CBP",null,null,null,"Agree",null,"Yes",null,"Agree",null,{"$f":"_xlfn.IFS(I13=\"Strongly agree\",2,I13=\"Agree\",1,I13=\"Neutral or Don't know\",0,I13=\"Disagree\",-1,I13=\"Strongly disagree\",-2,I13=\"\",\"\")","v":1},{"$f":"_xlfn.IFS(K13=\"Yes\",1,K13=\"No\",-1,K13=\"\",\"\")","v":1},{"$f":"_xlfn.IFS(M13=\"Strongly agree\",2,M13=\"Agree\",1,M13=\"Neutral or Don't know\",0,M13=\"Disagree\",-1,M13=\"Strongly disagree\",-2,M13=\"\",\"\")","v":1},3,{"$f":"_xlfn.IFS(R13=3,\"Asset\",R13=4,\"Asset\",R13=5,\"Asset\",R13=-3,\"Gap\",R13=-4,\"Gap\",R13=-5,\"Gap\",R13=2,\"\",R13=1,\"\",R13=0,\"\",R13=-1,\"\",R13=-2,\"\",R13=\"\",\"\")","v":"Asset"},"3,4,5 = asset, -3,-4,-5 = gap"]
[null,null,null,4,"CRC",null,null,null,"Disagree",null,"No",null,"Strongly disagree",null,{"$f":"_xlfn.IFS(I14=\"Strongly agree\",2,I14=\"Agree\",1,I14=\"Neutral or Don't know\",0,I14=\"Disagree\",-1,I14=\"Strongly disagree\",-2,I14=\"\",\"\")","v":-1},{"$f":"_xlfn.IFS(K14=\"Yes\",1,K14=\"No\",-1,K14=\"\",\"\")","v":-1},{"$f":"_xlfn.IFS(M14=\"Strongly agree\",2,M14=\"Agree\",1,M14=\"Neutral or Don't know\",0,M14=\"Disagree\",-1,M14=\"Strongly disagree\",-2,M14=\"\",\"\")","v":-2},-4,{"$f":"_xlfn.IFS(R14=3,\"Asset\",R14=4,\"Asset\",R14=5,\"Asset\",R14=-3,\"Gap\",R14=-4,\"Gap\",R14=-5,\"Gap\",R14=2,\"\",R14=1,\"\",R14=0,\"\",R14=-1,\"\",R14=-2,\"\",R14=\"\",\"\")","v":"Gap"},"3,4,5 = asset, -3,-4,-5 = gap"]
[null,null,null,5,"Rob Turrisi's Parent Handbook",null,null,null,"Disagree",null,"Yes",null,"Neutral or Don't know",null,{"$f":"_xlfn.IFS(I15=\"Strongly agree\",2,I15=\"Agree\",1,I15=\"Neutral or Don't know\",0,I15=\"Disagree\",-1,I15=\"Strongly disagree\",-2,I15=\"\",\"\")","v":-1},{"$f":"_xlfn.IFS(K15=\"Yes\",1,K15=\"No\",-1,K15=\"\",\"\")","v":1},{"$f":"_xlfn.IFS(M15=\"Strongly agree\",2,M15=\"Agree\",1,M15=\"Neutral or Don't know\",0,M15=\"Disagree\",-1,M15=\"Strongly disagree\",-2,M15=\"\",\"\")","v":0},0,{"$f":"_xlfn.IFS(R15=3,\"Asset\",R15=4,\"Asset\",R15=5,\"Asset\",R15=-3,\"Gap\",R15=-4,\"Gap\",R15=-5,\"Gap\",R15=2,\"\",R15=1,\"\",R15=0,\"\",R15=-1,\"\",R15=-2,\"\",R15=\"\",\"\")","v":""},"3,4,5 = asset, -3,-4,-5 = gap"]
[null,null,null,6,"Social Norms",null,null,null,"Agree",null,"Yes",null,"Agree",null,{"$f":"_xlfn.IFS(I16=\"Strongly agree\",2,I16=\"Agree\",1,I16=\"Neutral or Don't know\",0,I16=\"Disagree\",-1,I16=\"Strongly disagree\",-2,I16=\"\",\"\")","v":1},{"$f":"_xlfn.IFS(K16=\"Yes\",1,K16=\"No\",-1,K16=\"\",\"\")","v":1},{"$f":"_xlfn.IFS(M16=\"Strongly agree\",2,M16=\"Agree\",1,M16=\"Neutral or Don't know\",0,M16=\"Disagree\",-1,M16=\"Strongly disagree\",-2,M16=\"\",\"\")","v":1},3,{"$f":"_xlfn.IFS(R16=3,\"Asset\",R16=4,\"Asset\",R16=5,\"Asset\",R16=-3,\"Gap\",R16=-4,\"Gap\",R16=-5,\"Gap\",R16=2,\"\",R16=1,\"\",R16=0,\"\",R16=-1,\"\",R16=-2,\"\",R16=\"\",\"\")","v":"Asset"},"3,4,5 = asset, -3,-4,-5 = gap"]
[null,null,null,7,"Bystander Intervention",null,null,null,"Agree",null,"No",null,"Strongly disagree",null,{"$f":"_xlfn.IFS(I17=\"Strongly agree\",2,I17=\"Agree\",1,I17=\"Neutral or Don't know\",0,I17=\"Disagree\",-1,I17=\"Strongly disagree\",-2,I17=\"\",\"\")","v":1},{"$f":"_xlfn.IFS(K17=\"Yes\",1,K17=\"No\",-1,K17=\"\",\"\")","v":-1},{"$f":"_xlfn.IFS(M17=\"Strongly agree\",2,M17=\"Agree\",1,M17=\"Neutral or Don't know\",0,M17=\"Disagree\",-1,M17=\"Strongly disagree\",-2,M17=\"\",\"\")","v":-2},-2,{"$f":"_xlfn.IFS(R17=3,\"Asset\",R17=4,\"Asset\",R17=5,\"Asset\",R17=-3,\"Gap\",R17=-4,\"Gap\",R17=-5,\"Gap\",R17=2,\"\",R17=1,\"\",R17=0,\"\",R17=-1,\"\",R17=-2,\"\",R17=\"\",\"\")","v":""},"3,4,5 = asset, -3,-4,-5 = gap"]
[null,null,null,8,"Shot of Reality",null,null,null,"Agree",null,"No",null,"Neutral or Don't know",null,{"$f":"_xlfn.IFS(I18=\"Strongly agree\",2,I18=\"Agree\",1,I18=\"Neutral or Don't know\",0,I18=\"Disagree\",-1,I18=\"Strongly disagree\",-2,I18=\"\",\"\")","v":1},{"$f":"_xlfn.IFS(K18=\"Yes\",1,K18=\"No\",-1,K18=\"\",\"\")","v":-1},{"$f":"_xlfn.IFS(M18=\"Strongly agree\",2,M18=\"Agree\",1,M18=\"Neutral or Don't know\",0,M18=\"Disagree\",-1,M18=\"Strongly disagree\",-2,M18=\"\",\"\")","v":0},0,{"$f":"_xlfn.IFS(R18=3,\"Asset\",R18=4,\"Asset\",R18=5,\"Asset\",R18=-3,\"Gap\",R18=-4,\"Gap\",R18=-5,\"Gap\",R18=2,\"\",R18=1,\"\",R18=0,\"\",R18=-1,\"\",R18=-2,\"\",R18=\"\",\"\")","v":""},"3,4,5 = asset, -3,-4,-5 = gap"]
[null,null,null,9,null,null,null,null,null,null,null,null,null,null,{"$f":"_xlfn.IFS(I19=\"Strongly agree\",2,I19=\"Agree\",1,I19=\"Neutral or Don't know\",0,I19=\"Disagree\",-1,I19=\"Strongly disagree\",-2,I19=\"\",\"\")","v":""},{"$f":"_xlfn.IFS(K19=\"Yes\",1,K19=\"No\",-1,K19=\"\",\"\")","v":""},{"$f":"_xlfn.IFS(M19=\"Strongly agree\",2,M19=\"Agree\",1,M19=\"Neutral or Don't know\",0,M19=\"Disagree\",-1,M19=\"Strongly disagree\",-2,M19=\"\",\"\")","v":""},0,{"$f":"_xlfn.IFS(R19=3,\"Asset\",R19=4,\"Asset\",R19=5,\"Asset\",R19=-3,\"Gap\",R19=-4,\"Gap\",R19=-5,\"Gap\",R19=2,\"\",R19=1,\"\",R19=0,\"\",R19=-1,\"\",R19=-2,\"\",R19=\"\",\"\")","v":""},"3,4,5 = asset, -3,-4,-5 = gap"]
[null,null,null,10,null,null,null,null,null,null,null,null,null,null,{"$f":"_xlfn.IFS(I20=\"Strongly agree\",2,I20=\"Agree\",1,I20=\"Neutral or Don't know\",0,I20=\"Disagree\",-1,I20=\"Strongly disagree\",-2,I20=\"\",\"\")","v":""},{"$f":"_xlfn.IFS(K20=\"Yes\",1,K20=\"No\",-1,K20=\"\",\"\")","v":""},{"$f":"_xlfn.IFS(M20=\"Strongly agree\",2,M20=\"Agree\",1,M20=\"Neutral or Don't know\",0,M20=\"Disagree\",-1,M20=\"Strongly disagree\",-2,M20=\"\",\"\")","v":""},0,{"$f":"_xlfn.IFS(R20=3,\"Asset\",R20=4,\"Asset\",R20=5,\"Asset\",R20=-3,\"Gap\",R20=-4,\"Gap\",R20=-5,\"Gap\",R20=2,\"\",R20=1,\"\",R20=0,\"\",R20=-1,\"\",R20=-2,\"\",R20=\"\",\"\")","v":""},"3,4,5 = asset, -3,-4,-5 = gap"]
[2,"Please rate your level of agreement with the following statements:\nWhen it comes to addressing substance use and abuse-related problems…",null,null,null,null,null,null,null,null,null,null,null,null,null,null,null,null,"Asset or Gap?"]
["2a","There are enough people willing and able to carry out activities needed to address substance use and abuse prevention.",null,null,null,null,null,null,null,null,null,null,"Disagree",null,null,null,null,null,{"$f":"_xlfn.IFS(M22=\"Agree\",\"Asset\",M22=\"Disagree\",\"Gap\",M22=\"Neutral or Don't Know\",\"\",M22=\"\",\"\")","v":"Gap"},"agree = asset, disagree = gap"]
["2b","There is enough time to carry out activities needed to address substance use and abuse prevention.",null,null,null,null,null,null,null,null,null,null,"Disagree",null,null,null,null,null,{"$f":"_xlfn.IFS(M23=\"Agree\",\"Asset\",M23=\"Disagree\",\"Gap\",M23=\"Neutral or Don't Know\",\"\",M23=\"\",\"\")","v":"Gap"},"agree = asset, disagree = gap"]
["2c","There is enough funding or money available to carry out activities needed to address alcohol use and prevention.",null,null,null,null,null,null,null,null,null,null,"Agree",null,null,null,null,null,{"$f":"_xlfn.IFS(M24=\"Agree\",\"Asset\",M24=\"Disagree\",\"Gap\",M24=\"Neutral or Don't Know\",\"\",M24=\"\",\"\")","v":"Asset"},"agree = asset, disagree = gap"]
["2d","There is enough funding or money available to carry out activities needed to address marijuana use and prevention.",null,null,null,null,null,null,null,null,null,null,null,null,null,null,null,null,{"$f":"_xlfn.IFS(M25=\"Agree\",\"Asset\",M25=\"Disagree\",\"Gap\",M25=\"Neutral or Don't Know\",\"\",M25=\"\",\"\")","v":""},"agree = asset, disagree = gap"]
["2e","There is enough funding or money available to carry out activities needed to address prescription drug use and prevention.",null,null,null,null,null,null,null,null,null,null,null,null,null,null,null,null,{"$f":"_xlfn.IFS(M26=\"Agree\",\"Asset\",M26=\"Disagree\",\"Gap\",M26=\"Neutral or Don't Know\",\"\",M26=\"\",\"\")","v":""},"agree = asset, disagree = gap"]
["2f","There is enough funding or money available to carry out activities needed to address tobacco use and prevention.",null,null,null,null,null,null,null,null,null,null,null,null,null,null,null,null,{"$f":"_xlfn.IFS(M27=\"Agree\",\"Asset\",M27=\"Disagree\",\"Gap\",M27=\"Neutral or Don't Know\",\"\",M27=\"\",\"\")","v":""},"agree = asset, disagree = gap"]
["2g","There is enough funding or money available to carry out activities needed to address other drug use and abuse prevention.",null,null,null,null,null,null,null,null,null,null,null,null,null,null,null,null,{"$f":"_xlfn.IFS(M28=\"Agree\",\"Asset\",M28=\"Disagree\",\"Gap\",M28=\"Neutral or Don't Know\",\"\",M28=\"\",\"\")","v":""},"agree = asset, disagree = gap"]
[3,"For each substance, what are the gaps with prevention efforts currently being implemented in your community? Note: Consider gaps in types of programming to effectively addressing substance use and prevention as well as particular groups or populations that are not being reached.",null,null,null,null,null,null,null,null,null,null,null,null,null,null,null,null,"Gap?"]
["3a","Alcohol","Not reaching non-traditional college students",null,null,null,null,null,null,null,null,null,null,null,null,null,null,null,{"$f":"IF(ISTEXT(C30),\"Alcohol-related:\"&\" \"&C30,\"\")","v":"Alcohol-related: Not reaching non-traditional college students"},"any text = gap"]
["3b","Marijuana",null,null,null,null,null,null,null,null,null,null,null,null,null,null,null,null,{"$f":"IF(ISTEXT(C31),\"Marijuana-related:\"&\" \"&C31,\"\")","v":""},"any text = gap"]
["3c","Prescription Drugs",null,null,null,null,null,null,null,null,null,null,null,null,null,null,null,null,{"$f":"IF(ISTEXT(C32),\"Opioid-related:\"&\" \"&C32,\"\")","v":""},"any text = gap"]
["3d","Tobacco",null,null,null,null,null,null,null,null,null,null,null,null,null,null,null,null,{"$f":"IF(ISTEXT(C33),\"Tobacco-related:\"&\" \"&C33,\"\")","v":""},"any text = gap"]
["3e","Other drugs",null,null,null,null,null,null,null,null,null,null,null,null,null,null,null,null,{"$f":"IF(ISTEXT(C34),\"Other drug-related:\"&\" \"&C34,\"\")","v":""},"any text = gap"]
[]
["Step 3B: Community Readiness for Addressing Substance Use and Abuse"]
[4,"Community readiness (or the degree to which a community is ready to take action on an issue) has different levels, ranging from lack of awareness of an issue to having community-wide ownership and motivation to address the issue (https://ctb.ku.edu/en/table-of-contents/overview/models-for-community-health-and-development/community-readiness/main). For each substance, please indicate your coalition's level of agreement to each question."]
[null,null,"Most community members clearly recognize that something must be done to address issues related to this substance in our community.",null,"Most community members are motivated to do something about issues related to this substance in our community.",null,"There are currently activities being implemented in our community to address issues related to this substance.",null,"Local data regarding issues related to this substance within the community are regularly obtained.",null,"Detailed and sophisticated knowledge exists about prevalence, causes, and consequences of use and/or abuse of this substance within our community.",null,"Our community members know about existing local efforts to address substance use-related problems and their effectiveness.",null,"Readiness Score for each substance - hide these columns",null,null,null,null,null,null,null,null,null,null,null,"Sum","Readiness category"]
["4a","Alcohol","Agree",null,"Agree",null,"Strongly agree",null,"Agree",null,"Agree",null,"Agree",null,{"$f":"_xlfn.IFS(C39=\"Strongly agree\",2,C39=\"Agree\",1,C39=\"Neutral or Don't know\",0,C39=\"Disagree\",-1,C39=\"Strongly disagree\",-2,C39=\"\",\"\")","v":1},{"$f":"_xlfn.IFS(D39=\"Strongly agree\",2,D39=\"Agree\",1,D39=\"Neutral or Don't know\",0,D39=\"Disagree\",-1,D39=\"Strongly disagree\",-2,D39=\"\",\"\")","v":""},{"$f":"_xlfn.IFS(E39=\"Strongly agree\",2,E39=\"Agree\",1,E39=\"Neutral or Don't know\",0,E39=\"Disagree\",-1,E39=\"Strongly disagree\",-2,E39=\"\",\"\")","v":1},{"$f":"_xlfn.IFS(F39=\"Strongly agree\",2,F39=\"Agree\",1,F39=\"Neutral or Don't know\",0,F39=\"Disagree\",-1,F39=\"Strongly disagree\",-2,F39=\"\",\"\")","v":""},{"$f":"_xlfn.IFS(G39=\"Strongly agree\",2,G39=\"Agree\",1,G39=\"Neutral or Don't know\",0,G39=\"Disagree\",-1,G39=\"Strongly disagree\",-2,G39=\"\",\"\")","v":2},{"$f":"_xlfn.IFS(H39=\"Strongly agree\",2,H39=\"Agree\",1,H39=\"Neutral or Don't know\",0,H39=\"Disagree\",-1,H39=\"Strongly disagree\",-2,H39=\"\",\"\")","v":""},{"$f":"_xlfn.IFS(I39=\"Strongly agree\",2,I39=\"Agree\",1,I39=\"Neutral or Don't know\",0,I39=\"Disagree\",-1,I39=\"Strongly disagree\",-2,I39=\"\",\"\")","v":1},{"$f":"_xlfn.IFS(J39=\"Strongly agree\",2,J39=\"Agree\",1,J39=\"Neutral or Don't know\",0,J39=\"Disagree\",-1,J39=\"Strongly disagree\",-2,J39=\"\",\"\")","v":""},{"$f":"_xlfn.IFS(K39=\"Strongly agree\",2,K39=\"Agree\",1,K39=\"Neutral or Don't know\",0,K39=\"Disagree\",-1,K39=\"Strongly disagree\",-2,K39=\"\",\"\")","v":1},{"$f":"_xlfn.IFS(L39=\"Strongly agree\",2,L39=\"Agree\",1,L39=\"Neutral or Don't know\",0,L39=\"Disagree\",-1,L39=\"Strongly disagree\",-2,L39=\"\",\"\")","v":""},{"$f":"_xlfn.IFS(M39=\"Strongly agree\",2,M39=\"Agree\",1,M39=\"Neutral or Don't know\",0,M39=\"Disagree\",-1,M39=\"Strongly disagree\",-2,M39=\"\",\"\")","v":1},{"$f":"_xlfn.IFS(N39=\"Strongly agree\",2,N39=\"Agree\",1,N39=\"Neutral or Don't know\",0,N39=\"Disagree\",-1,N39=\"Strongly disagree\",-2,N39=\"\",\"\")","v":""},{"$f":"SUM(O39:Z39)","v":7},{"$f":"_xlfn.IFS(AA39=6,\"High\",AA39=7,\"High\",AA39=8,\"High\",AA39=9,\"High\",AA39=10,\"High\",AA39=11,\"High\",AA39=12,\"High\",AA39=-6,\"Low\",AA39=-7,\"Low\",AA39=-8,\"Low\",AA39=-9,\"Low\",AA39=-10,\"Low\",AA39=-11,\"Low\",AA39=-12,\"Low\",AA39=5,\"Medium\",AA39=4,\"Medium\",AA39=3,\"Medium\",AA39=2,\"Medium\",AA39=1,\"Medium\",AA39=0,\"\",AA39=-1,\"Medium\",AA39=-2,\"Medium\",AA39=-3,\"Medium\",AA39=-4,\"Medium\",AA39=-5,\"Medium\",AA39=\"\",\"\")","v":"High"},"6 to 12 = high, 5 to -5 = medium, -6 to -12 = low, "]
["4b","Marijuana",null,null,null,null,null,null,null,null,null,null,null,null,{"$f":"_xlfn.IFS(C40=\"Strongly agree\",2,C40=\"Agree\",1,C40=\"Neutral or Don't know\",0,C40=\"Disagree\",-1,C40=\"Strongly disagree\",-2,C40=\"\",\"\")","v":""},{"$f":"_xlfn.IFS(D40=\"Strongly agree\",2,D40=\"Agree\",1,D40=\"Neutral or Don't know\",0,D40=\"Disagree\",-1,D40=\"Strongly disagree\",-2,D40=\"\",\"\")","v":""},{"$f":"_xlfn.IFS(E40=\"Strongly agree\",2,E40=\"Agree\",1,E40=\"Neutral or Don't know\",0,E40=\"Disagree\",-1,E40=\"Strongly disagree\",-2,E40=\"\",\"\")","v":""},{"$f":"_xlfn.IFS(F40=\"Strongly agree\",2,F40=\"Agree\",1,F40=\"Neutral or Don't know\",0,F40=\"Disagree\",-1,F40=\"Strongly disagree\",-2,F40=\"\",\"\")","v":""},{"$f":"_xlfn.IFS(G40=\"Strongly agree\",2,G40=\"Agree\",1,G40=\"Neutral or Don't know\",0,G40=\"Disagree\",-1,G40=\"Strongly disagree\",-2,G40=\"\",\"\")","v":""},{"$f":"_xlfn.IFS(H40=\"Strongly agree\",2,H40=\"Agree\",1,H40=\"Neutral or Don't know\",0,H40=\"Disagree\",-1,H40=\"Strongly disagree\",-2,H40=\"\",\"\")","v":""},{"$f":"_xlfn.IFS(I40=\"Strongly agree\",2,I40=\"Agree\",1,I40=\"Neutral or Don't know\",0,I40=\"Disagree\",-1,I40=\"Strongly disagree\",-2,I40=\"\",\"\")","v":""},{"$f":"_xlfn.IFS(J40=\"Strongly agree\",2,J40=\"Agree\",1,J40=\"Neutral or Don't know\",0,J40=\"Disagree\",-1,J40=\"Strongly disagree\",-2,J40=\"\",\"\")","v":""},{"$f":"_xlfn.IFS(K40=\"Strongly agree\",2,K40=\"Agree\",1,K40=\"Neutral or Don't know\",0,K40=\"Disagree\",-1,K40=\"Strongly disagree\",-2,K40=\"\",\"\")","v":""},{"$f":"_xlfn.IFS(L40=\"Strongly agree\",2,L40=\"Agree\",1,L40=\"Neutral or Don't know\",0,L40=\"Disagree\",-1,L40=\"Strongly disagree\",-2,L40=\"\",\"\")","v":""},{"$f":"_xlfn.IFS(M40=\"Strongly agree\",2,M40=\"Agree\",1,M40=\"Neutral or Don't know\",0,M40=\"Disagree\",-1,M40=\"Strongly disagree\",-2,M40=\"\",\"\")","v":""},{"$f":"_xlfn.IFS(N40=\"Strongly agree\",2,N40=\"Agree\",1,N40=\"Neutral or Don't know\",0,N40=\"Disagree\",-1,N40=\"Strongly disagree\",-2,N40=\"\",\"\")","v":""},{"$f":"SUM(O40:Z40)","v":0},{"$f":"_xlfn.IFS(AA40=6,\"High\",AA40=7,\"High\",AA40=8,\"High\",AA40=9,\"High\",AA40=10,\"High\",AA40=11,\"High\",AA40=12,\"High\",AA40=-6,\"Low\",AA40=-7,\"Low\",AA40=-8,\"Low\",AA40=-9,\"Low\",AA40=-10,\"Low\",AA40=-11,\"Low\",AA40=-12,\"Low\",AA40=5,\"Medium\",AA40=4,\"Medium\",AA40=3,\"Medium\",AA40=2,\"Medium\",AA40=1,\"Medium\",AA40=0,\"\",AA40=-1,\"Medium\",AA40=-2,\"Medium\",AA40=-3,\"Medium\",AA40=-4,\"Medium\",AA40=-5,\"Medium\",AA40=\"\",\"\")","v":""},"6 to 12 = high, 5 to -5 = medium, -6 to -12 = low, "]
["4c","Prescription Drugs",null,null,null,null,null,null,null,null,null,null,null,null,{"$f":"_xlfn.IFS(C41=\"Strongly agree\",2,C41=\"Agree\",1,C41=\"Neutral or Don't know\",0,C41=\"Disagree\",-1,C41=\"Strongly disagree\",-2,C41=\"\",\"\")","v":""},{"$f":"_xlfn.IFS(D41=\"Strongly agree\",2,D41=\"Agree\",1,D41=\"Neutral or Don't know\",0,D41=\"Disagree\",-1,D41=\"Strongly disagree\",-2,D41=\"\",\"\")","v":""},{"$f":"_xlfn.IFS(E41=\"Strongly agree\",2,E41=\"Agree\",1,E41=\"Neutral or Don't know\",0,E41=\"Disagree\",-1,E41=\"Strongly disagree\",-2,E41=\"\",\"\")","v":""},{"$f":"_xlfn.IFS(F41=\"Strongly agree\",2,F41=\"Agree\",1,F41=\"Neutral or Don't know\",0,F41=\"Disagree\",-1,F41=\"Strongly disagree\",-2,F41=\"\",\"\")","v":""},{"$f":"_xlfn.IFS(G41=\"Strongly agree\",2,G41=\"Agree\",1,G41=\"Neutral or Don't know\",0,G41=\"Disagree\",-1,G41=\"Strongly disagree\",-2,G41=\"\",\"\")","v":""},{"$f":"_xlfn.IFS(H41=\"Strongly agree\",2,H41=\"Agree\",1,H41=\"Neutral or Don't know\",0,H41=\"Disagree\",-1,H41=\"Strongly disagree\",-2,H41=\"\",\"\")","v":""},{"$f":"_xlfn.IFS(I41=\"Strongly agree\",2,I41=\"Agree\",1,I41=\"Neutral or Don't know\",0,I41=\"Disagree\",-1,I41=\"Strongly disagree\",-2,I41=\"\",\"\")","v":""},{"$f":"_xlfn.IFS(J41=\"Strongly agree\",2,J41=\"Agree\",1,J41=\"Neutral or Don't know\",0,J41=\"Disagree\",-1,J41=\"Strongly disagree\",-2,J41=\"\",\"\")","v":""},{"$f":"_xlfn.IFS(K41=\"Strongly agree\",2,K41=\"Agree\",1,K41=\"Neutral or Don't know\",0,K41=\"Disagree\",-1,K41=\"Strongly disagree\",-2,K41=\"\",\"\")","v":""},{"$f":"_xlfn.IFS(L41=\"Strongly agree\",2,L41=\"Agree\",1,L41=\"Neutral or Don't know\",0,L41=\"Disagree\",-1,L41=\"Strongly disagree\",-2,L41=\"\",\"\")","v":""},{"$f":"_xlfn.IFS(M41=\"Strongly agree\",2,M41=\"Agree\",1,M41=\"Neutral or Don't know\",0,M41=\"Disagree\",-1,M41=\"Strongly disagree\",-2,M41=\"\",\"\")","v":""},{"$f":"_xlfn.IFS(N41=\"Strongly agree\",2,N41=\"Agree\",1,N41=\"Neutral or Don't know\",0,N41=\"Disagree\",-1,N41=\"Strongly disagree\",-2,N41=\"\",\"\")","v":""},{"$f":"SUM(O41:Z41)","v":0},{"$f":"_xlfn.IFS(AA41=6,\"High\",AA41=7,\"High\",AA41=8,\"High\",AA41=9,\"High\",AA41=10,\"High\",AA41=11,\"High\",AA41=12,\"High\",AA41=-6,\"Low\",AA41=-7,\"Low\",AA41=-8,\"Low\",AA41=-9,\"Low\",AA41=-10,\"Low\",AA41=-11,\"Low\",AA41=-12,\"Low\",AA41=5,\"Medium\",AA41=4,\"Medium\",AA41=3,\"Medium\",AA41=2,\"Medium\",AA41=1,\"Medium\",AA41=0,\"\",AA41=-1,\"Medium\",AA41=-2,\"Medium\",AA41=-3,\"Medium\",AA41=-4,\"Medium\",AA41=-5,\"Medium\",AA41=\"\",\"\")","v":""},"6 to 12 = high, 5 to -5 = medium, -6 to -12 = low, "]
["4d","Tobacco",null,null,null,null,null,null,null,null,null,null,null,null,{"$f":"_xlfn.IFS(C42=\"Strongly agree\",2,C42=\"Agree\",1,C42=\"Neutral or Don't know\",0,C42=\"Disagree\",-1,C42=\"Strongly disagree\",-2,C42=\"\",\"\")","v":""},{"$f":"_xlfn.IFS(D42=\"Strongly agree\",2,D42=\"Agree\",1,D42=\"Neutral or Don't know\",0,D42=\"Disagree\",-1,D42=\"Strongly disagree\",-2,D42=\"\",\"\")","v":""},{"$f":"_xlfn.IFS(E42=\"Strongly agree\",2,E42=\"Agree\",1,E42=\"Neutral or Don't know\",0,E42=\"Disagree\",-1,E42=\"Strongly disagree\",-2,E42=\"\",\"\")","v":""},{"$f":"_xlfn.IFS(F42=\"Strongly agree\",2,F42=\"Agree\",1,F42=\"Neutral or Don't know\",0,F42=\"Disagree\",-1,F42=\"Strongly disagree\",-2,F42=\"\",\"\")","v":""},{"$f":"_xlfn.IFS(G42=\"Strongly agree\",2,G42=\"Agree\",1,G42=\"Neutral or Don't know\",0,G42=\"Disagree\",-1,G42=\"Strongly disagree\",-2,G42=\"\",\"\")","v":""},{"$f":"_xlfn.IFS(H42=\"Strongly agree\",2,H42=\"Agree\",1,H42=\"Neutral or Don't know\",0,H42=\"Disagree\",-1,H42=\"Strongly disagree\",-2,H42=\"\",\"\")","v":""},{"$f":"_xlfn.IFS(I42=\"Strongly agree\",2,I42=\"Agree\",1,I42=\"Neutral or Don't know\",0,I42=\"Disagree\",-1,I42=\"Strongly disagree\",-2,I42=\"\",\"\")","v":""},{"$f":"_xlfn.IFS(J42=\"Strongly agree\",2,J42=\"Agree\",1,J42=\"Neutral or Don't know\",0,J42=\"Disagree\",-1,J42=\"Strongly disagree\",-2,J42=\"\",\"\")","v":""},{"$f":"_xlfn.IFS(K42=\"Strongly agree\",2,K42=\"Agree\",1,K42=\"Neutral or Don't know\",0,K42=\"Disagree\",-1,K42=\"Strongly disagree\",-2,K42=\"\",\"\")","v":""},{"$f":"_xlfn.IFS(L42=\"Strongly agree\",2,L42=\"Agree\",1,L42=\"Neutral or Don't know\",0,L42=\"Disagree\",-1,L42=\"Strongly disagree\",-2,L42=\"\",\"\")","v":""},{"$f":"_xlfn.IFS(M42=\"Strongly agree\",2,M42=\"Agree\",1,M42=\"Neutral or Don't know\",0,M42=\"Disagree\",-1,M42=\"Strongly disagree\",-2,M42=\"\",\"\")","v":""},{"$f":"_xlfn.IFS(N42=\"Strongly agree\",2,N42=\"Agree\",1,N42=\"Neutral or Don't know\",0,N42=\"Disagree\",-1,N42=\"Strongly disagree\",-2,N42=\"\",\"\")","v":""},{"$f":"SUM(O42:Z42)","v":0},{"$f":"_xlfn.IFS(AA42=6,\"High\",AA42=7,\"High\",AA42=8,\"High\",AA42=9,\"High\",AA42=10,\"High\",AA42=11,\"High\",AA42=12,\"High\",AA42=-6,\"Low\",AA42=-7,\"Low\",AA42=-8,\"Low\",AA42=-9,\"Low\",AA42=-10,\"Low\",AA42=-11,\"Low\",AA42=-12,\"Low\",AA42=5,\"Medium\",AA42=4,\"Medium\",AA42=3,\"Medium\",AA42=2,\"Medium\",AA42=1,\"Medium\",AA42=0,\"\",AA42=-1,\"Medium\",AA42=-2,\"Medium\",AA42=-3,\"Medium\",AA42=-4,\"Medium\",AA42=-5,\"Medium\",AA42=\"\",\"\")","v":""},"6 to 12 = high, 5 to -5 = medium, -6 to -12 = low, "]
["4e","Other drugs",null,null,null,null,null,null,null,null,null,null,null,null,{"$f":"_xlfn.IFS(C43=\"Strongly agree\",2,C43=\"Agree\",1,C43=\"Neutral or Don't know\",0,C43=\"Disagree\",-1,C43=\"Strongly disagree\",-2,C43=\"\",\"\")","v":""},{"$f":"_xlfn.IFS(D43=\"Strongly agree\",2,D43=\"Agree\",1,D43=\"Neutral or Don't know\",0,D43=\"Disagree\",-1,D43=\"Strongly disagree\",-2,D43=\"\",\"\")","v":""},{"$f":"_xlfn.IFS(E43=\"Strongly agree\",2,E43=\"Agree\",1,E43=\"Neutral or Don't know\",0,E43=\"Disagree\",-1,E43=\"Strongly disagree\",-2,E43=\"\",\"\")","v":""},{"$f":"_xlfn.IFS(F43=\"Strongly agree\",2,F43=\"Agree\",1,F43=\"Neutral or Don't know\",0,F43=\"Disagree\",-1,F43=\"Strongly disagree\",-2,F43=\"\",\"\")","v":""},{"$f":"_xlfn.IFS(G43=\"Strongly agree\",2,G43=\"Agree\",1,G43=\"Neutral or Don't know\",0,G43=\"Disagree\",-1,G43=\"Strongly disagree\",-2,G43=\"\",\"\")","v":""},{"$f":"_xlfn.IFS(H43=\"Strongly agree\",2,H43=\"Agree\",1,H43=\"Neutral or Don't know\",0,H43=\"Disagree\",-1,H43=\"Strongly disagree\",-2,H43=\"\",\"\")","v":""},{"$f":"_xlfn.IFS(I43=\"Strongly agree\",2,I43=\"Agree\",1,I43=\"Neutral or Don't know\",0,I43=\"Disagree\",-1,I43=\"Strongly disagree\",-2,I43=\"\",\"\")","v":""},{"$f":"_xlfn.IFS(J43=\"Strongly agree\",2,J43=\"Agree\",1,J43=\"Neutral or Don't know\",0,J43=\"Disagree\",-1,J43=\"Strongly disagree\",-2,J43=\"\",\"\")","v":""},{"$f":"_xlfn.IFS(K43=\"Strongly agree\",2,K43=\"Agree\",1,K43=\"Neutral or Don't know\",0,K43=\"Disagree\",-1,K43=\"Strongly disagree\",-2,K43=\"\",\"\")","v":""},{"$f":"_xlfn.IFS(L43=\"Strongly agree\",2,L43=\"Agree\",1,L43=\"Neutral or Don't know\",0,L43=\"Disagree\",-1,L43=\"Strongly disagree\",-2,L43=\"\",\"\")","v":""},{"$f":"_xlfn.IFS(M43=\"Strongly agree\",2,M43=\"Agree\",1,M43=\"Neutral or Don't know\",0,M43=\"Disagree\",-1,M43=\"Strongly disagree\",-2,M43=\"\",\"\")","v":""},{"$f":"_xlfn.IFS(N43=\"Strongly agree\",2,N43=\"Agree\",1,N43=\"Neutral or Don't know\",0,N43=\"Disagree\",-1,N43=\"Strongly disagree\",-2,N43=\"\",\"\")","v":""},{"$f":"SUM(O43:Z43)","v":0},{"$f":"_xlfn.IFS(AA43=6,\"High\",AA43=7,\"High\",AA43=8,\"High\",AA43=9,\"High\",AA43=10,\"High\",AA43=11,\"High\",AA43=12,\"High\",AA43=-6,\"Low\",AA43=-7,\"Low\",AA43=-8,\"Low\",AA43=-9,\"Low\",AA43=-10,\"Low\",AA43=-11,\"Low\",AA43=-12,\"Low\",AA43=5,\"Medium\",AA43=4,\"Medium\",AA43=3,\"Medium\",AA43=2,\"Medium\",AA43=1,\"Medium\",AA43=0,\"\",AA43=-1,\"Medium\",AA43=-2,\"Medium\",AA43=-3,\"Medium\",AA43=-4,\"Medium\",AA43=-5,\"Medium\",AA43=\"\",\"\")","v":""},"6 to 12 = high, 5 to -5 = medium, -6 to -12 = low, "]
[]
["Step 3C: Community Collaborations for Addressing Substance Use and Abuse"]
[5,"When it comes to collaborations to address substance use/abuse in your community, please rate the strength of your coalition's collaboration with each of the following organizations/sectors.",null,null,null,null,null,null,null,null,null,null,null,null,null,null,null,null,"Strong or weak collaboration?"]
["5a","Elementary, middle, or high schools",null,null,null,null,null,null,null,null,null,null,"Weak",null,null,null,null,null,{"$f":"_xlfn.IFS(M47=\"Strong\",\"Strong\",M47=\"Weak\",\"Weak\",M47=\"Neutral or Don't Know\",\"\",M47=\"\",\"\")","v":"Weak"}]
["5b","Higher education/colleges",null,null,null,null,null,null,null,null,null,null,"Strong",null,null,null,null,null,{"$f":"_xlfn.IFS(M48=\"Strong\",\"Strong\",M48=\"Weak\",\"Weak\",M48=\"Neutral or Don't Know\",\"\",M48=\"\",\"\")","v":"Strong"}]
["5c","Faith based organizations",null,null,null,null,null,null,null,null,null,null,"Weak",null,null,null,null,null,{"$f":"_xlfn.IFS(M49=\"Strong\",\"Strong\",M49=\"Weak\",\"Weak\",M49=\"Neutral or Don't Know\",\"\",M49=\"\",\"\")","v":"Weak"}]
["5d","Law enforcement",null,null,null,null,null,null,null,null,null,null,"Weak",null,null,null,null,null,{"$f":"_xlfn.IFS(M50=\"Strong\",\"Strong\",M50=\"Weak\",\"Weak\",M50=\"Neutral or Don't Know\",\"\",M50=\"\",\"\")","v":"Weak"}]
["5e","City government",null,null,null,null,null,null,null,null,null,null,"Neutral or Don't know",null,null,null,null,null,{"$f":"_xlfn.IFS(M51=\"Strong\",\"Strong\",M51=\"Weak\",\"Weak\",M51=\"Neutral or Don't Know\",\"\",M51=\"\",\"\")","v":""}]
["5f","Business community",null,null,null,null,null,null,null,null,null,null,"Neutral or Don't know",null,null,null,null,null,{"$f":"_xlfn.IFS(M52=\"Strong\",\"Strong\",M52=\"Weak\",\"Weak\",M52=\"Neutral or Don't Know\",\"\",M52=\"\",\"\")","v":""}]
["5f","Local media (newspaper, radio, TV)",null,null,null,null,null,null,null,null,null,null,"Strong",null,null,null,null,null,{"$f":"_xlfn.IFS(M53=\"Strong\",\"Strong\",M53=\"Weak\",\"Weak\",M53=\"Neutral or Don't Know\",\"\",M53=\"\",\"\")","v":"Strong"}]
["5h","Community organizations",null,null,null,null,null,null,null,null,null,null,"Neutral or Don't know",null,null,null,null,null,{"$f":"_xlfn.IFS(M54=\"Strong\",\"Strong\",M54=\"Weak\",\"Weak\",M54=\"Neutral or Don't Know\",\"\",M54=\"\",\"\")","v":""}]

{"sheet":"StrategySelect","index":12,"n_rows":140,"n_cols":106,"rows_kept":140,"cut":false,"hidden":false,"merged":[[74,7,74,28],[1,0,1,4],[133,0,133,4],[74,0,74,4],[6,0,6,4],[7,0,7,4],[48,0,48,4],[54,0,54,4],[63,0,63,4],[25,0,25,4],[73,15,73,18],[73,7,73,14],[73,19,73,24],[73,25,73,27],[72,84,72,88],[74,29,74,98],[72,94,72,98],[72,89,72,93],[72,29,72,33],[72,34,72,38],[72,39,72,43],[72,44,72,48],[72,49,72,53],[72,54,72,58],[72,59,72,63],[72,64,72,68],[72,69,72,73],[72,74,72,78],[72,79,72,83]]}
[{"$f":"Prob_Alc!A1","v":"UR ABCs: Omaha Collegiate Consortium (OCC)"}]
["Strategy Selection"]
[]
[]
[]
[]
["Community Summary\nConsider these aspects when thinking about the \"fit\" of strategies"]
["                Community Assets"]
[{"$f":"_xlfn.IFS(CommAssess!R11>2,CommAssess!E11,CommAssess!R11<-2,\"\",CommAssess!R11=0,\"\",CommAssess!R11=1,\"\",CommAssess!R11=-1,\"\",CommAssess!R11=2,\"\",CommAssess!R11=-2,\"\")","v":""}]
[{"$f":"_xlfn.IFS(CommAssess!R12>2,CommAssess!E12,CommAssess!R12<-2,\"\",CommAssess!R12=0,\"\",CommAssess!R12=1,\"\",CommAssess!R12=-1,\"\",CommAssess!R12=2,\"\",CommAssess!R12=-2,\"\")","v":"Y1CBP"}]
[{"$f":"_xlfn.IFS(CommAssess!R13>2,CommAssess!E13,CommAssess!R13<-2,\"\",CommAssess!R13=0,\"\",CommAssess!R13=1,\"\",CommAssess!R13=-1,\"\",CommAssess!R13=2,\"\",CommAssess!R13=-2,\"\")","v":"CBP"}]
[{"$f":"_xlfn.IFS(CommAssess!R14>2,CommAssess!E14,CommAssess!R14<-2,\"\",CommAssess!R14=0,\"\",CommAssess!R14=1,\"\",CommAssess!R14=-1,\"\",CommAssess!R14=2,\"\",CommAssess!R14=-2,\"\")","v":""}]
[{"$f":"_xlfn.IFS(CommAssess!R15>2,CommAssess!E15,CommAssess!R15<-2,\"\",CommAssess!R15=0,\"\",CommAssess!R15=1,\"\",CommAssess!R15=-1,\"\",CommAssess!R15=2,\"\",CommAssess!R15=-2,\"\")","v":""}]
[{"$f":"_xlfn.IFS(CommAssess!R16>2,CommAssess!E16,CommAssess!R16<-2,\"\",CommAssess!R16=0,\"\",CommAssess!R16=1,\"\",CommAssess!R16=-1,\"\",CommAssess!R16=2,\"\",CommAssess!R16=-2,\"\")","v":"Social Norms"}]
[{"$f":"_xlfn.IFS(CommAssess!R17>2,CommAssess!E17,CommAssess!R17<-2,\"\",CommAssess!R17=0,\"\",CommAssess!R17=1,\"\",CommAssess!R17=-1,\"\",CommAssess!R17=2,\"\",CommAssess!R17=-2,\"\")","v":""}]
[{"$f":"_xlfn.IFS(CommAssess!R18>2,CommAssess!E18,CommAssess!R18<-2,\"\",CommAssess!R18=0,\"\",CommAssess!R18=1,\"\",CommAssess!R18=-1,\"\",CommAssess!R18=2,\"\",CommAssess!R18=-2,\"\")","v":""}]
[{"$f":"_xlfn.IFS(CommAssess!R19>2,CommAssess!E19,CommAssess!R19<-2,\"\",CommAssess!R19=0,\"\",CommAssess!R19=1,\"\",CommAssess!R19=-1,\"\",CommAssess!R19=2,\"\",CommAssess!R19=-2,\"\")","v":""}]
[{"$f":"_xlfn.IFS(CommAssess!R20>2,CommAssess!E20,CommAssess!R20<-2,\"\",CommAssess!R20=0,\"\",CommAssess!R20=1,\"\",CommAssess!R20=-1,\"\",CommAssess!R20=2,\"\",CommAssess!R20=-2,\"\")","v":""}]
[{"$f":"_xlfn.IFS(CommAssess!M22=\"Agree\",CommAssess!B22,CommAssess!M22=\"\",\"\",CommAssess!M22=\"Disagree\",\"\",CommAssess!M22=\"Neutral or Don't know\",\"\")","v":""}]
[{"$f":"_xlfn.IFS(CommAssess!M23=\"Agree\",CommAssess!B23,CommAssess!M23=\"\",\"\",CommAssess!M23=\"Disagree\",\"\",CommAssess!M23=\"Neutral or Don't know\",\"\")","v":""}]
[{"$f":"_xlfn.IFS(CommAssess!M24=\"Agree\",CommAssess!B24,CommAssess!M24=\"\",\"\",CommAssess!M24=\"Disagree\",\"\",CommAssess!M24=\"Neutral or Don't know\",\"\")","v":"There is enough funding or money available to carry out activities needed to address alcohol use and prevention."}]
[{"$f":"_xlfn.IFS(CommAssess!M25=\"Agree\",CommAssess!B25,CommAssess!M25=\"\",\"\",CommAssess!M25=\"Disagree\",\"\",CommAssess!M25=\"Neutral or Don't know\",\"\")","v":""}]
[{"$f":"_xlfn.IFS(CommAssess!M26=\"Agree\",CommAssess!B26,CommAssess!M26=\"\",\"\",CommAssess!M26=\"Disagree\",\"\",CommAssess!M26=\"Neutral or Don't know\",\"\")","v":""}]
[{"$f":"_xlfn.IFS(CommAssess!M27=\"Agree\",CommAssess!B27,CommAssess!M27=\"\",\"\",CommAssess!M27=\"Disagree\",\"\",CommAssess!M27=\"Neutral or Don't know\",\"\")","v":""}]
[{"$f":"_xlfn.IFS(CommAssess!M28=\"Agree\",CommAssess!B28,CommAssess!M28=\"\",\"\",CommAssess!M28=\"Disagree\",\"\",CommAssess!M28=\"Neutral or Don't know\",\"\")","v":""}]
["                Community Gaps/Limitations"]
[{"$f":"_xlfn.IFS(CommAssess!R11<-2,CommAssess!E11,CommAssess!R11>2,\"\",CommAssess!R11=0,\"\",CommAssess!R11=1,\"\",CommAssess!R11=-1,\"\",CommAssess!R11=2,\"\",CommAssess!R11=-2,\"\")","v":""}]
[{"$f":"_xlfn.IFS(CommAssess!R12<-2,CommAssess!E12,CommAssess!R12>2,\"\",CommAssess!R12=0,\"\",CommAssess!R12=1,\"\",CommAssess!R12=-1,\"\",CommAssess!R12=2,\"\",CommAssess!R12=-2,\"\")","v":""}]
[{"$f":"_xlfn.IFS(CommAssess!R13<-2,CommAssess!E13,CommAssess!R13>2,\"\",CommAssess!R13=0,\"\",CommAssess!R13=1,\"\",CommAssess!R13=-1,\"\",CommAssess!R13=2,\"\",CommAssess!R13=-2,\"\")","v":""}]
[{"$f":"_xlfn.IFS(CommAssess!R14<-2,CommAssess!E14,CommAssess!R14>2,\"\",CommAssess!R14=0,\"\",CommAssess!R14=1,\"\",CommAssess!R14=-1,\"\",CommAssess!R14=2,\"\",CommAssess!R14=-2,\"\")","v":"CRC"}]
[{"$f":"_xlfn.IFS(CommAssess!R15<-2,CommAssess!E15,CommAssess!R15>2,\"\",CommAssess!R15=0,\"\",CommAssess!R15=1,\"\",CommAssess!R15=-1,\"\",CommAssess!R15=2,\"\",CommAssess!R15=-2,\"\")","v":""}]
[{"$f":"_xlfn.IFS(CommAssess!R16<-2,CommAssess!E16,CommAssess!R16>2,\"\",CommAssess!R16=0,\"\",CommAssess!R16=1,\"\",CommAssess!R16=-1,\"\",CommAssess!R16=2,\"\",CommAssess!R16=-2,\"\")","v":""}]
[{"$f":"_xlfn.IFS(CommAssess!R17<-2,CommAssess!E17,CommAssess!R17>2,\"\",CommAssess!R17=0,\"\",CommAssess!R17=1,\"\",CommAssess!R17=-1,\"\",CommAssess!R17=2,\"\",CommAssess!R17=-2,\"\")","v":""}]
[{"$f":"_xlfn.IFS(CommAssess!R18<-2,CommAssess!E18,CommAssess!R18>2,\"\",CommAssess!R18=0,\"\",CommAssess!R18=1,\"\",CommAssess!R18=-1,\"\",CommAssess!R18=2,\"\",CommAssess!R18=-2,\"\")","v":""}]
[{"$f":"_xlfn.IFS(CommAssess!R19<-2,CommAssess!E19,CommAssess!R19>2,\"\",CommAssess!R19=0,\"\",CommAssess!R19=1,\"\",CommAssess!R19=-1,\"\",CommAssess!R19=2,\"\",CommAssess!R19=-2,\"\")","v":""}]
[{"$f":"_xlfn.IFS(CommAssess!R20<-2,CommAssess!E20,CommAssess!R20>2,\"\",CommAssess!R20=0,\"\",CommAssess!R20=1,\"\",CommAssess!R20=-1,\"\",CommAssess!R20=2,\"\",CommAssess!R20=-2,\"\")","v":""}]
[{"$f":"_xlfn.IFS(CommAssess!M22=\"Agree\",\"\",CommAssess!M22=\"\",\"\",CommAssess!M22=\"Disagree\",\"There are not enough people willing and able to carry out activities needed to address substance use and abuse prevention\",CommAssess!M22=\"Neutral or Don't know\",\"\")","v":"There are not enough people willing and able to carry out activities needed to address substance use and abuse prevention"}]
[{"$f":"_xlfn.IFS(CommAssess!M23=\"Agree\",\"\",CommAssess!M23=\"\",\"\",CommAssess!M23=\"Disagree\",\"There is not enough time to carry out activities needed to address substance use and abuse prevention\",CommAssess!M23=\"Neutral or Don't know\",\"\")","v":"There is not enough time to carry out activities needed to address substance use and abuse prevention"}]
[{"$f":"_xlfn.IFS(CommAssess!M24=\"Agree\",\"\",CommAssess!M24=\"\",\"\",CommAssess!M24=\"Disagree\",\"There is not enough funding or money available to carry out activities needed to address alcohol use and prevention\",CommAssess!M24=\"Neutral or Don't know\",\"\")","v":""}]
[{"$f":"_xlfn.IFS(CommAssess!M25=\"Agree\",\"\",CommAssess!M25=\"\",\"\",CommAssess!M25=\"Disagree\",\"There is not enough funding or money available to carry out activities needed to address marijuana use and prevention\",CommAssess!M25=\"Neutral or Don't know\",\"\")","v":""}]
[{"$f":"_xlfn.IFS(CommAssess!M26=\"Agree\",\"\",CommAssess!M26=\"\",\"\",CommAssess!M26=\"Disagree\",\"There is not enough funding or money available to carry out activities needed to address opioid use and prevention\",CommAssess!M26=\"Neutral or Don't know\",\"\")","v":""}]
[{"$f":"_xlfn.IFS(CommAssess!M27=\"Agree\",\"\",CommAssess!M27=\"\",\"\",CommAssess!M27=\"Disagree\",\"There is not enough funding or money available to carry out activities needed to address tobacco use and prevention\",CommAssess!M27=\"Neutral or Don't know\",\"\")","v":""}]
[{"$f":"_xlfn.IFS(CommAssess!M28=\"Agree\",\"\",CommAssess!M28=\"\",\"\",CommAssess!M28=\"Disagree\",\"There is not enough funding or money available to carry out activities needed to address other drug use and prevention\",CommAssess!M28=\"Neutral or Don't know\",\"\")","v":""}]
[{"$f":"IF(ISTEXT(CommAssess!C30),\"Alcohol-related:\"&\" \"&CommAssess!C30,\"\")","v":"Alcohol-related: Not reaching non-traditional college students"}]
[{"$f":"IF(ISTEXT(CommAssess!C31),\"Marijuana-related:\"&\" \"&CommAssess!C31,\"\")","v":""}]
[{"$f":"IF(ISTEXT(CommAssess!C32),\"Opioid-related:\"&\" \"&CommAssess!C32,\"\")","v":""}]
[{"$f":"IF(ISTEXT(CommAssess!C33),\"Tobacco-related:\"&\" \"&CommAssess!C33,\"\")","v":""}]
[{"$f":"IF(ISTEXT(CommAssess!C34),\"Other drug-related:\"&\" \"&CommAssess!C34,\"\")","v":""}]
["                Community Readiness (see background section for details on how this was calculated)"]
[{"$f":"IF(OR(B50=\"High\",B50=\"Medium\",B50=\"Low\"),\"Alcohol\",\"\")","v":"Alcohol"},{"$f":"CommAssess!AB39","v":"High"}]
[{"$f":"IF(OR(B51=\"High\",B51=\"Medium\",B51=\"Low\"),\"Marijuana\",\"\")","v":""},{"$f":"CommAssess!AB40","v":""}]
[{"$f":"IF(OR(B52=\"High\",B52=\"Medium\",B52=\"Low\"),\"Prescription Drugs\",\"\")","v":""},{"$f":"CommAssess!AB41","v":""}]
[{"$f":"IF(OR(B53=\"High\",B53=\"Medium\",B53=\"Low\"),\"Tobacco\",\"\")","v":""},{"$f":"CommAssess!AB42","v":""}]
[{"$f":"IF(OR(B54=\"High\",B54=\"Medium\",B54=\"Low\"),\"Other Drugs\",\"\")","v":""},{"$f":"CommAssess!AB43","v":""}]
["         Strong Collaborations"]
[{"$f":"_xlfn.IFS(CommAssess!M47=\"Strong\",CommAssess!B47,CommAssess!M47=\"Weak\",\"\",CommAssess!M47=\"Neutral or Don't know\",\"\",CommAssess!M47=\"\",\"\")","v":""}]
[{"$f":"_xlfn.IFS(CommAssess!M48=\"Strong\",CommAssess!B48,CommAssess!M48=\"Weak\",\"\",CommAssess!M48=\"Neutral or Don't know\",\"\",CommAssess!M48=\"\",\"\")","v":"Higher education/colleges"}]
[{"$f":"_xlfn.IFS(CommAssess!M49=\"Strong\",CommAssess!B49,CommAssess!M49=\"Weak\",\"\",CommAssess!M49=\"Neutral or Don't know\",\"\",CommAssess!M49=\"\",\"\")","v":""}]
[{"$f":"_xlfn.IFS(CommAssess!M50=\"Strong\",CommAssess!B50,CommAssess!M50=\"Weak\",\"\",CommAssess!M50=\"Neutral or Don't know\",\"\",CommAssess!M50=\"\",\"\")","v":""}]
[{"$f":"_xlfn.IFS(CommAssess!M51=\"Strong\",CommAssess!B51,CommAssess!M51=\"Weak\",\"\",CommAssess!M51=\"Neutral or Don't know\",\"\",CommAssess!M51=\"\",\"\")","v":""}]
[{"$f":"_xlfn.IFS(CommAssess!M52=\"Strong\",CommAssess!B52,CommAssess!M52=\"Weak\",\"\",CommAssess!M52=\"Neutral or Don't know\",\"\",CommAssess!M52=\"\",\"\")","v":""}]
[{"$f":"_xlfn.IFS(CommAssess!M53=\"Strong\",CommAssess!B53,CommAssess!M53=\"Weak\",\"\",CommAssess!M53=\"Neutral or Don't know\",\"\",CommAssess!M53=\"\",\"\")","v":"Local media (newspaper, radio, TV)"}]
[{"$f":"_xlfn.IFS(CommAssess!M54=\"Strong\",CommAssess!B54,CommAssess!M54=\"Weak\",\"\",CommAssess!M54=\"Neutral or Don't know\",\"\",CommAssess!M54=\"\",\"\")","v":""}]
["         Weak Collaborations"]
[{"$f":"_xlfn.IFS(CommAssess!M47=\"Weak\",CommAssess!B47,CommAssess!M47=\"Strong\",\"\",CommAssess!M47=\"Neutral or Don't know\",\"\",CommAssess!M47=\"\",\"\")","v":"Elementary, middle, or high schools"}]
[{"$f":"_xlfn.IFS(CommAssess!M48=\"Weak\",CommAssess!B48,CommAssess!M48=\"Strong\",\"\",CommAssess!M48=\"Neutral or Don't know\",\"\",CommAssess!M48=\"\",\"\")","v":""}]
[{"$f":"_xlfn.IFS(CommAssess!M49=\"Weak\",CommAssess!B49,CommAssess!M49=\"Strong\",\"\",CommAssess!M49=\"Neutral or Don't know\",\"\",CommAssess!M49=\"\",\"\")","v":"Faith based organizations"}]
[{"$f":"_xlfn.IFS(CommAssess!M50=\"Weak\",CommAssess!B50,CommAssess!M50=\"Strong\",\"\",CommAssess!M50=\"Neutral or Don't know\",\"\",CommAssess!M50=\"\",\"\")","v":"Law enforcement"}]
[{"$f":"_xlfn.IFS(CommAssess!M51=\"Weak\",CommAssess!B51,CommAssess!M51=\"Strong\",\"\",CommAssess!M51=\"Neutral or Don't know\",\"\",CommAssess!M51=\"\",\"\")","v":""}]
[{"$f":"_xlfn.IFS(CommAssess!M52=\"Weak\",CommAssess!B52,CommAssess!M52=\"Strong\",\"\",CommAssess!M52=\"Neutral or Don't know\",\"\",CommAssess!M52=\"\",\"\")","v":""}]
[{"$f":"_xlfn.IFS(CommAssess!M53=\"Weak\",CommAssess!B53,CommAssess!M53=\"Strong\",\"\",CommAssess!M53=\"Neutral or Don't know\",\"\",CommAssess!M53=\"\",\"\")","v":""}]
[{"$f":"_xlfn.IFS(CommAssess!M54=\"Weak\",CommAssess!B54,CommAssess!M54=\"Strong\",\"\",CommAssess!M54=\"Neutral or Don't know\",\"\",CommAssess!M54=\"\",\"\")","v":""}]
[null,null,null,null,null,null,"Hide these columns",null,null,null,null,null,null,null,null,null,null,null,null,null,null,null,null,null,null,null,null,null,null,{"$f":"EBP_Matrix!Y1","v":"Low perceived risk of harm (think using substances does not present a risk)"},null,null,null,null,{"$f":"EBP_Matrix!AD1","v":"Parent Communication about substance use (talking to youth about substances)"},null,null,null,null,{"$f":"EBP_Matrix!AI1","v":"Early initiation of substance use (began using at early age)"},null,null,null,null,{"$f":"EBP_Matrix!AN1","v":"Favorable adult attitudes toward youth substance use (parents/adults feel it is okay for youth to use substances)"},null,null,null,null,{"$f":"EBP_Matrix!AS1","v":"Favorable young adult attitudes toward substance use (18-25 year olds think it is okay for people their age to use substances)"},null,null,null,null,{"$f":"EBP_Matrix!AX1","v":"Favorable youth attitudes toward substance use (youth under 19 think it is okay to use substances)"},null,null,null,null,{"$f":"EBP_Matrix!BC1","v":"Perceived acceptance of substance use among peers (youth believe their peers think using substances is acceptable)"},null,null,null,null,{"$f":"EBP_Matrix!BH1","v":"Overall availability of substances (ease of accessing substances)"},null,null,null,null,{"$f":"EBP_Matrix!BM1","v":"Social acces - parents providing alcohol to minors"},null,null,null,null,{"$f":"EBP_Matrix!BR1","v":"Social acces - peers providing alcohol to minors"},null,null,null,null,{"$f":"EBP_Matrix!BW1","v":"Social access - favorable attitudes toward adults providing alcohol (think it is okay for those 21+ to provide alcohol to minors)"},null,null,null,null,{"$f":"EBP_Matrix!CB1","v":"Retail Access (stores/bars provide easy access to alcohol)"},null,null,null,null,{"$f":"EBP_Matrix!CG1","v":"Law enforcement practices (law enforcement does not enforce illegal substance use behaviors)"},null,null,null,null,{"$f":"EBP_Matrix!CL1","v":"Prevention messaging exposure"}]
[null,null,null,null,null,null,"EBP","T",null,null,null,null,null,null,null,"U",null,null,null,"V",null,null,null,null,null,"W",null,null,"X",{"$f":"EBP_Matrix!Y2","v":"Alcohol"},{"$f":"EBP_Matrix!Z2","v":"Marijuana"},{"$f":"EBP_Matrix!AA2","v":"Tobacco"},{"$f":"EBP_Matrix!AB2","v":"Prescription Drugs"},{"$f":"EBP_Matrix!AC2","v":"Other drugs (stimulants, opioids, etc.)"},{"$f":"EBP_Matrix!AD2","v":"Alcohol"},{"$f":"EBP_Matrix!AE2","v":"Marijuana"},{"$f":"EBP_Matrix!AF2","v":"Tobacco"},{"$f":"EBP_Matrix!AG2","v":"Prescription Drugs"},{"$f":"EBP_Matrix!AH2","v":"Other drugs (stimulants, opioids, etc.)"},{"$f":"EBP_Matrix!AI2","v":"Alcohol"},{"$f":"EBP_Matrix!AJ2","v":"Marijuana"},{"$f":"EBP_Matrix!AK2","v":"Tobacco"},{"$f":"EBP_Matrix!AL2","v":"Prescription Drugs"},{"$f":"EBP_Matrix!AM2","v":"Other drugs (stimulants, opioids, etc.)"},{"$f":"EBP_Matrix!AN2","v":"Alcohol"},{"$f":"EBP_Matrix!AO2","v":"Marijuana"},{"$f":"EBP_Matrix!AP2","v":"Tobacco"},{"$f":"EBP_Matrix!AQ2","v":"Prescription Drugs"},{"$f":"EBP_Matrix!AR2","v":"Other drugs (stimulants, opioids, etc.)"},{"$f":"EBP_Matrix!AS2","v":"Alcohol"},{"$f":"EBP_Matrix!AT2","v":"Marijuana"},{"$f":"EBP_Matrix!AU2","v":"Tobacco"},{"$f":"EBP_Matrix!AV2","v":"Prescription Drugs"},{"$f":"EBP_Matrix!AW2","v":"Other drugs (stimulants, opioids, etc.)"},{"$f":"EBP_Matrix!AX2","v":"Alcohol"},{"$f":"EBP_Matrix!AY2","v":"Marijuana"},{"$f":"EBP_Matrix!AZ2","v":"Tobacco"},{"$f":"EBP_Matrix!BA2","v":"Prescription Drugs"},{"$f":"EBP_Matrix!BB2","v":"Other drugs (stimulants, opioids, etc.)"},{"$f":"EBP_Matrix!BC2","v":"Alcohol"},{"$f":"EBP_Matrix!BD2","v":"Marijuana"},{"$f":"EBP_Matrix!BE2","v":"Tobacco"},{"$f":"EBP_Matrix!BF2","v":"Prescription Drugs"},{"$f":"EBP_Matrix!BG2","v":"Other drugs (stimulants, opioids, etc.)"},{"$f":"EBP_Matrix!BH2","v":"Alcohol"},{"$f":"EBP_Matrix!BI2","v":"Marijuana"},{"$f":"EBP_Matrix!BJ2","v":"Tobacco"},{"$f":"EBP_Matrix!BK2","v":"Prescription Drugs"},{"$f":"EBP_Matrix!BL2","v":"Other drugs (stimulants, opioids, etc.)"},{"$f":"EBP_Matrix!BM2","v":"Alcohol"},{"$f":"EBP_Matrix!BN2","v":"Marijuana"},{"$f":"EBP_Matrix!BO2","v":"Tobacco"},{"$f":"EBP_Matrix!BP2","v":"Prescription Drugs"},{"$f":"EBP_Matrix!BQ2","v":"Other drugs (stimulants, opioids, etc.)"},{"$f":"EBP_Matrix!BR2","v":"Alcohol"},{"$f":"EBP_Matrix!BS2","v":"Marijuana"},{"$f":"EBP_Matrix!BT2","v":"Tobacco"},{"$f":"EBP_Matrix!BU2","v":"Prescription Drugs"},{"$f":"EBP_Matrix!BV2","v":"Other drugs (stimulants, opioids, etc.)"},{"$f":"EBP_Matrix!BW2","v":"Alcohol"},{"$f":"EBP_Matrix!BX2","v":"Marijuana"},{"$f":"EBP_Matrix!BY2","v":"Tobacco"},{"$f":"EBP_Matrix!BZ2","v":"Prescription Drugs"},{"$f":"EBP_Matrix!CA2","v":"Other drugs (stimulants, opioids, etc.)"},{"$f":"EBP_Matrix!CB2","v":"Alcohol"},{"$f":"EBP_Matrix!CC2","v":"Marijuana"},{"$f":"EBP_Matrix!CD2","v":"Tobacco"},{"$f":"EBP_Matrix!CE2","v":"Prescription Drugs"},{"$f":"EBP_Matrix!CF2","v":"Other drugs (stimulants, opioids, etc.)"},{"$f":"EBP_Matrix!CG2","v":"Alcohol"},{"$f":"EBP_Matrix!CH2","v":"Marijuana"},{"$f":"EBP_Matrix!CI2","v":"Tobacco"},{"$f":"EBP_Matrix!CJ2","v":"Prescription Drugs"},{"$f":"EBP_Matrix!CK2","v":"Other drugs (stimulants, opioids, etc.)"},{"$f":"EBP_Matrix!CL2","v":"Alcohol"},{"$f":"EBP_Matrix!CM2","v":"Marijuana"},{"$f":"EBP_Matrix!CN2","v":"Tobacco"},{"$f":"EBP_Matrix!CO2","v":"Prescription Drugs"},{"$f":"EBP_Matrix!CP2","v":"Other drugs (stimulants, opioids, etc.)"}]
["Step 4: Strategy Selection for Addressing Substance Use and Abuse",null,null,null,null,null,null,"Substance-Specific Problems Selected from Previous Tabs",null,null,null,null,null,null,null,null,null,null,null,null,null,null,null,null,null,null,null,null,null,"Risk's selected from previous tabs"]
["Suggested Strategies:","Using the information above, do you have the resources, readiness, and collaborations to implement this strategy?","Do you want to implement this strategy as part of your workplan?",null,"If so, how many will you reach with this strategy?",null,null,{"$f":"IF(Prob_Alc!C63=1,Prob_Alc!B63,0)","v":0},{"$f":"IF(Prob_Alc!C64=1,Prob_Alc!B64,0)","v":0},{"$f":"IF(Prob_Alc!C65=1,Prob_Alc!B65,0)","v":0},{"$f":"IF(Prob_Alc!C66=1,Prob_Alc!B66,0)","v":0},{"$f":"IF(Prob_Alc!C67=1,Prob_Alc!B67,0)","v":0},{"$f":"IF(Prob_Alc!C68=1,Prob_Alc!B68,0)","v":0},{"$f":"IF(Prob_Alc!C69=1,Prob_Alc!B69,0)","v":0},{"$f":"IF(Prob_Alc!C70=1,Prob_Alc!B70,0)","v":0},{"$f":"IF(Prob_Marj!C63=1,Prob_Marj!B63,0)","v":0},{"$f":"IF(Prob_Marj!C64=1,Prob_Marj!B64,0)","v":0},{"$f":"IF(Prob_Marj!C65=1,Prob_Marj!B65,0)","v":0},{"$f":"IF(Prob_Marj!C66=1,Prob_Marj!B66,0)","v":0},{"$f":"IF(Prob_Tob!C63=1,Prob_Tob!B63,0)","v":0},{"$f":"IF(Prob_Tob!C64=1,Prob_Tob!B64,0)","v":0},{"$f":"IF(Prob_Tob!C65=1,Prob_Tob!B65,0)","v":0},{"$f":"IF(Prob_Tob!C66=1,Prob_Tob!B66,0)","v":0},{"$f":"IF(Prob_Tob!C67=1,Prob_Tob!B67,0)","v":0},{"$f":"IF(Prob_Tob!C69=1,Prob_Tob!B69,0)","v":0},{"$f":"IF(Prob_RxDrugs!C28=1,Prob_RxDrugs!B28,0)","v":0},{"$f":"IF(Prob_RxDrugs!C29=1,Prob_RxDrugs!B29,0)","v":0},{"$f":"IF(Prob_RxDrugs!C30=1,Prob_RxDrugs!B30,0)","v":0},{"$f":"IF(Prob_Other!C21=1,Prob_Other!B21,0)","v":0},{"$f":"IF(Risk_Alc!J259=1,Risk_Alc!K259,0)","v":0},{"$f":"IF(Risk_Marj!J224=1,Risk_Marj!K224,0)","v":0},{"$f":"IF(Risk_Tob!J217=1,Risk_Tob!K217,0)","v":0},{"$f":"IF(Risk_RxDrugs!J217=1,Risk_RxDrugs!K217,0)","v":0},{"$f":"IF(Risk_Other!J217=1,Risk_Other!K217,0)","v":0},{"$f":"IF(Risk_Alc!J260=1,Risk_Alc!K260,0)","v":0},{"$f":"IF(Risk_Marj!J225=1,Risk_Marj!K225,0)","v":0},{"$f":"IF(Risk_Tob!J218=1,Risk_Tob!K218,0)","v":0},{"$f":"IF(Risk_RxDrugs!J218=1,Risk_RxDrugs!K218,0)","v":0},{"$f":"IF(Risk_Other!J218=1,Risk_Other!K218,0)","v":0},{"$f":"IF(Risk_Alc!J261=1,Risk_Alc!K261,0)","v":0},{"$f":"IF(Risk_Marj!J226=1,Risk_Marj!K226,0)","v":0},{"$f":"IF(Risk_Tob!J219=1,Risk_Tob!K219,0)","v":0},{"$f":"IF(Risk_RxDrugs!J219=1,Risk_RxDrugs!K219,0)","v":0},{"$f":"IF(Risk_Other!J219=1,Risk_Other!K219,0)","v":0},{"$f":"IF(Risk_Alc!J262=1,Risk_Alc!K262,0)","v":0},{"$f":"IF(Risk_Marj!J227=1,Risk_Marj!K227,0)","v":0},{"$f":"IF(Risk_Tob!J220=1,Risk_Tob!K220,0)","v":0},{"$f":"IF(Risk_RxDrugs!J220=1,Risk_RxDrugs!K220,0)","v":0},{"$f":"IF(Risk_Other!J220=1,Risk_Other!K220,0)","v":0},{"$f":"IF(Risk_Alc!J263=1,Risk_Alc!K263,0)","v":0},{"$f":"IF(Risk_Marj!J228=1,Risk_Marj!K228,0)","v":0},{"$f":"IF(Risk_Tob!J221=1,Risk_Tob!K221,0)","v":0},{"$f":"IF(Risk_RxDrugs!J221=1,Risk_RxDrugs!K221,0)","v":0},{"$f":"IF(Risk_Other!J221=1,Risk_Other!K221,0)","v":0},{"$f":"IF(Risk_Alc!J264=1,Risk_Alc!K264,0)","v":0},{"$f":"IF(Risk_Marj!J229=1,Risk_Marj!K229,0)","v":0},{"$f":"IF(Risk_Tob!J222=1,Risk_Tob!K222,0)","v":0},{"$f":"IF(Risk_RxDrugs!J222=1,Risk_RxDrugs!K222,0)","v":0},{"$f":"IF(Risk_Other!J222=1,Risk_Other!K222,0)","v":0},{"$f":"IF(Risk_Alc!J265=1,Risk_Alc!K265,0)","v":0},{"$f":"IF(Risk_Marj!J230=1,Risk_Marj!K230,0)","v":0},{"$f":"IF(Risk_Tob!J223=1,Risk_Tob!K223,0)","v":0},{"$f":"IF(Risk_RxDrugs!J223=1,Risk_RxDrugs!K223,0)","v":0},{"$f":"IF(Risk_Other!J223=1,Risk_Other!K223,0)","v":0},{"$f":"IF(Risk_Alc!J266=1,Risk_Alc!K266,0)","v":0},{"$f":"IF(Risk_Marj!J231=1,Risk_Marj!K231,0)","v":0},{"$f":"IF(Risk_Tob!J224=1,Risk_Tob!K224,0)","v":0},{"$f":"IF(Risk_RxDrugs!J224=1,Risk_RxDrugs!K224,0)","v":0},{"$f":"IF(Risk_Other!J224=1,Risk_Other!K224,0)","v":0},{"$f":"IF(Risk_Alc!J267=1,Risk_Alc!K267,0)","v":0},{"$f":"IF(Risk_Marj!J232=1,Risk_Marj!K232,0)","v":0},{"$f":"IF(Risk_Tob!J225=1,Risk_Tob!K225,0)","v":0},{"$f":"IF(Risk_RxDrugs!J225=1,Risk_RxDrugs!K225,0)","v":0},{"$f":"IF(Risk_Other!J225=1,Risk_Other!K225,0)","v":0},{"$f":"IF(Risk_Alc!J268=1,Risk_Alc!K268,0)","v":0},{"$f":"IF(Risk_Marj!J233=1,Risk_Marj!K233,0)","v":0},{"$f":"IF(Risk_Tob!J226=1,Risk_Tob!K226,0)","v":0},{"$f":"IF(Risk_RxDrugs!J226=1,Risk_RxDrugs!K226,0)","v":0},{"$f":"IF(Risk_Other!J226=1,Risk_Other!K226,0)","v":0},{"$f":"IF(Risk_Alc!J269=1,Risk_Alc!K269,0)","v":0},{"$f":"IF(Risk_Marj!J234=1,Risk_Marj!K234,0)","v":0},{"$f":"IF(Risk_Tob!J227=1,Risk_Tob!K227,0)","v":0},{"$f":"IF(Risk_RxDrugs!J227=1,Risk_RxDrugs!K227,0)","v":0},{"$f":"IF(Risk_Other!J227=1,Risk_Other!K227,0)","v":0},{"$f":"IF(Risk_Alc!J270=1,Risk_Alc!K270,0)","v":0},{"$f":"IF(Risk_Marj!J235=1,Risk_Marj!K235,0)","v":0},{"$f":"IF(Risk_Tob!J228=1,Risk_Tob!K228,0)","v":0},{"$f":"IF(Risk_RxDrugs!J228=1,Risk_RxDrugs!K228,0)","v":0},{"$f":"IF(Risk_Other!J228=1,Risk_Other!K228,0)","v":0},{"$f":"IF(Risk_Alc!J271=1,Risk_Alc!K271,0)","v":0},{"$f":"IF(Risk_Marj!J236=1,Risk_Marj!K236,0)","v":0},{"$f":"IF(Risk_Tob!J229=1,Risk_Tob!K229,0)","v":0},{"$f":"IF(Risk_RxDrugs!J229=1,Risk_RxDrugs!K229,0)","v":0},{"$f":"IF(Risk_Other!J229=1,Risk_Other!K229,0)","v":0},{"$f":"IF(Risk_Alc!J272=1,Risk_Alc!K272,0)","v":0},{"$f":"IF(Risk_Marj!J237=1,Risk_Marj!K237,0)","v":0},{"$f":"IF(Risk_Tob!J230=1,Risk_Tob!K230,0)","v":0},{"$f":"IF(Risk_RxDrugs!J230=1,Risk_RxDrugs!K230,0)","v":0},{"$f":"IF(Risk_Other!J230=1,Risk_Other!K230,0)","v":0},"Sum of alcohol Risks","Sum of marijuana Risks","Sum of tobacco Risks","Sum of Rx Drugs Risks","Sum of other drug Risks","Sum of all Risks","Show Strategy?"]
[{"$f":"EBP_Matrix!A3","v":"3rd Millennium Classrooms"},null,null,{"$f":"IF(C77=\"Yes\",1,0)","v":0},null,null,null,{"$f":"IF(AND(EBP_Matrix!T3=1,Prob_Alc!C71>0),1,0)","v":0},{"$f":"IF(AND(EBP_Matrix!T3=1,Prob_Alc!C71>0),1,0)","v":0},{"$f":"IF(AND(EBP_Matrix!T3=1,Prob_Alc!C71>0),1,0)","v":0},{"$f":"IF(AND(EBP_Matrix!T3=1,Prob_Alc!C71>0),1,0)","v":0},{"$f":"IF(AND(EBP_Matrix!T3=1,Prob_Alc!C71>0),1,0)","v":0},{"$f":"IF(AND(EBP_Matrix!T3=1,Prob_Alc!C71>0),1,0)","v":0},{"$f":"IF(AND(EBP_Matrix!T3=1,Prob_Alc!C71>0),1,0)","v":0},{"$f":"IF(AND(EBP_Matrix!T3=1,Prob_Alc!C71>0),1,0)","v":0},{"$f":"IF(AND(EBP_Matrix!U3=1,Prob_Marj!C71>0),1,0)","v":0},{"$f":"IF(AND(EBP_Matrix!U3=1,Prob_Marj!C71>0),1,0)","v":0},{"$f":"IF(AND(EBP_Matrix!U3=1,Prob_Marj!C71>0),1,0)","v":0},{"$f":"IF(AND(EBP_Matrix!U3=1,Prob_Marj!C71>0),1,0)","v":0},{"$f":"IF(AND(EBP_Matrix!V3=1,Prob_Tob!C71>0),1,0)","v":0},{"$f":"IF(AND(EBP_Matrix!V3=1,Prob_Tob!C71>0),1,0)","v":0},{"$f":"IF(AND(EBP_Matrix!V3=1,Prob_Tob!C71>0),1,0)","v":0},{"$f":"IF(AND(EBP_Matrix!V3=1,Prob_Tob!C71>0),1,0)","v":0},{"$f":"IF(AND(EBP_Matrix!V3=1,Prob_Tob!C71>0),1,0)","v":0},{"$f":"IF(AND(EBP_Matrix!V3=1,Prob_Tob!C71>0),1,0)","v":0},{"$f":"IF(AND(EBP_Matrix!W3=1,Prob_RxDrugs!C31>0),1,0)","v":0},{"$f":"IF(AND(EBP_Matrix!W3=1,Prob_RxDrugs!C31>0),1,0)","v":0},null,{"$f":"IF(AND(EBP_Matrix!X3=1,Prob_Other!C21>0),1,0)","v":0},{"$f":"IF(AND(EBP_Matrix!Y3=1,Risk_Alc!$J$259=1),1,0)","v":0},{"$f":"IF(AND(EBP_Matrix!Z3=1,Risk_Marj!$J$224=1),1,0)","v":0},{"$f":"IF(AND(EBP_Matrix!AA3=1,Risk_Tob!$J$217=1),1,0)","v":0},{"$f":"IF(AND(EBP_Matrix!AB3=1,Risk_RxDrugs!$J$217=1),1,0)","v":0},{"$f":"IF(AND(EBP_Matrix!AC3=1,Risk_Other!$J$217=1),1,0)","v":0},{"$f":"IF(AND(EBP_Matrix!AD3=1,Risk_Alc!$J$260=1),1,0)","v":0},{"$f":"IF(AND(EBP_Matrix!AE3=1,Risk_Marj!$J$225=1),1,0)","v":0},{"$f":"IF(AND(EBP_Matrix!AF3=1,Risk_Tob!$J$218=1),1,0)","v":0},{"$f":"IF(AND(EBP_Matrix!AG3=1,Risk_RxDrugs!$J$218=1),1,0)","v":0},{"$f":"IF(AND(EBP_Matrix!AH3=1,Risk_Other!$J$218=1),1,0)","v":0},{"$f":"IF(AND(EBP_Matrix!AI3=1,Risk_Alc!$J$261=1),1,0)","v":0},{"$f":"IF(AND(EBP_Matrix!AJ3=1,Risk_Marj!$J$226=1),1,0)","v":0},{"$f":"IF(AND(EBP_Matrix!AK3=1,Risk_Tob!$J$219=1),1,0)","v":0},{"$f":"IF(AND(EBP_Matrix!AL3=1,Risk_RxDrugs!$J$219=1),1,0)","v":0},{"$f":"IF(AND(EBP_Matrix!AM3=1,Risk_Other!$J$219=1),1,0)","v":0},{"$f":"IF(AND(EBP_Matrix!AN3=1,Risk_Alc!$J$262=1),1,0)","v":0},{"$f":"IF(AND(EBP_Matrix!AO3=1,Risk_Marj!$J$227=1),1,0)","v":0},{"$f":"IF(AND(EBP_Matrix!AP3=1,Risk_Tob!$J$220=1),1,0)","v":0},{"$f":"IF(AND(EBP_Matrix!AQ3=1,Risk_RxDrugs!$J$220=1),1,0)","v":0},{"$f":"IF(AND(EBP_Matrix!AR3=1,Risk_Other!$J$220=1),1,0)","v":0},{"$f":"IF(AND(EBP_Matrix!AS3=1,Risk_Alc!$J$263=1),1,0)","v":0},{"$f":"IF(AND(EBP_Matrix!AT3=1,Risk_Marj!$J$228=1),1,0)","v":0},{"$f":"IF(AND(EBP_Matrix!AU3=1,Risk_Tob!$J$221=1),1,0)","v":0},{"$f":"IF(AND(EBP_Matrix!AV3=1,Risk_RxDrugs!$J$221=1),1,0)","v":0},{"$f":"IF(AND(EBP_Matrix!AW3=1,Risk_Other!$J$221=1),1,0)","v":0},{"$f":"IF(AND(EBP_Matrix!AX3=1,Risk_Alc!$J$264=1),1,0)","v":0},{"$f":"IF(AND(EBP_Matrix!AY3=1,Risk_Marj!$J$229=1),1,0)","v":0},{"$f":"IF(AND(EBP_Matrix!AZ3=1,Risk_Tob!$J$222=1),1,0)","v":0},{"$f":"IF(AND(EBP_Matrix!BA3=1,Risk_RxDrugs!$J$222=1),1,0)","v":0},{"$f":"IF(AND(EBP_Matrix!BB3=1,Risk_Other!$J$222=1),1,0)","v":0},{"$f":"IF(AND(EBP_Matrix!BC3=1,Risk_Alc!$J$265=1),1,0)","v":0},{"$f":"IF(AND(EBP_Matrix!BD3=1,Risk_Marj!$J$230=1),1,0)","v":0},{"$f":"IF(AND(EBP_Matrix!BE3=1,Risk_Tob!$J$223=1),1,0)","v":0},{"$f":"IF(AND(EBP_Matrix!BF3=1,Risk_RxDrugs!$J$223=1),1,0)","v":0},{"$f":"IF(AND(EBP_Matrix!BG3=1,Risk_Other!$J$223=1),1,0)","v":0},{"$f":"IF(AND(EBP_Matrix!BH3=1,Risk_Alc!$J$266=1),1,0)","v":0},{"$f":"IF(AND(EBP_Matrix!BI3=1,Risk_Marj!$J$231=1),1,0)","v":0},{"$f":"IF(AND(EBP_Matrix!BJ3=1,Risk_Tob!$J$224=1),1,0)","v":0},{"$f":"IF(AND(EBP_Matrix!BK3=1,Risk_RxDrugs!$J$224=1),1,0)","v":0},{"$f":"IF(AND(EBP_Matrix!BL3=1,Risk_Other!$J$224=1),1,0)","v":0},{"$f":"IF(AND(EBP_Matrix!BM3=1,Risk_Alc!$J$267=1),1,0)","v":0},{"$f":"IF(AND(EBP_Matrix!BN3=1,Risk_Marj!$J$232=1),1,0)","v":0},{"$f":"IF(AND(EBP_Matrix!BO3=1,Risk_Tob!$J$225=1),1,0)","v":0},{"$f":"IF(AND(EBP_Matrix!BP3=1,Risk_RxDrugs!$J$225=1),1,0)","v":0},{"$f":"IF(AND(EBP_Matrix!BQ3=1,Risk_Other!$J$225=1),1,0)","v":0},{"$f":"IF(AND(EBP_Matrix!BR3=1,Risk_Alc!$J$268=1),1,0)","v":0},{"$f":"IF(AND(EBP_Matrix!BS3=1,Risk_Marj!$J$233=1),1,0)","v":0},{"$f":"IF(AND(EBP_Matrix!BT3=1,Risk_Tob!$J$226=1),1,0)","v":0},{"$f":"IF(AND(EBP_Matrix!BU3=1,Risk_RxDrugs!$J$226=1),1,0)","v":0},{"$f":"IF(AND(EBP_Matrix!BV3=1,Risk_Other!$J$226=1),1,0)","v":0},{"$f":"IF(AND(EBP_Matrix!BW3=1,Risk_Alc!$J$269=1),1,0)","v":0},{"$f":"IF(AND(EBP_Matrix!BX3=1,Risk_Marj!$J$234=1),1,0)","v":0},{"$f":"IF(AND(EBP_Matrix!BY3=1,Risk_Tob!$J$227=1),1,0)","v":0},{"$f":"IF(AND(EBP_Matrix!BZ3=1,Risk_RxDrugs!$J$227=1),1,0)","v":0},{"$f":"IF(AND(EBP_Matrix!CA3=1,Risk_Other!$J$227=1),1,0)","v":0},{"$f":"IF(AND(EBP_Matrix!CB3=1,Risk_Alc!$J$270=1),1,0)","v":0},{"$f":"IF(AND(EBP_Matrix!CC3=1,Risk_Marj!$J$235=1),1,0)","v":0},{"$f":"IF(AND(EBP_Matrix!CD3=1,Risk_Tob!$J$228=1),1,0)","v":0},{"$f":"IF(AND(EBP_Matrix!CE3=1,Risk_RxDrugs!$J$228=1),1,0)","v":0},{"$f":"IF(AND(EBP_Matrix!CF3=1,Risk_Other!$J$228=1),1,0)","v":0},{"$f":"IF(AND(EBP_Matrix!CG3=1,Risk_Alc!$J$271=1),1,0)","v":0},{"$f":"IF(AND(EBP_Matrix!CH3=1,Risk_Marj!$J$236=1),1,0)","v":0},{"$f":"IF(AND(EBP_Matrix!CI3=1,Risk_Tob!$J$229=1),1,0)","v":0},{"$f":"IF(AND(EBP_Matrix!CJ3=1,Risk_RxDrugs!$J$229=1),1,0)","v":0},{"$f":"IF(AND(EBP_Matrix!CK3=1,Risk_Other!$J$229=1),1,0)","v":0},{"$f":"IF(AND(EBP_Matrix!CL3=1,Risk_Alc!$J$272=1),1,0)","v":0},{"$f":"IF(AND(EBP_Matrix!CM3=1,Risk_Marj!$J$237=1),1,0)","v":0},{"$f":"IF(AND(EBP_Matrix!CN3=1,Risk_Tob!$J$230=1),1,0)","v":0},{"$f":"IF(AND(EBP_Matrix!CO3=1,Risk_RxDrugs!$J$230=1),1,0)","v":0},{"$f":"IF(AND(EBP_Matrix!CP3=1,Risk_Other!$J$230=1),1,0)","v":0},{"$f":"SUM(AD77,AI77,AN77,AS77,AX77,BC77,BH77,BM77,BR77,BW77,CB77,CG77,CL77,CQ77)","v":0},{"$f":"SUM(AE77,AJ77,AO77,AT77,AY77,BD77,BI77,BN77,BS77,BX77,CC77,CH77,CM77,CR77)","v":0},{"$f":"SUM(AF77,AK77,AP77,AU77,AZ77,BE77,BJ77,BO77,BT77,BY77,CD77,CI77,CN77,CS77)","v":0},{"$f":"SUM(AG77,AL77,AQ77,AV77,BA77,BF77,BK77,BP77,BU77,BZ77,CE77,CJ77,CO77,CT77)","v":0},{"$f":"SUM(AH77,AM77,AR77,AW77,BB77,BG77,BL77,BQ77,BV77,CA77,CF77,CK77,CP77,CU77)","v":0},{"$f":"SUM(CV77:CZ77)","v":0},{"$f":"IF(DA77>0,1,0)","v":0}]
[{"$f":"EBP_Matrix!A4","v":"Across Ages"},null,null,{"$f":"IF(C78=\"Yes\",1,0)","v":0},null,null,null,{"$f":"IF(AND(EBP_Matrix!T4=1,Prob_Alc!C71>0),1,0)","v":0},{"$f":"IF(AND(EBP_Matrix!T4=1,Prob_Alc!C71>0),1,0)","v":0},{"$f":"IF(AND(EBP_Matrix!T4=1,Prob_Alc!C71>0),1,0)","v":0},{"$f":"IF(AND(EBP_Matrix!T4=1,Prob_Alc!C71>0),1,0)","v":0},{"$f":"IF(AND(EBP_Matrix!T4=1,Prob_Alc!C71>0),1,0)","v":0},{"$f":"IF(AND(EBP_Matrix!T4=1,Prob_Alc!C71>0),1,0)","v":0},{"$f":"IF(AND(EBP_Matrix!T4=1,Prob_Alc!C71>0),1,0)","v":0},{"$f":"IF(AND(EBP_Matrix!T4=1,Prob_Alc!C71>0),1,0)","v":0},{"$f":"IF(AND(EBP_Matrix!U4=1,Prob_Marj!C71>0),1,0)","v":0},{"$f":"IF(AND(EBP_Matrix!U4=1,Prob_Marj!C71>0),1,0)","v":0},{"$f":"IF(AND(EBP_Matrix!U4=1,Prob_Marj!C71>0),1,0)","v":0},{"$f":"IF(AND(EBP_Matrix!U4=1,Prob_Marj!C71>0),1,0)","v":0},{"$f":"IF(AND(EBP_Matrix!V4=1,Prob_Tob!C71>0),1,0)","v":0},{"$f":"IF(AND(EBP_Matrix!V4=1,Prob_Tob!C71>0),1,0)","v":0},{"$f":"IF(AND(EBP_Matrix!V4=1,Prob_Tob!C71>0),1,0)","v":0},{"$f":"IF(AND(EBP_Matrix!V4=1,Prob_Tob!C71>0),1,0)","v":0},{"$f":"IF(AND(EBP_Matrix!V4=1,Prob_Tob!C71>0),1,0)","v":0},{"$f":"IF(AND(EBP_Matrix!V4=1,Prob_Tob!C71>0),1,0)","v":0},{"$f":"IF(AND(EBP_Matrix!W4=1,Prob_RxDrugs!C31>0),1,0)","v":0},{"$f":"IF(AND(EBP_Matrix!W4=1,Prob_RxDrugs!C31>0),1,0)","v":0},null,{"$f":"IF(AND(EBP_Matrix!X4=1,Prob_Other!C21>0),1,0)","v":0},{"$f":"IF(AND(EBP_Matrix!Y4=1,Risk_Alc!$J$259=1),1,0)","v":0},{"$f":"IF(AND(EBP_Matrix!Z4=1,Risk_Marj!$J$224=1),1,0)","v":0},{"$f":"IF(AND(EBP_Matrix!AA4=1,Risk_Tob!$J$217=1),1,0)","v":0},{"$f":"IF(AND(EBP_Matrix!AB4=1,Risk_RxDrugs!$J$217=1),1,0)","v":0},{"$f":"IF(AND(EBP_Matrix!AC4=1,Risk_Other!$J$217=1),1,0)","v":0},{"$f":"IF(AND(EBP_Matrix!AD4=1,Risk_Alc!$J$260=1),1,0)","v":0},{"$f":"IF(AND(EBP_Matrix!AE4=1,Risk_Marj!$J$225=1),1,0)","v":0},{"$f":"IF(AND(EBP_Matrix!AF4=1,Risk_Tob!$J$218=1),1,0)","v":0},{"$f":"IF(AND(EBP_Matrix!AG4=1,Risk_RxDrugs!$J$218=1),1,0)","v":0},{"$f":"IF(AND(EBP_Matrix!AH4=1,Risk_Other!$J$218=1),1,0)","v":0},{"$f":"IF(AND(EBP_Matrix!AI4=1,Risk_Alc!$J$261=1),1,0)","v":0},{"$f":"IF(AND(EBP_Matrix!AJ4=1,Risk_Marj!$J$226=1),1,0)","v":0},{"$f":"IF(AND(EBP_Matrix!AK4=1,Risk_Tob!$J$219=1),1,0)","v":0},{"$f":"IF(AND(EBP_Matrix!AL4=1,Risk_RxDrugs!$J$219=1),1,0)","v":0},{"$f":"IF(AND(EBP_Matrix!AM4=1,Risk_Other!$J$219=1),1,0)","v":0},{"$f":"IF(AND(EBP_Matrix!AN4=1,Risk_Alc!$J$262=1),1,0)","v":0},{"$f":"IF(AND(EBP_Matrix!AO4=1,Risk_Marj!$J$227=1),1,0)","v":0},{"$f":"IF(AND(EBP_Matrix!AP4=1,Risk_Tob!$J$220=1),1,0)","v":0},{"$f":"IF(AND(EBP_Matrix!AQ4=1,Risk_RxDrugs!$J$220=1),1,0)","v":0},{"$f":"IF(AND(EBP_Matrix!AR4=1,Risk_Other!$J$220=1),1,0)","v":0},{"$f":"IF(AND(EBP_Matrix!AS4=1,Risk_Alc!$J$263=1),1,0)","v":0},{"$f":"IF(AND(EBP_Matrix!AT4=1,Risk_Marj!$J$228=1),1,0)","v":0},{"$f":"IF(AND(EBP_Matrix!AU4=1,Risk_Tob!$J$221=1),1,0)","v":0},{"$f":"IF(AND(EBP_Matrix!AV4=1,Risk_RxDrugs!$J$221=1),1,0)","v":0},{"$f":"IF(AND(EBP_Matrix!AW4=1,Risk_Other!$J$221=1),1,0)","v":0},{"$f":"IF(AND(EBP_Matrix!AX4=1,Risk_Alc!$J$264=1),1,0)","v":0},{"$f":"IF(AND(EBP_Matrix!AY4=1,Risk_Marj!$J$229=1),1,0)","v":0},{"$f":"IF(AND(EBP_Matrix!AZ4=1,Risk_Tob!$J$222=1),1,0)","v":0},{"$f":"IF(AND(EBP_Matrix!BA4=1,Risk_RxDrugs!$J$222=1),1,0)","v":0},{"$f":"IF(AND(EBP_Matrix!BB4=1,Risk_Other!$J$222=1),1,0)","v":0},{"$f":"IF(AND(EBP_Matrix!BC4=1,Risk_Alc!$J$265=1),1,0)","v":0},{"$f":"IF(AND(EBP_Matrix!BD4=1,Risk_Marj!$J$230=1),1,0)","v":0},{"$f":"IF(AND(EBP_Matrix!BE4=1,Risk_Tob!$J$223=1),1,0)","v":0},{"$f":"IF(AND(EBP_Matrix!BF4=1,Risk_RxDrugs!$J$223=1),1,0)","v":0},{"$f":"IF(AND(EBP_Matrix!BG4=1,Risk_Other!$J$223=1),1,0)","v":0},{"$f":"IF(AND(EBP_Matrix!BH4=1,Risk_Alc!$J$266=1),1,0)","v":0},{"$f":"IF(AND(EBP_Matrix!BI4=1,Risk_Marj!$J$231=1),1,0)","v":0},{"$f":"IF(AND(EBP_Matrix!BJ4=1,Risk_Tob!$J$224=1),1,0)","v":0},{"$f":"IF(AND(EBP_Matrix!BK4=1,Risk_RxDrugs!$J$224=1),1,0)","v":0},{"$f":"IF(AND(EBP_Matrix!BL4=1,Risk_Other!$J$224=1),1,0)","v":0},{"$f":"IF(AND(EBP_Matrix!BM4=1,Risk_Alc!$J$267=1),1,0)","v":0},{"$f":"IF(AND(EBP_Matrix!BN4=1,Risk_Marj!$J$232=1),1,0)","v":0},{"$f":"IF(AND(EBP_Matrix!BO4=1,Risk_Tob!$J$225=1),1,0)","v":0},{"$f":"IF(AND(EBP_Matrix!BP4=1,Risk_RxDrugs!$J$225=1),1,0)","v":0},{"$f":"IF(AND(EBP_Matrix!BQ4=1,Risk_Other!$J$225=1),1,0)","v":0},{"$f":"IF(AND(EBP_Matrix!BR4=1,Risk_Alc!$J$268=1),1,0)","v":0},{"$f":"IF(AND(EBP_Matrix!BS4=1,Risk_Marj!$J$233=1),1,0)","v":0},{"$f":"IF(AND(EBP_Matrix!BT4=1,Risk_Tob!$J$226=1),1,0)","v":0},{"$f":"IF(AND(EBP_Matrix!BU4=1,Risk_RxDrugs!$J$226=1),1,0)","v":0},{"$f":"IF(AND(EBP_Matrix!BV4=1,Risk_Other!$J$226=1),1,0)","v":0},{"$f":"IF(AND(EBP_Matrix!BW4=1,Risk_Alc!$J$269=1),1,0)","v":0},{"$f":"IF(AND(EBP_Matrix!BX4=1,Risk_Marj!$J$234=1),1,0)","v":0},{"$f":"IF(AND(EBP_Matrix!BY4=1,Risk_Tob!$J$227=1),1,0)","v":0},{"$f":"IF(AND(EBP_Matrix!BZ4=1,Risk_RxDrugs!$J$227=1),1,0)","v":0},{"$f":"IF(AND(EBP_Matrix!CA4=1,Risk_Other!$J$227=1),1,0)","v":0},{"$f":"IF(AND(EBP_Matrix!CB4=1,Risk_Alc!$J$270=1),1,0)","v":0},{"$f":"IF(AND(EBP_Matrix!CC4=1,Risk_Marj!$J$235=1),1,0)","v":0},{"$f":"IF(AND(EBP_Matrix!CD4=1,Risk_Tob!$J$228=1),1,0)","v":0},{"$f":"IF(AND(EBP_Matrix!CE4=1,Risk_RxDrugs!$J$228=1),1,0)","v":0},{"$f":"IF(AND(EBP_Matrix!CF4=1,Risk_Other!$J$228=1),1,0)","v":0},{"$f":"IF(AND(EBP_Matrix!CG4=1,Risk_Alc!$J$271=1),1,0)","v":0},{"$f":"IF(AND(EBP_Matrix!CH4=1,Risk_Marj!$J$236=1),1,0)","v":0},{"$f":"IF(AND(EBP_Matrix!CI4=1,Risk_Tob!$J$229=1),1,0)","v":0},{"$f":"IF(AND(EBP_Matrix!CJ4=1,Risk_RxDrugs!$J$229=1),1,0)","v":0},{"$f":"IF(AND(EBP_Matrix!CK4=1,Risk_Other!$J$229=1),1,0)","v":0},{"$f":"IF(AND(EBP_Matrix!CL4=1,Risk_Alc!$J$272=1),1,0)","v":0},{"$f":"IF(AND(EBP_Matrix!CM4=1,Risk_Marj!$J$237=1),1,0)","v":0},{"$f":"IF(AND(EBP_Matrix!CN4=1,Risk_Tob!$J$230=1),1,0)","v":0},{"$f":"IF(AND(EBP_Matrix!CO4=1,Risk_RxDrugs!$J$230=1),1,0)","v":0},{"$f":"IF(AND(EBP_Matrix!CP4=1,Risk_Other!$J$230=1),1,0)","v":0},{"$f":"SUM(AD78,AI78,AN78,AS78,AX78,BC78,BH78,BM78,BR78,BW78,CB78,CG78,CL78,CQ78)","v":0},{"$f":"SUM(AE78,AJ78,AO78,AT78,AY78,BD78,BI78,BN78,BS78,BX78,CC78,CH78,CM78,CR78)","v":0},{"$f":"SUM(AF78,AK78,AP78,AU78,AZ78,BE78,BJ78,BO78,BT78,BY78,CD78,CI78,CN78,CS78)","v":0},{"$f":"SUM(AG78,AL78,AQ78,AV78,BA78,BF78,BK78,BP78,BU78,BZ78,CE78,CJ78,CO78,CT78)","v":0},{"$f":"SUM(AH78,AM78,AR78,AW78,BB78,BG78,BL78,BQ78,BV78,CA78,CF78,CK78,CP78,CU78)","v":0},{"$f":"SUM(CV78:CZ78)","v":0},{"$f":"IF(DA78>0,1,0)","v":0}]
[{"$f":"EBP_Matrix!A5","v":"Alcohol Compliance Checks"},null,null,0,null,null,null,{"$f":"IF(AND(EBP_Matrix!T5=1,Prob_Alc!C71>0),1,0)","v":0},{"$f":"IF(AND(EBP_Matrix!T5=1,Prob_Alc!C71>0),1,0)","v":0},{"$f":"IF(AND(EBP_Matrix!T5=1,Prob_Alc!C71>0),1,0)","v":0},{"$f":"IF(AND(EBP_Matrix!T5=1,Prob_Alc!C71>0),1,0)","v":0},{"$f":"IF(AND(EBP_Matrix!T5=1,Prob_Alc!C71>0),1,0)","v":0},{"$f":"IF(AND(EBP_Matrix!T5=1,Prob_Alc!C71>0),1,0)","v":0},{"$f":"IF(AND(EBP_Matrix!T5=1,Prob_Alc!C71>0),1,0)","v":0},{"$f":"IF(AND(EBP_Matrix!T5=1,Prob_Alc!C71>0),1,0)","v":0},{"$f":"IF(AND(EBP_Matrix!U5=1,Prob_Marj!C71>0),1,0)","v":0},{"$f":"IF(AND(EBP_Matrix!U5=1,Prob_Marj!C71>0),1,0)","v":0},{"$f":"IF(AND(EBP_Matrix!U5=1,Prob_Marj!C71>0),1,0)","v":0},{"$f":"IF(AND(EBP_Matrix!U5=1,Prob_Marj!C71>0),1,0)","v":0},{"$f":"IF(AND(EBP_Matrix!V5=1,Prob_Tob!C71>0),1,0)","v":0},{"$f":"IF(AND(EBP_Matrix!V5=1,Prob_Tob!C71>0),1,0)","v":0},{"$f":"IF(AND(EBP_Matrix!V5=1,Prob_Tob!C71>0),1,0)","v":0},{"$f":"IF(AND(EBP_Matrix!V5=1,Prob_Tob!C71>0),1,0)","v":0},{"$f":"IF(AND(EBP_Matrix!V5=1,Prob_Tob!C71>0),1,0)","v":0},{"$f":"IF(AND(EBP_Matrix!V5=1,Prob_Tob!C71>0),1,0)","v":0},{"$f":"IF(AND(EBP_Matrix!W5=1,Prob_RxDrugs!C31>0),1,0)","v":0},{"$f":"IF(AND(EBP_Matrix!W5=1,Prob_RxDrugs!C31>0),1,0)","v":0},null,{"$f":"IF(AND(EBP_Matrix!X5=1,Prob_Other!C21>0),1,0)","v":0},{"$f":"IF(AND(EBP_Matrix!Y5=1,Risk_Alc!$J$259=1),1,0)","v":0},{"$f":"IF(AND(EBP_Matrix!Z5=1,Risk_Marj!$J$224=1),1,0)","v":0},{"$f":"IF(AND(EBP_Matrix!AA5=1,Risk_Tob!$J$217=1),1,0)","v":0},{"$f":"IF(AND(EBP_Matrix!AB5=1,Risk_RxDrugs!$J$217=1),1,0)","v":0},{"$f":"IF(AND(EBP_Matrix!AC5=1,Risk_Other!$J$217=1),1,0)","v":0},{"$f":"IF(AND(EBP_Matrix!AD5=1,Risk_Alc!$J$260=1),1,0)","v":0},{"$f":"IF(AND(EBP_Matrix!AE5=1,Risk_Marj!$J$225=1),1,0)","v":0},{"$f":"IF(AND(EBP_Matrix!AF5=1,Risk_Tob!$J$218=1),1,0)","v":0},{"$f":"IF(AND(EBP_Matrix!AG5=1,Risk_RxDrugs!$J$218=1),1,0)","v":0},{"$f":"IF(AND(EBP_Matrix!AH5=1,Risk_Other!$J$218=1),1,0)","v":0},{"$f":"IF(AND(EBP_Matrix!AI5=1,Risk_Alc!$J$261=1),1,0)","v":0},{"$f":"IF(AND(EBP_Matrix!AJ5=1,Risk_Marj!$J$226=1),1,0)","v":0},{"$f":"IF(AND(EBP_Matrix!AK5=1,Risk_Tob!$J$219=1),1,0)","v":0},{"$f":"IF(AND(EBP_Matrix!AL5=1,Risk_RxDrugs!$J$219=1),1,0)","v":0},{"$f":"IF(AND(EBP_Matrix!AM5=1,Risk_Other!$J$219=1),1,0)","v":0},{"$f":"IF(AND(EBP_Matrix!AN5=1,Risk_Alc!$J$262=1),1,0)","v":0},{"$f":"IF(AND(EBP_Matrix!AO5=1,Risk_Marj!$J$227=1),1,0)","v":0},{"$f":"IF(AND(EBP_Matrix!AP5=1,Risk_Tob!$J$220=1),1,0)","v":0},{"$f":"IF(AND(EBP_Matrix!AQ5=1,Risk_RxDrugs!$J$220=1),1,0)","v":0},{"$f":"IF(AND(EBP_Matrix!AR5=1,Risk_Other!$J$220=1),1,0)","v":0},{"$f":"IF(AND(EBP_Matrix!AS5=1,Risk_Alc!$J$263=1),1,0)","v":0},{"$f":"IF(AND(EBP_Matrix!AT5=1,Risk_Marj!$J$228=1),1,0)","v":0},{"$f":"IF(AND(EBP_Matrix!AU5=1,Risk_Tob!$J$221=1),1,0)","v":0},{"$f":"IF(AND(EBP_Matrix!AV5=1,Risk_RxDrugs!$J$221=1),1,0)","v":0},{"$f":"IF(AND(EBP_Matrix!AW5=1,Risk_Other!$J$221=1),1,0)","v":0},{"$f":"IF(AND(EBP_Matrix!AX5=1,Risk_Alc!$J$264=1),1,0)","v":0},{"$f":"IF(AND(EBP_Matrix!AY5=1,Risk_Marj!$J$229=1),1,0)","v":0},{"$f":"IF(AND(EBP_Matrix!AZ5=1,Risk_Tob!$J$222=1),1,0)","v":0},{"$f":"IF(AND(EBP_Matrix!BA5=1,Risk_RxDrugs!$J$222=1),1,0)","v":0},{"$f":"IF(AND(EBP_Matrix!BB5=1,Risk_Other!$J$222=1),1,0)","v":0},{"$f":"IF(AND(EBP_Matrix!BC5=1,Risk_Alc!$J$265=1),1,0)","v":0},{"$f":"IF(AND(EBP_Matrix!BD5=1,Risk_Marj!$J$230=1),1,0)","v":0},{"$f":"IF(AND(EBP_Matrix!BE5=1,Risk_Tob!$J$223=1),1,0)","v":0},{"$f":"IF(AND(EBP_Matrix!BF5=1,Risk_RxDrugs!$J$223=1),1,0)","v":0},{"$f":"IF(AND(EBP_Matrix!BG5=1,Risk_Other!$J$223=1),1,0)","v":0},{"$f":"IF(AND(EBP_Matrix!BH5=1,Risk_Alc!$J$266=1),1,0)","v":0},{"$f":"IF(AND(EBP_Matrix!BI5=1,Risk_Marj!$J$231=1),1,0)","v":0},{"$f":"IF(AND(EBP_Matrix!BJ5=1,Risk_Tob!$J$224=1),1,0)","v":0},{"$f":"IF(AND(EBP_Matrix!BK5=1,Risk_RxDrugs!$J$224=1),1,0)","v":0},{"$f":"IF(AND(EBP_Matrix!BL5=1,Risk_Other!$J$224=1),1,0)","v":0},{"$f":"IF(AND(EBP_Matrix!BM5=1,Risk_Alc!$J$267=1),1,0)","v":0},{"$f":"IF(AND(EBP_Matrix!BN5=1,Risk_Marj!$J$232=1),1,0)","v":0},{"$f":"IF(AND(EBP_Matrix!BO5=1,Risk_Tob!$J$225=1),1,0)","v":0},{"$f":"IF(AND(EBP_Matrix!BP5=1,Risk_RxDrugs!$J$225=1),1,0)","v":0},{"$f":"IF(AND(EBP_Matrix!BQ5=1,Risk_Other!$J$225=1),1,0)","v":0},{"$f":"IF(AND(EBP_Matrix!BR5=1,Risk_Alc!$J$268=1),1,0)","v":0},{"$f":"IF(AND(EBP_Matrix!BS5=1,Risk_Marj!$J$233=1),1,0)","v":0},{"$f":"IF(AND(EBP_Matrix!BT5=1,Risk_Tob!$J$226=1),1,0)","v":0},{"$f":"IF(AND(EBP_Matrix!BU5=1,Risk_RxDrugs!$J$226=1),1,0)","v":0},{"$f":"IF(AND(EBP_Matrix!BV5=1,Risk_Other!$J$226=1),1,0)","v":0},{"$f":"IF(AND(EBP_Matrix!BW5=1,Risk_Alc!$J$269=1),1,0)","v":0},{"$f":"IF(AND(EBP_Matrix!BX5=1,Risk_Marj!$J$234=1),1,0)","v":0},{"$f":"IF(AND(EBP_Matrix!BY5=1,Risk_Tob!$J$227=1),1,0)","v":0},{"$f":"IF(AND(EBP_Matrix!BZ5=1,Risk_RxDrugs!$J$227=1),1,0)","v":0},{"$f":"IF(AND(EBP_Matrix!CA5=1,Risk_Other!$J$227=1),1,0)","v":0},{"$f":"IF(AND(EBP_Matrix!CB5=1,Risk_Alc!$J$270=1),1,0)","v":0},{"$f":"IF(AND(EBP_Matrix!CC5=1,Risk_Marj!$J$235=1),1,0)","v":0},{"$f":"IF(AND(EBP_Matrix!CD5=1,Risk_Tob!$J$228=1),1,0)","v":0},{"$f":"IF(AND(EBP_Matrix!CE5=1,Risk_RxDrugs!$J$228=1),1,0)","v":0},{"$f":"IF(AND(EBP_Matrix!CF5=1,Risk_Other!$J$228=1),1,0)","v":0},{"$f":"IF(AND(EBP_Matrix!CG5=1,Risk_Alc!$J$271=1),1,0)","v":0},{"$f":"IF(AND(EBP_Matrix!CH5=1,Risk_Marj!$J$236=1),1,0)","v":0},{"$f":"IF(AND(EBP_Matrix!CI5=1,Risk_Tob!$J$229=1),1,0)","v":0},{"$f":"IF(AND(EBP_Matrix!CJ5=1,Risk_RxDrugs!$J$229=1),1,0)","v":0},{"$f":"IF(AND(EBP_Matrix!CK5=1,Risk_Other!$J$229=1),1,0)","v":0},{"$f":"IF(AND(EBP_Matrix!CL5=1,Risk_Alc!$J$272=1),1,0)","v":0},{"$f":"IF(AND(EBP_Matrix!CM5=1,Risk_Marj!$J$237=1),1,0)","v":0},{"$f":"IF(AND(EBP_Matrix!CN5=1,Risk_Tob!$J$230=1),1,0)","v":0},{"$f":"IF(AND(EBP_Matrix!CO5=1,Risk_RxDrugs!$J$230=1),1,0)","v":0},{"$f":"IF(AND(EBP_Matrix!CP5=1,Risk_Other!$J$230=1),1,0)","v":0},0,0,0,0,0,0,0]
[{"$f":"EBP_Matrix!A6","v":"Alcohol Literacy Challenge"},null,null,0,null,null,null,{"$f":"IF(AND(EBP_Matrix!T6=1,Prob_Alc!C71>0),1,0)","v":0},{"$f":"IF(AND(EBP_Matrix!T6=1,Prob_Alc!C71>0),1,0)","v":0},{"$f":"IF(AND(EBP_Matrix!T6=1,Prob_Alc!C71>0),1,0)","v":0},{"$f":"IF(AND(EBP_Matrix!T6=1,Prob_Alc!C71>0),1,0)","v":0},{"$f":"IF(AND(EBP_Matrix!T6=1,Prob_Alc!C71>0),1,0)","v":0},{"$f":"IF(AND(EBP_Matrix!T6=1,Prob_Alc!C71>0),1,0)","v":0},{"$f":"IF(AND(EBP_Matrix!T6=1,Prob_Alc!C71>0),1,0)","v":0},{"$f":"IF(AND(EBP_Matrix!T6=1,Prob_Alc!C71>0),1,0)","v":0},{"$f":"IF(AND(EBP_Matrix!U6=1,Prob_Marj!C71>0),1,0)","v":0},{"$f":"IF(AND(EBP_Matrix!U6=1,Prob_Marj!C71>0),1,0)","v":0},{"$f":"IF(AND(EBP_Matrix!U6=1,Prob_Marj!C71>0),1,0)","v":0},{"$f":"IF(AND(EBP_Matrix!U6=1,Prob_Marj!C71>0),1,0)","v":0},{"$f":"IF(AND(EBP_Matrix!V6=1,Prob_Tob!C71>0),1,0)","v":0},{"$f":"IF(AND(EBP_Matrix!V6=1,Prob_Tob!C71>0),1,0)","v":0},{"$f":"IF(AND(EBP_Matrix!V6=1,Prob_Tob!C71>0),1,0)","v":0},{"$f":"IF(AND(EBP_Matrix!V6=1,Prob_Tob!C71>0),1,0)","v":0},{"$f":"IF(AND(EBP_Matrix!V6=1,Prob_Tob!C71>0),1,0)","v":0},{"$f":"IF(AND(EBP_Matrix!V6=1,Prob_Tob!C71>0),1,0)","v":0},{"$f":"IF(AND(EBP_Matrix!W6=1,Prob_RxDrugs!C31>0),1,0)","v":0},{"$f":"IF(AND(EBP_Matrix!W6=1,Prob_RxDrugs!C31>0),1,0)","v":0},null,{"$f":"IF(AND(EBP_Matrix!X6=1,Prob_Other!C21>0),1,0)","v":0},{"$f":"IF(AND(EBP_Matrix!Y6=1,Risk_Alc!$J$259=1),1,0)","v":0},{"$f":"IF(AND(EBP_Matrix!Z6=1,Risk_Marj!$J$224=1),1,0)","v":0},{"$f":"IF(AND(EBP_Matrix!AA6=1,Risk_Tob!$J$217=1),1,0)","v":0},{"$f":"IF(AND(EBP_Matrix!AB6=1,Risk_RxDrugs!$J$217=1),1,0)","v":0},{"$f":"IF(AND(EBP_Matrix!AC6=1,Risk_Other!$J$217=1),1,0)","v":0},{"$f":"IF(AND(EBP_Matrix!AD6=1,Risk_Alc!$J$260=1),1,0)","v":0},{"$f":"IF(AND(EBP_Matrix!AE6=1,Risk_Marj!$J$225=1),1,0)","v":0},{"$f":"IF(AND(EBP_Matrix!AF6=1,Risk_Tob!$J$218=1),1,0)","v":0},{"$f":"IF(AND(EBP_Matrix!AG6=1,Risk_RxDrugs!$J$218=1),1,0)","v":0},{"$f":"IF(AND(EBP_Matrix!AH6=1,Risk_Other!$J$218=1),1,0)","v":0},{"$f":"IF(AND(EBP_Matrix!AI6=1,Risk_Alc!$J$261=1),1,0)","v":0},{"$f":"IF(AND(EBP_Matrix!AJ6=1,Risk_Marj!$J$226=1),1,0)","v":0},{"$f":"IF(AND(EBP_Matrix!AK6=1,Risk_Tob!$J$219=1),1,0)","v":0},{"$f":"IF(AND(EBP_Matrix!AL6=1,Risk_RxDrugs!$J$219=1),1,0)","v":0},{"$f":"IF(AND(EBP_Matrix!AM6=1,Risk_Other!$J$219=1),1,0)","v":0},{"$f":"IF(AND(EBP_Matrix!AN6=1,Risk_Alc!$J$262=1),1,0)","v":0},{"$f":"IF(AND(EBP_Matrix!AO6=1,Risk_Marj!$J$227=1),1,0)","v":0},{"$f":"IF(AND(EBP_Matrix!AP6=1,Risk_Tob!$J$220=1),1,0)","v":0},{"$f":"IF(AND(EBP_Matrix!AQ6=1,Risk_RxDrugs!$J$220=1),1,0)","v":0},{"$f":"IF(AND(EBP_Matrix!AR6=1,Risk_Other!$J$220=1),1,0)","v":0},{"$f":"IF(AND(EBP_Matrix!AS6=1,Risk_Alc!$J$263=1),1,0)","v":0},{"$f":"IF(AND(EBP_Matrix!AT6=1,Risk_Marj!$J$228=1),1,0)","v":0},{"$f":"IF(AND(EBP_Matrix!AU6=1,Risk_Tob!$J$221=1),1,0)","v":0},{"$f":"IF(AND(EBP_Matrix!AV6=1,Risk_RxDrugs!$J$221=1),1,0)","v":0},{"$f":"IF(AND(EBP_Matrix!AW6=1,Risk_Other!$J$221=1),1,0)","v":0},{"$f":"IF(AND(EBP_Matrix!AX6=1,Risk_Alc!$J$264=1),1,0)","v":0},{"$f":"IF(AND(EBP_Matrix!AY6=1,Risk_Marj!$J$229=1),1,0)","v":0},{"$f":"IF(AND(EBP_Matrix!AZ6=1,Risk_Tob!$J$222=1),1,0)","v":0},{"$f":"IF(AND(EBP_Matrix!BA6=1,Risk_RxDrugs!$J$222=1),1,0)","v":0},{"$f":"IF(AND(EBP_Matrix!BB6=1,Risk_Other!$J$222=1),1,0)","v":0},{"$f":"IF(AND(EBP_Matrix!BC6=1,Risk_Alc!$J$265=1),1,0)","v":0},{"$f":"IF(AND(EBP_Matrix!BD6=1,Risk_Marj!$J$230=1),1,0)","v":0},{"$f":"IF(AND(EBP_Matrix!BE6=1,Risk_Tob!$J$223=1),1,0)","v":0},{"$f":"IF(AND(EBP_Matrix!BF6=1,Risk_RxDrugs!$J$223=1),1,0)","v":0},{"$f":"IF(AND(EBP_Matrix!BG6=1,Risk_Other!$J$223=1),1,0)","v":0},{"$f":"IF(AND(EBP_Matrix!BH6=1,Risk_Alc!$J$266=1),1,0)","v":0},{"$f":"IF(AND(EBP_Matrix!BI6=1,Risk_Marj!$J$231=1),1,0)","v":0},{"$f":"IF(AND(EBP_Matrix!BJ6=1,Risk_Tob!$J$224=1),1,0)","v":0},{"$f":"IF(AND(EBP_Matrix!BK6=1,Risk_RxDrugs!$J$224=1),1,0)","v":0},{"$f":"IF(AND(EBP_Matrix!BL6=1,Risk_Other!$J$224=1),1,0)","v":0},{"$f":"IF(AND(EBP_Matrix!BM6=1,Risk_Alc!$J$267=1),1,0)","v":0},{"$f":"IF(AND(EBP_Matrix!BN6=1,Risk_Marj!$J$232=1),1,0)","v":0},{"$f":"IF(AND(EBP_Matrix!BO6=1,Risk_Tob!$J$225=1),1,0)","v":0},{"$f":"IF(AND(EBP_Matrix!BP6=1,Risk_RxDrugs!$J$225=1),1,0)","v":0},{"$f":"IF(AND(EBP_Matrix!BQ6=1,Risk_Other!$J$225=1),1,0)","v":0},{"$f":"IF(AND(EBP_Matrix!BR6=1,Risk_Alc!$J$268=1),1,0)","v":0},{"$f":"IF(AND(EBP_Matrix!BS6=1,Risk_Marj!$J$233=1),1,0)","v":0},{"$f":"IF(AND(EBP_Matrix!BT6=1,Risk_Tob!$J$226=1),1,0)","v":0},{"$f":"IF(AND(EBP_Matrix!BU6=1,Risk_RxDrugs!$J$226=1),1,0)","v":0},{"$f":"IF(AND(EBP_Matrix!BV6=1,Risk_Other!$J$226=1),1,0)","v":0},{"$f":"IF(AND(EBP_Matrix!BW6=1,Risk_Alc!$J$269=1),1,0)","v":0},{"$f":"IF(AND(EBP_Matrix!BX6=1,Risk_Marj!$J$234=1),1,0)","v":0},{"$f":"IF(AND(EBP_Matrix!BY6=1,Risk_Tob!$J$227=1),1,0)","v":0},{"$f":"IF(AND(EBP_Matrix!BZ6=1,Risk_RxDrugs!$J$227=1),1,0)","v":0},{"$f":"IF(AND(EBP_Matrix!CA6=1,Risk_Other!$J$227=1),1,0)","v":0},{"$f":"IF(AND(EBP_Matrix!CB6=1,Risk_Alc!$J$270=1),1,0)","v":0},{"$f":"IF(AND(EBP_Matrix!CC6=1,Risk_Marj!$J$235=1),1,0)","v":0},{"$f":"IF(AND(EBP_Matrix!CD6=1,Risk_Tob!$J$228=1),1,0)","v":0},{"$f":"IF(AND(EBP_Matrix!CE6=1,Risk_RxDrugs!$J$228=1),1,0)","v":0},{"$f":"IF(AND(EBP_Matrix!CF6=1,Risk_Other!$J$228=1),1,0)","v":0},{"$f":"IF(AND(EBP_Matrix!CG6=1,Risk_Alc!$J$271=1),1,0)","v":0},{"$f":"IF(AND(EBP_Matrix!CH6=1,Risk_Marj!$J$236=1),1,0)","v":0},{"$f":"IF(AND(EBP_Matrix!CI6=1,Risk_Tob!$J$229=1),1,0)","v":0},{"$f":"IF(AND(EBP_Matrix!CJ6=1,Risk_RxDrugs!$J$229=1),1,0)","v":0},{"$f":"IF(AND(EBP_Matrix!CK6=1,Risk_Other!$J$229=1),1,0)","v":0},{"$f":"IF(AND(EBP_Matrix!CL6=1,Risk_Alc!$J$272=1),1,0)","v":0},{"$f":"IF(AND(EBP_Matrix!CM6=1,Risk_Marj!$J$237=1),1,0)","v":0},{"$f":"IF(AND(EBP_Matrix!CN6=1,Risk_Tob!$J$230=1),1,0)","v":0},{"$f":"IF(AND(EBP_Matrix!CO6=1,Risk_RxDrugs!$J$230=1),1,0)","v":0},{"$f":"IF(AND(EBP_Matrix!CP6=1,Risk_Other!$J$230=1),1,0)","v":0},0,0,0,0,0,0,0]
[{"$f":"EBP_Matrix!A7","v":"All Stars"},null,null,0,null,null,null,{"$f":"IF(AND(EBP_Matrix!T7=1,Prob_Alc!C71>0),1,0)","v":0},{"$f":"IF(AND(EBP_Matrix!T7=1,Prob_Alc!C71>0),1,0)","v":0},{"$f":"IF(AND(EBP_Matrix!T7=1,Prob_Alc!C71>0),1,0)","v":0},{"$f":"IF(AND(EBP_Matrix!T7=1,Prob_Alc!C71>0),1,0)","v":0},{"$f":"IF(AND(EBP_Matrix!T7=1,Prob_Alc!C71>0),1,0)","v":0},{"$f":"IF(AND(EBP_Matrix!T7=1,Prob_Alc!C71>0),1,0)","v":0},{"$f":"IF(AND(EBP_Matrix!T7=1,Prob_Alc!C71>0),1,0)","v":0},{"$f":"IF(AND(EBP_Matrix!T7=1,Prob_Alc!C71>0),1,0)","v":0},{"$f":"IF(AND(EBP_Matrix!U7=1,Prob_Marj!C71>0),1,0)","v":0},{"$f":"IF(AND(EBP_Matrix!U7=1,Prob_Marj!C71>0),1,0)","v":0},{"$f":"IF(AND(EBP_Matrix!U7=1,Prob_Marj!C71>0),1,0)","v":0},{"$f":"IF(AND(EBP_Matrix!U7=1,Prob_Marj!C71>0),1,0)","v":0},{"$f":"IF(AND(EBP_Matrix!V7=1,Prob_Tob!C71>0),1,0)","v":0},{"$f":"IF(AND(EBP_Matrix!V7=1,Prob_Tob!C71>0),1,0)","v":0},{"$f":"IF(AND(EBP_Matrix!V7=1,Prob_Tob!C71>0),1,0)","v":0},{"$f":"IF(AND(EBP_Matrix!V7=1,Prob_Tob!C71>0),1,0)","v":0},{"$f":"IF(AND(EBP_Matrix!V7=1,Prob_Tob!C71>0),1,0)","v":0},{"$f":"IF(AND(EBP_Matrix!V7=1,Prob_Tob!C71>0),1,0)","v":0},{"$f":"IF(AND(EBP_Matrix!W7=1,Prob_RxDrugs!C31>0),1,0)","v":0},{"$f":"IF(AND(EBP_Matrix!W7=1,Prob_RxDrugs!C31>0),1,0)","v":0},null,{"$f":"IF(AND(EBP_Matrix!X7=1,Prob_Other!C21>0),1,0)","v":0},{"$f":"IF(AND(EBP_Matrix!Y7=1,Risk_Alc!$J$259=1),1,0)","v":0},{"$f":"IF(AND(EBP_Matrix!Z7=1,Risk_Marj!$J$224=1),1,0)","v":0},{"$f":"IF(AND(EBP_Matrix!AA7=1,Risk_Tob!$J$217=1),1,0)","v":0},{"$f":"IF(AND(EBP_Matrix!AB7=1,Risk_RxDrugs!$J$217=1),1,0)","v":0},{"$f":"IF(AND(EBP_Matrix!AC7=1,Risk_Other!$J$217=1),1,0)","v":0},{"$f":"IF(AND(EBP_Matrix!AD7=1,Risk_Alc!$J$260=1),1,0)","v":0},{"$f":"IF(AND(EBP_Matrix!AE7=1,Risk_Marj!$J$225=1),1,0)","v":0},{"$f":"IF(AND(EBP_Matrix!AF7=1,Risk_Tob!$J$218=1),1,0)","v":0},{"$f":"IF(AND(EBP_Matrix!AG7=1,Risk_RxDrugs!$J$218=1),1,0)","v":0},{"$f":"IF(AND(EBP_Matrix!AH7=1,Risk_Other!$J$218=1),1,0)","v":0},{"$f":"IF(AND(EBP_Matrix!AI7=1,Risk_Alc!$J$261=1),1,0)","v":0},{"$f":"IF(AND(EBP_Matrix!AJ7=1,Risk_Marj!$J$226=1),1,0)","v":0},{"$f":"IF(AND(EBP_Matrix!AK7=1,Risk_Tob!$J$219=1),1,0)","v":0},{"$f":"IF(AND(EBP_Matrix!AL7=1,Risk_RxDrugs!$J$219=1),1,0)","v":0},{"$f":"IF(AND(EBP_Matrix!AM7=1,Risk_Other!$J$219=1),1,0)","v":0},{"$f":"IF(AND(EBP_Matrix!AN7=1,Risk_Alc!$J$262=1),1,0)","v":0},{"$f":"IF(AND(EBP_Matrix!AO7=1,Risk_Marj!$J$227=1),1,0)","v":0},{"$f":"IF(AND(EBP_Matrix!AP7=1,Risk_Tob!$J$220=1),1,0)","v":0},{"$f":"IF(AND(EBP_Matrix!AQ7=1,Risk_RxDrugs!$J$220=1),1,0)","v":0},{"$f":"IF(AND(EBP_Matrix!AR7=1,Risk_Other!$J$220=1),1,0)","v":0},{"$f":"IF(AND(EBP_Matrix!AS7=1,Risk_Alc!$J$263=1),1,0)","v":0},{"$f":"IF(AND(EBP_Matrix!AT7=1,Risk_Marj!$J$228=1),1,0)","v":0},{"$f":"IF(AND(EBP_Matrix!AU7=1,Risk_Tob!$J$221=1),1,0)","v":0},{"$f":"IF(AND(EBP_Matrix!AV7=1,Risk_RxDrugs!$J$221=1),1,0)","v":0},{"$f":"IF(AND(EBP_Matrix!AW7=1,Risk_Other!$J$221=1),1,0)","v":0},{"$f":"IF(AND(EBP_Matrix!AX7=1,Risk_Alc!$J$264=1),1,0)","v":0},{"$f":"IF(AND(EBP_Matrix!AY7=1,Risk_Marj!$J$229=1),1,0)","v":0},{"$f":"IF(AND(EBP_Matrix!AZ7=1,Risk_Tob!$J$222=1),1,0)","v":0},{"$f":"IF(AND(EBP_Matrix!BA7=1,Risk_RxDrugs!$J$222=1),1,0)","v":0},{"$f":"IF(AND(EBP_Matrix!BB7=1,Risk_Other!$J$222=1),1,0)","v":0},{"$f":"IF(AND(EBP_Matrix!BC7=1,Risk_Alc!$J$265=1),1,0)","v":0},{"$f":"IF(AND(EBP_Matrix!BD7=1,Risk_Marj!$J$230=1),1,0)","v":0},{"$f":"IF(AND(EBP_Matrix!BE7=1,Risk_Tob!$J$223=1),1,0)","v":0},{"$f":"IF(AND(EBP_Matrix!BF7=1,Risk_RxDrugs!$J$223=1),1,0)","v":0},{"$f":"IF(AND(EBP_Matrix!BG7=1,Risk_Other!$J$223=1),1,0)","v":0},{"$f":"IF(AND(EBP_Matrix!BH7=1,Risk_Alc!$J$266=1),1,0)","v":0},{"$f":"IF(AND(EBP_Matrix!BI7=1,Risk_Marj!$J$231=1),1,0)","v":0},{"$f":"IF(AND(EBP_Matrix!BJ7=1,Risk_Tob!$J$224=1),1,0)","v":0},{"$f":"IF(AND(EBP_Matrix!BK7=1,Risk_RxDrugs!$J$224=1),1,0)","v":0},{"$f":"IF(AND(EBP_Matrix!BL7=1,Risk_Other!$J$224=1),1,0)","v":0},{"$f":"IF(AND(EBP_Matrix!BM7=1,Risk_Alc!$J$267=1),1,0)","v":0},{"$f":"IF(AND(EBP_Matrix!BN7=1,Risk_Marj!$J$232=1),1,0)","v":0},{"$f":"IF(AND(EBP_Matrix!BO7=1,Risk_Tob!$J$225=1),1,0)","v":0},{"$f":"IF(AND(EBP_Matrix!BP7=1,Risk_RxDrugs!$J$225=1),1,0)","v":0},{"$f":"IF(AND(EBP_Matrix!BQ7=1,Risk_Other!$J$225=1),1,0)","v":0},{"$f":"IF(AND(EBP_Matrix!BR7=1,Risk_Alc!$J$268=1),1,0)","v":0},{"$f":"IF(AND(EBP_Matrix!BS7=1,Risk_Marj!$J$233=1),1,0)","v":0},{"$f":"IF(AND(EBP_Matrix!BT7=1,Risk_Tob!$J$226=1),1,0)","v":0},{"$f":"IF(AND(EBP_Matrix!BU7=1,Risk_RxDrugs!$J$226=1),1,0)","v":0},{"$f":"IF(AND(EBP_Matrix!BV7=1,Risk_Other!$J$226=1),1,0)","v":0},{"$f":"IF(AND(EBP_Matrix!BW7=1,Risk_Alc!$J$269=1),1,0)","v":0},{"$f":"IF(AND(EBP_Matrix!BX7=1,Risk_Marj!$J$234=1),1,0)","v":0},{"$f":"IF(AND(EBP_Matrix!BY7=1,Risk_Tob!$J$227=1),1,0)","v":0},{"$f":"IF(AND(EBP_Matrix!BZ7=1,Risk_RxDrugs!$J$227=1),1,0)","v":0},{"$f":"IF(AND(EBP_Matrix!CA7=1,Risk_Other!$J$227=1),1,0)","v":0},{"$f":"IF(AND(EBP_Matrix!CB7=1,Risk_Alc!$J$270=1),1,0)","v":0},{"$f":"IF(AND(EBP_Matrix!CC7=1,Risk_Marj!$J$235=1),1,0)","v":0},{"$f":"IF(AND(EBP_Matrix!CD7=1,Risk_Tob!$J$228=1),1,0)","v":0},{"$f":"IF(AND(EBP_Matrix!CE7=1,Risk_RxDrugs!$J$228=1),1,0)","v":0},{"$f":"IF(AND(EBP_Matrix!CF7=1,Risk_Other!$J$228=1),1,0)","v":0},{"$f":"IF(AND(EBP_Matrix!CG7=1,Risk_Alc!$J$271=1),1,0)","v":0},{"$f":"IF(AND(EBP_Matrix!CH7=1,Risk_Marj!$J$236=1),1,0)","v":0},{"$f":"IF(AND(EBP_Matrix!CI7=1,Risk_Tob!$J$229=1),1,0)","v":0},{"$f":"IF(AND(EBP_Matrix!CJ7=1,Risk_RxDrugs!$J$229=1),1,0)","v":0},{"$f":"IF(AND(EBP_Matrix!CK7=1,Risk_Other!$J$229=1),1,0)","v":0},{"$f":"IF(AND(EBP_Matrix!CL7=1,Risk_Alc!$J$272=1),1,0)","v":0},{"$f":"IF(AND(EBP_Matrix!CM7=1,Risk_Marj!$J$237=1),1,0)","v":0},{"$f":"IF(AND(EBP_Matrix!CN7=1,Risk_Tob!$J$230=1),1,0)","v":0},{"$f":"IF(AND(EBP_Matrix!CO7=1,Risk_RxDrugs!$J$230=1),1,0)","v":0},{"$f":"IF(AND(EBP_Matrix!CP7=1,Risk_Other!$J$230=1),1,0)","v":0},0,0,0,0,0,0,0]
[{"$f":"EBP_Matrix!A8","v":"Big Brothers Big Sisters Mentoring Program"},null,null,0,null,null,null,{"$f":"IF(AND(EBP_Matrix!T8=1,Prob_Alc!C71>0),1,0)","v":0},{"$f":"IF(AND(EBP_Matrix!T8=1,Prob_Alc!C71>0),1,0)","v":0},{"$f":"IF(AND(EBP_Matrix!T8=1,Prob_Alc!C71>0),1,0)","v":0},{"$f":"IF(AND(EBP_Matrix!T8=1,Prob_Alc!C71>0),1,0)","v":0},{"$f":"IF(AND(EBP_Matrix!T8=1,Prob_Alc!C71>0),1,0)","v":0},{"$f":"IF(AND(EBP_Matrix!T8=1,Prob_Alc!C71>0),1,0)","v":0},{"$f":"IF(AND(EBP_Matrix!T8=1,Prob_Alc!C71>0),1,0)","v":0},{"$f":"IF(AND(EBP_Matrix!T8=1,Prob_Alc!C71>0),1,0)","v":0},{"$f":"IF(AND(EBP_Matrix!U8=1,Prob_Marj!C71>0),1,0)","v":0},{"$f":"IF(AND(EBP_Matrix!U8=1,Prob_Marj!C71>0),1,0)","v":0},{"$f":"IF(AND(EBP_Matrix!U8=1,Prob_Marj!C71>0),1,0)","v":0},{"$f":"IF(AND(EBP_Matrix!U8=1,Prob_Marj!C71>0),1,0)","v":0},{"$f":"IF(AND(EBP_Matrix!V8=1,Prob_Tob!C71>0),1,0)","v":0},{"$f":"IF(AND(EBP_Matrix!V8=1,Prob_Tob!C71>0),1,0)","v":0},{"$f":"IF(AND(EBP_Matrix!V8=1,Prob_Tob!C71>0),1,0)","v":0},{"$f":"IF(AND(EBP_Matrix!V8=1,Prob_Tob!C71>0),1,0)","v":0},{"$f":"IF(AND(EBP_Matrix!V8=1,Prob_Tob!C71>0),1,0)","v":0},{"$f":"IF(AND(EBP_Matrix!V8=1,Prob_Tob!C71>0),1,0)","v":0},{"$f":"IF(AND(EBP_Matrix!W8=1,Prob_RxDrugs!C31>0),1,0)","v":0},{"$f":"IF(AND(EBP_Matrix!W8=1,Prob_RxDrugs!C31>0),1,0)","v":0},null,{"$f":"IF(AND(EBP_Matrix!X8=1,Prob_Other!C21>0),1,0)","v":0},{"$f":"IF(AND(EBP_Matrix!Y8=1,Risk_Alc!$J$259=1),1,0)","v":0},{"$f":"IF(AND(EBP_Matrix!Z8=1,Risk_Marj!$J$224=1),1,0)","v":0},{"$f":"IF(AND(EBP_Matrix!AA8=1,Risk_Tob!$J$217=1),1,0)","v":0},{"$f":"IF(AND(EBP_Matrix!AB8=1,Risk_RxDrugs!$J$217=1),1,0)","v":0},{"$f":"IF(AND(EBP_Matrix!AC8=1,Risk_Other!$J$217=1),1,0)","v":0},{"$f":"IF(AND(EBP_Matrix!AD8=1,Risk_Alc!$J$260=1),1,0)","v":0},{"$f":"IF(AND(EBP_Matrix!AE8=1,Risk_Marj!$J$225=1),1,0)","v":0},{"$f":"IF(AND(EBP_Matrix!AF8=1,Risk_Tob!$J$218=1),1,0)","v":0},{"$f":"IF(AND(EBP_Matrix!AG8=1,Risk_RxDrugs!$J$218=1),1,0)","v":0},{"$f":"IF(AND(EBP_Matrix!AH8=1,Risk_Other!$J$218=1),1,0)","v":0},{"$f":"IF(AND(EBP_Matrix!AI8=1,Risk_Alc!$J$261=1),1,0)","v":0},{"$f":"IF(AND(EBP_Matrix!AJ8=1,Risk_Marj!$J$226=1),1,0)","v":0},{"$f":"IF(AND(EBP_Matrix!AK8=1,Risk_Tob!$J$219=1),1,0)","v":0},{"$f":"IF(AND(EBP_Matrix!AL8=1,Risk_RxDrugs!$J$219=1),1,0)","v":0},{"$f":"IF(AND(EBP_Matrix!AM8=1,Risk_Other!$J$219=1),1,0)","v":0},{"$f":"IF(AND(EBP_Matrix!AN8=1,Risk_Alc!$J$262=1),1,0)","v":0},{"$f":"IF(AND(EBP_Matrix!AO8=1,Risk_Marj!$J$227=1),1,0)","v":0},{"$f":"IF(AND(EBP_Matrix!AP8=1,Risk_Tob!$J$220=1),1,0)","v":0},{"$f":"IF(AND(EBP_Matrix!AQ8=1,Risk_RxDrugs!$J$220=1),1,0)","v":0},{"$f":"IF(AND(EBP_Matrix!AR8=1,Risk_Other!$J$220=1),1,0)","v":0},{"$f":"IF(AND(EBP_Matrix!AS8=1,Risk_Alc!$J$263=1),1,0)","v":0},{"$f":"IF(AND(EBP_Matrix!AT8=1,Risk_Marj!$J$228=1),1,0)","v":0},{"$f":"IF(AND(EBP_Matrix!AU8=1,Risk_Tob!$J$221=1),1,0)","v":0},{"$f":"IF(AND(EBP_Matrix!AV8=1,Risk_RxDrugs!$J$221=1),1,0)","v":0},{"$f":"IF(AND(EBP_Matrix!AW8=1,Risk_Other!$J$221=1),1,0)","v":0},{"$f":"IF(AND(EBP_Matrix!AX8=1,Risk_Alc!$J$264=1),1,0)","v":0},{"$f":"IF(AND(EBP_Matrix!AY8=1,Risk_Marj!$J$229=1),1,0)","v":0},{"$f":"IF(AND(EBP_Matrix!AZ8=1,Risk_Tob!$J$222=1),1,0)","v":0},{"$f":"IF(AND(EBP_Matrix!BA8=1,Risk_RxDrugs!$J$222=1),1,0)","v":0},{"$f":"IF(AND(EBP_Matrix!BB8=1,Risk_Other!$J$222=1),1,0)","v":0},{"$f":"IF(AND(EBP_Matrix!BC8=1,Risk_Alc!$J$265=1),1,0)","v":0},{"$f":"IF(AND(EBP_Matrix!BD8=1,Risk_Marj!$J$230=1),1,0)","v":0},{"$f":"IF(AND(EBP_Matrix!BE8=1,Risk_Tob!$J$223=1),1,0)","v":0},{"$f":"IF(AND(EBP_Matrix!BF8=1,Risk_RxDrugs!$J$223=1),1,0)","v":0},{"$f":"IF(AND(EBP_Matrix!BG8=1,Risk_Other!$J$223=1),1,0)","v":0},{"$f":"IF(AND(EBP_Matrix!BH8=1,Risk_Alc!$J$266=1),1,0)","v":0},{"$f":"IF(AND(EBP_Matrix!BI8=1,Risk_Marj!$J$231=1),1,0)","v":0},{"$f":"IF(AND(EBP_Matrix!BJ8=1,Risk_Tob!$J$224=1),1,0)","v":0},{"$f":"IF(AND(EBP_Matrix!BK8=1,Risk_RxDrugs!$J$224=1),1,0)","v":0},{"$f":"IF(AND(EBP_Matrix!BL8=1,Risk_Other!$J$224=1),1,0)","v":0},{"$f":"IF(AND(EBP_Matrix!BM8=1,Risk_Alc!$J$267=1),1,0)","v":0},{"$f":"IF(AND(EBP_Matrix!BN8=1,Risk_Marj!$J$232=1),1,0)","v":0},{"$f":"IF(AND(EBP_Matrix!BO8=1,Risk_Tob!$J$225=1),1,0)","v":0},{"$f":"IF(AND(EBP_Matrix!BP8=1,Risk_RxDrugs!$J$225=1),1,0)","v":0},{"$f":"IF(AND(EBP_Matrix!BQ8=1,Risk_Other!$J$225=1),1,0)","v":0},{"$f":"IF(AND(EBP_Matrix!BR8=1,Risk_Alc!$J$268=1),1,0)","v":0},{"$f":"IF(AND(EBP_Matrix!BS8=1,Risk_Marj!$J$233=1),1,0)","v":0},{"$f":"IF(AND(EBP_Matrix!BT8=1,Risk_Tob!$J$226=1),1,0)","v":0},{"$f":"IF(AND(EBP_Matrix!BU8=1,Risk_RxDrugs!$J$226=1),1,0)","v":0},{"$f":"IF(AND(EBP_Matrix!BV8=1,Risk_Other!$J$226=1),1,0)","v":0},{"$f":"IF(AND(EBP_Matrix!BW8=1,Risk_Alc!$J$269=1),1,0)","v":0},{"$f":"IF(AND(EBP_Matrix!BX8=1,Risk_Marj!$J$234=1),1,0)","v":0},{"$f":"IF(AND(EBP_Matrix!BY8=1,Risk_Tob!$J$227=1),1,0)","v":0},{"$f":"IF(AND(EBP_Matrix!BZ8=1,Risk_RxDrugs!$J$227=1),1,0)","v":0},{"$f":"IF(AND(EBP_Matrix!CA8=1,Risk_Other!$J$227=1),1,0)","v":0},{"$f":"IF(AND(EBP_Matrix!CB8=1,Risk_Alc!$J$270=1),1,0)","v":0},{"$f":"IF(AND(EBP_Matrix!CC8=1,Risk_Marj!$J$235=1),1,0)","v":0},{"$f":"IF(AND(EBP_Matrix!CD8=1,Risk_Tob!$J$228=1),1,0)","v":0},{"$f":"IF(AND(EBP_Matrix!CE8=1,Risk_RxDrugs!$J$228=1),1,0)","v":0},{"$f":"IF(AND(EBP_Matrix!CF8=1,Risk_Other!$J$228=1),1,0)","v":0},{"$f":"IF(AND(EBP_Matrix!CG8=1,Risk_Alc!$J$271=1),1,0)","v":0},{"$f":"IF(AND(EBP_Matrix!CH8=1,Risk_Marj!$J$236=1),1,0)","v":0},{"$f":"IF(AND(EBP_Matrix!CI8=1,Risk_Tob!$J$229=1),1,0)","v":0},{"$f":"IF(AND(EBP_Matrix!CJ8=1,Risk_RxDrugs!$J$229=1),1,0)","v":0},{"$f":"IF(AND(EBP_Matrix!CK8=1,Risk_Other!$J$229=1),1,0)","v":0},{"$f":"IF(AND(EBP_Matrix!CL8=1,Risk_Alc!$J$272=1),1,0)","v":0},{"$f":"IF(AND(EBP_Matrix!CM8=1,Risk_Marj!$J$237=1),1,0)","v":0},{"$f":"IF(AND(EBP_Matrix!CN8=1,Risk_Tob!$J$230=1),1,0)","v":0},{"$f":"IF(AND(EBP_Matrix!CO8=1,Risk_RxDrugs!$J$230=1),1,0)","v":0},{"$f":"IF(AND(EBP_Matrix!CP8=1,Risk_Other!$J$230=1),1,0)","v":0},0,0,0,0,0,0,0]
[{"$f":"EBP_Matrix!A9","v":"Brief Alcohol Screening and Intervention for College Students (BASICS)"},null,null,0,null,null,null,{"$f":"IF(AND(EBP_Matrix!T9=1,Prob_Alc!C71>0),1,0)","v":0},{"$f":"IF(AND(EBP_Matrix!T9=1,Prob_Alc!C71>0),1,0)","v":0},{"$f":"IF(AND(EBP_Matrix!T9=1,Prob_Alc!C71>0),1,0)","v":0},{"$f":"IF(AND(EBP_Matrix!T9=1,Prob_Alc!C71>0),1,0)","v":0},{"$f":"IF(AND(EBP_Matrix!T9=1,Prob_Alc!C71>0),1,0)","v":0},{"$f":"IF(AND(EBP_Matrix!T9=1,Prob_Alc!C71>0),1,0)","v":0},{"$f":"IF(AND(EBP_Matrix!T9=1,Prob_Alc!C71>0),1,0)","v":0},{"$f":"IF(AND(EBP_Matrix!T9=1,Prob_Alc!C71>0),1,0)","v":0},{"$f":"IF(AND(EBP_Matrix!U9=1,Prob_Marj!C71>0),1,0)","v":0},{"$f":"IF(AND(EBP_Matrix!U9=1,Prob_Marj!C71>0),1,0)","v":0},{"$f":"IF(AND(EBP_Matrix!U9=1,Prob_Marj!C71>0),1,0)","v":0},{"$f":"IF(AND(EBP_Matrix!U9=1,Prob_Marj!C71>0),1,0)","v":0},{"$f":"IF(AND(EBP_Matrix!V9=1,Prob_Tob!C71>0),1,0)","v":0},{"$f":"IF(AND(EBP_Matrix!V9=1,Prob_Tob!C71>0),1,0)","v":0},{"$f":"IF(AND(EBP_Matrix!V9=1,Prob_Tob!C71>0),1,0)","v":0},{"$f":"IF(AND(EBP_Matrix!V9=1,Prob_Tob!C71>0),1,0)","v":0},{"$f":"IF(AND(EBP_Matrix!V9=1,Prob_Tob!C71>0),1,0)","v":0},{"$f":"IF(AND(EBP_Matrix!V9=1,Prob_Tob!C71>0),1,0)","v":0},{"$f":"IF(AND(EBP_Matrix!W9=1,Prob_RxDrugs!C31>0),1,0)","v":0},{"$f":"IF(AND(EBP_Matrix!W9=1,Prob_RxDrugs!C31>0),1,0)","v":0},null,{"$f":"IF(AND(EBP_Matrix!X9=1,Prob_Other!C21>0),1,0)","v":0},{"$f":"IF(AND(EBP_Matrix!Y9=1,Risk_Alc!$J$259=1),1,0)","v":0},{"$f":"IF(AND(EBP_Matrix!Z9=1,Risk_Marj!$J$224=1),1,0)","v":0},{"$f":"IF(AND(EBP_Matrix!AA9=1,Risk_Tob!$J$217=1),1,0)","v":0},{"$f":"IF(AND(EBP_Matrix!AB9=1,Risk_RxDrugs!$J$217=1),1,0)","v":0},{"$f":"IF(AND(EBP_Matrix!AC9=1,Risk_Other!$J$217=1),1,0)","v":0},{"$f":"IF(AND(EBP_Matrix!AD9=1,Risk_Alc!$J$260=1),1,0)","v":0},{"$f":"IF(AND(EBP_Matrix!AE9=1,Risk_Marj!$J$225=1),1,0)","v":0},{"$f":"IF(AND(EBP_Matrix!AF9=1,Risk_Tob!$J$218=1),1,0)","v":0},{"$f":"IF(AND(EBP_Matrix!AG9=1,Risk_RxDrugs!$J$218=1),1,0)","v":0},{"$f":"IF(AND(EBP_Matrix!AH9=1,Risk_Other!$J$218=1),1,0)","v":0},{"$f":"IF(AND(EBP_Matrix!AI9=1,Risk_Alc!$J$261=1),1,0)","v":0},{"$f":"IF(AND(EBP_Matrix!AJ9=1,Risk_Marj!$J$226=1),1,0)","v":0},{"$f":"IF(AND(EBP_Matrix!AK9=1,Risk_Tob!$J$219=1),1,0)","v":0},{"$f":"IF(AND(EBP_Matrix!AL9=1,Risk_RxDrugs!$J$219=1),1,0)","v":0},{"$f":"IF(AND(EBP_Matrix!AM9=1,Risk_Other!$J$219=1),1,0)","v":0},{"$f":"IF(AND(EBP_Matrix!AN9=1,Risk_Alc!$J$262=1),1,0)","v":0},{"$f":"IF(AND(EBP_Matrix!AO9=1,Risk_Marj!$J$227=1),1,0)","v":0},{"$f":"IF(AND(EBP_Matrix!AP9=1,Risk_Tob!$J$220=1),1,0)","v":0},{"$f":"IF(AND(EBP_Matrix!AQ9=1,Risk_RxDrugs!$J$220=1),1,0)","v":0},{"$f":"IF(AND(EBP_Matrix!AR9=1,Risk_Other!$J$220=1),1,0)","v":0},{"$f":"IF(AND(EBP_Matrix!AS9=1,Risk_Alc!$J$263=1),1,0)","v":0},{"$f":"IF(AND(EBP_Matrix!AT9=1,Risk_Marj!$J$228=1),1,0)","v":0},{"$f":"IF(AND(EBP_Matrix!AU9=1,Risk_Tob!$J$221=1),1,0)","v":0},{"$f":"IF(AND(EBP_Matrix!AV9=1,Risk_RxDrugs!$J$221=1),1,0)","v":0},{"$f":"IF(AND(EBP_Matrix!AW9=1,Risk_Other!$J$221=1),1,0)","v":0},{"$f":"IF(AND(EBP_Matrix!AX9=1,Risk_Alc!$J$264=1),1,0)","v":0},{"$f":"IF(AND(EBP_Matrix!AY9=1,Risk_Marj!$J$229=1),1,0)","v":0},{"$f":"IF(AND(EBP_Matrix!AZ9=1,Risk_Tob!$J$222=1),1,0)","v":0},{"$f":"IF(AND(EBP_Matrix!BA9=1,Risk_RxDrugs!$J$222=1),1,0)","v":0},{"$f":"IF(AND(EBP_Matrix!BB9=1,Risk_Other!$J$222=1),1,0)","v":0},{"$f":"IF(AND(EBP_Matrix!BC9=1,Risk_Alc!$J$265=1),1,0)","v":0},{"$f":"IF(AND(EBP_Matrix!BD9=1,Risk_Marj!$J$230=1),1,0)","v":0},{"$f":"IF(AND(EBP_Matrix!BE9=1,Risk_Tob!$J$223=1),1,0)","v":0},{"$f":"IF(AND(EBP_Matrix!BF9=1,Risk_RxDrugs!$J$223=1),1,0)","v":0},{"$f":"IF(AND(EBP_Matrix!BG9=1,Risk_Other!$J$223=1),1,0)","v":0},{"$f":"IF(AND(EBP_Matrix!BH9=1,Risk_Alc!$J$266=1),1,0)","v":0},{"$f":"IF(AND(EBP_Matrix!BI9=1,Risk_Marj!$J$231=1),1,0)","v":0},{"$f":"IF(AND(EBP_Matrix!BJ9=1,Risk_Tob!$J$224=1),1,0)","v":0},{"$f":"IF(AND(EBP_Matrix!BK9=1,Risk_RxDrugs!$J$224=1),1,0)","v":0},{"$f":"IF(AND(EBP_Matrix!BL9=1,Risk_Other!$J$224=1),1,0)","v":0},{"$f":"IF(AND(EBP_Matrix!BM9=1,Risk_Alc!$J$267=1),1,0)","v":0},{"$f":"IF(AND(EBP_Matrix!BN9=1,Risk_Marj!$J$232=1),1,0)","v":0},{"$f":"IF(AND(EBP_Matrix!BO9=1,Risk_Tob!$J$225=1),1,0)","v":0},{"$f":"IF(AND(EBP_Matrix!BP9=1,Risk_RxDrugs!$J$225=1),1,0)","v":0},{"$f":"IF(AND(EBP_Matrix!BQ9=1,Risk_Other!$J$225=1),1,0)","v":0},{"$f":"IF(AND(EBP_Matrix!BR9=1,Risk_Alc!$J$268=1),1,0)","v":0},{"$f":"IF(AND(EBP_Matrix!BS9=1,Risk_Marj!$J$233=1),1,0)","v":0},{"$f":"IF(AND(EBP_Matrix!BT9=1,Risk_Tob!$J$226=1),1,0)","v":0},{"$f":"IF(AND(EBP_Matrix!BU9=1,Risk_RxDrugs!$J$226=1),1,0)","v":0},{"$f":"IF(AND(EBP_Matrix!BV9=1,Risk_Other!$J$226=1),1,0)","v":0},{"$f":"IF(AND(EBP_Matrix!BW9=1,Risk_Alc!$J$269=1),1,0)","v":0},{"$f":"IF(AND(EBP_Matrix!BX9=1,Risk_Marj!$J$234=1),1,0)","v":0},{"$f":"IF(AND(EBP_Matrix!BY9=1,Risk_Tob!$J$227=1),1,0)","v":0},{"$f":"IF(AND(EBP_Matrix!BZ9=1,Risk_RxDrugs!$J$227=1),1,0)","v":0},{"$f":"IF(AND(EBP_Matrix!CA9=1,Risk_Other!$J$227=1),1,0)","v":0},{"$f":"IF(AND(EBP_Matrix!CB9=1,Risk_Alc!$J$270=1),1,0)","v":0},{"$f":"IF(AND(EBP_Matrix!CC9=1,Risk_Marj!$J$235=1),1,0)","v":0},{"$f":"IF(AND(EBP_Matrix!CD9=1,Risk_Tob!$J$228=1),1,0)","v":0},{"$f":"IF(AND(EBP_Matrix!CE9=1,Risk_RxDrugs!$J$228=1),1,0)","v":0},{"$f":"IF(AND(EBP_Matrix!CF9=1,Risk_Other!$J$228=1),1,0)","v":0},{"$f":"IF(AND(EBP_Matrix!CG9=1,Risk_Alc!$J$271=1),1,0)","v":0},{"$f":"IF(AND(EBP_Matrix!CH9=1,Risk_Marj!$J$236=1),1,0)","v":0},{"$f":"IF(AND(EBP_Matrix!CI9=1,Risk_Tob!$J$229=1),1,0)","v":0},{"$f":"IF(AND(EBP_Matrix!CJ9=1,Risk_RxDrugs!$J$229=1),1,0)","v":0},{"$f":"IF(AND(EBP_Matrix!CK9=1,Risk_Other!$J$229=1),1,0)","v":0},{"$f":"IF(AND(EBP_Matrix!CL9=1,Risk_Alc!$J$272=1),1,0)","v":0},{"$f":"IF(AND(EBP_Matrix!CM9=1,Risk_Marj!$J$237=1),1,0)","v":0},{"$f":"IF(AND(EBP_Matrix!CN9=1,Risk_Tob!$J$230=1),1,0)","v":0},{"$f":"IF(AND(EBP_Matrix!CO9=1,Risk_RxDrugs!$J$230=1),1,0)","v":0},{"$f":"IF(AND(EBP_Matrix!CP9=1,Risk_Other!$J$230=1),1,0)","v":0},0,0,0,0,0,0,0]
[{"$f":"EBP_Matrix!A10","v":"Brief Motivational Intervention (BMI)"},null,null,0,null,null,null,{"$f":"IF(AND(EBP_Matrix!T10=1,Prob_Alc!C71>0),1,0)","v":0},{"$f":"IF(AND(EBP_Matrix!T10=1,Prob_Alc!C71>0),1,0)","v":0},{"$f":"IF(AND(EBP_Matrix!T10=1,Prob_Alc!C71>0),1,0)","v":0},{"$f":"IF(AND(EBP_Matrix!T10=1,Prob_Alc!C71>0),1,0)","v":0},{"$f":"IF(AND(EBP_Matrix!T10=1,Prob_Alc!C71>0),1,0)","v":0},{"$f":"IF(AND(EBP_Matrix!T10=1,Prob_Alc!C71>0),1,0)","v":0},{"$f":"IF(AND(EBP_Matrix!T10=1,Prob_Alc!C71>0),1,0)","v":0},{"$f":"IF(AND(EBP_Matrix!T10=1,Prob_Alc!C71>0),1,0)","v":0},{"$f":"IF(AND(EBP_Matrix!U10=1,Prob_Marj!C71>0),1,0)","v":0},{"$f":"IF(AND(EBP_Matrix!U10=1,Prob_Marj!C71>0),1,0)","v":0},{"$f":"IF(AND(EBP_Matrix!U10=1,Prob_Marj!C71>0),1,0)","v":0},{"$f":"IF(AND(EBP_Matrix!U10=1,Prob_Marj!C71>0),1,0)","v":0},{"$f":"IF(AND(EBP_Matrix!V10=1,Prob_Tob!C71>0),1,0)","v":0},{"$f":"IF(AND(EBP_Matrix!V10=1,Prob_Tob!C71>0),1,0)","v":0},{"$f":"IF(AND(EBP_Matrix!V10=1,Prob_Tob!C71>0),1,0)","v":0},{"$f":"IF(AND(EBP_Matrix!V10=1,Prob_Tob!C71>0),1,0)","v":0},{"$f":"IF(AND(EBP_Matrix!V10=1,Prob_Tob!C71>0),1,0)","v":0},{"$f":"IF(AND(EBP_Matrix!V10=1,Prob_Tob!C71>0),1,0)","v":0},{"$f":"IF(AND(EBP_Matrix!W10=1,Prob_RxDrugs!C31>0),1,0)","v":0},{"$f":"IF(AND(EBP_Matrix!W10=1,Prob_RxDrugs!C31>0),1,0)","v":0},null,{"$f":"IF(AND(EBP_Matrix!X10=1,Prob_Other!C21>0),1,0)","v":0},{"$f":"IF(AND(EBP_Matrix!Y10=1,Risk_Alc!$J$259=1),1,0)","v":0},{"$f":"IF(AND(EBP_Matrix!Z10=1,Risk_Marj!$J$224=1),1,0)","v":0},{"$f":"IF(AND(EBP_Matrix!AA10=1,Risk_Tob!$J$217=1),1,0)","v":0},{"$f":"IF(AND(EBP_Matrix!AB10=1,Risk_RxDrugs!$J$217=1),1,0)","v":0},{"$f":"IF(AND(EBP_Matrix!AC10=1,Risk_Other!$J$217=1),1,0)","v":0},{"$f":"IF(AND(EBP_Matrix!AD10=1,Risk_Alc!$J$260=1),1,0)","v":0},{"$f":"IF(AND(EBP_Matrix!AE10=1,Risk_Marj!$J$225=1),1,0)","v":0},{"$f":"IF(AND(EBP_Matrix!AF10=1,Risk_Tob!$J$218=1),1,0)","v":0},{"$f":"IF(AND(EBP_Matrix!AG10=1,Risk_RxDrugs!$J$218=1),1,0)","v":0},{"$f":"IF(AND(EBP_Matrix!AH10=1,Risk_Other!$J$218=1),1,0)","v":0},{"$f":"IF(AND(EBP_Matrix!AI10=1,Risk_Alc!$J$261=1),1,0)","v":0},{"$f":"IF(AND(EBP_Matrix!AJ10=1,Risk_Marj!$J$226=1),1,0)","v":0},{"$f":"IF(AND(EBP_Matrix!AK10=1,Risk_Tob!$J$219=1),1,0)","v":0},{"$f":"IF(AND(EBP_Matrix!AL10=1,Risk_RxDrugs!$J$219=1),1,0)","v":0},{"$f":"IF(AND(EBP_Matrix!AM10=1,Risk_Other!$J$219=1),1,0)","v":0},{"$f":"IF(AND(EBP_Matrix!AN10=1,Risk_Alc!$J$262=1),1,0)","v":0},{"$f":"IF(AND(EBP_Matrix!AO10=1,Risk_Marj!$J$227=1),1,0)","v":0},{"$f":"IF(AND(EBP_Matrix!AP10=1,Risk_Tob!$J$220=1),1,0)","v":0},{"$f":"IF(AND(EBP_Matrix!AQ10=1,Risk_RxDrugs!$J$220=1),1,0)","v":0},{"$f":"IF(AND(EBP_Matrix!AR10=1,Risk_Other!$J$220=1),1,0)","v":0},{"$f":"IF(AND(EBP_Matrix!AS10=1,Risk_Alc!$J$263=1),1,0)","v":0},{"$f":"IF(AND(EBP_Matrix!AT10=1,Risk_Marj!$J$228=1),1,0)","v":0},{"$f":"IF(AND(EBP_Matrix!AU10=1,Risk_Tob!$J$221=1),1,0)","v":0},{"$f":"IF(AND(EBP_Matrix!AV10=1,Risk_RxDrugs!$J$221=1),1,0)","v":0},{"$f":"IF(AND(EBP_Matrix!AW10=1,Risk_Other!$J$221=1),1,0)","v":0},{"$f":"IF(AND(EBP_Matrix!AX10=1,Risk_Alc!$J$264=1),1,0)","v":0},{"$f":"IF(AND(EBP_Matrix!AY10=1,Risk_Marj!$J$229=1),1,0)","v":0},{"$f":"IF(AND(EBP_Matrix!AZ10=1,Risk_Tob!$J$222=1),1,0)","v":0},{"$f":"IF(AND(EBP_Matrix!BA10=1,Risk_RxDrugs!$J$222=1),1,0)","v":0},{"$f":"IF(AND(EBP_Matrix!BB10=1,Risk_Other!$J$222=1),1,0)","v":0},{"$f":"IF(AND(EBP_Matrix!BC10=1,Risk_Alc!$J$265=1),1,0)","v":0},{"$f":"IF(AND(EBP_Matrix!BD10=1,Risk_Marj!$J$230=1),1,0)","v":0},{"$f":"IF(AND(EBP_Matrix!BE10=1,Risk_Tob!$J$223=1),1,0)","v":0},{"$f":"IF(AND(EBP_Matrix!BF10=1,Risk_RxDrugs!$J$223=1),1,0)","v":0},{"$f":"IF(AND(EBP_Matrix!BG10=1,Risk_Other!$J$223=1),1,0)","v":0},{"$f":"IF(AND(EBP_Matrix!BH10=1,Risk_Alc!$J$266=1),1,0)","v":0},{"$f":"IF(AND(EBP_Matrix!BI10=1,Risk_Marj!$J$231=1),1,0)","v":0},{"$f":"IF(AND(EBP_Matrix!BJ10=1,Risk_Tob!$J$224=1),1,0)","v":0},{"$f":"IF(AND(EBP_Matrix!BK10=1,Risk_RxDrugs!$J$224=1),1,0)","v":0},{"$f":"IF(AND(EBP_Matrix!BL10=1,Risk_Other!$J$224=1),1,0)","v":0},{"$f":"IF(AND(EBP_Matrix!BM10=1,Risk_Alc!$J$267=1),1,0)","v":0},{"$f":"IF(AND(EBP_Matrix!BN10=1,Risk_Marj!$J$232=1),1,0)","v":0},{"$f":"IF(AND(EBP_Matrix!BO10=1,Risk_Tob!$J$225=1),1,0)","v":0},{"$f":"IF(AND(EBP_Matrix!BP10=1,Risk_RxDrugs!$J$225=1),1,0)","v":0},{"$f":"IF(AND(EBP_Matrix!BQ10=1,Risk_Other!$J$225=1),1,0)","v":0},{"$f":"IF(AND(EBP_Matrix!BR10=1,Risk_Alc!$J$268=1),1,0)","v":0},{"$f":"IF(AND(EBP_Matrix!BS10=1,Risk_Marj!$J$233=1),1,0)","v":0},{"$f":"IF(AND(EBP_Matrix!BT10=1,Risk_Tob!$J$226=1),1,0)","v":0},{"$f":"IF(AND(EBP_Matrix!BU10=1,Risk_RxDrugs!$J$226=1),1,0)","v":0},{"$f":"IF(AND(EBP_Matrix!BV10=1,Risk_Other!$J$226=1),1,0)","v":0},{"$f":"IF(AND(EBP_Matrix!BW10=1,Risk_Alc!$J$269=1),1,0)","v":0},{"$f":"IF(AND(EBP_Matrix!BX10=1,Risk_Marj!$J$234=1),1,0)","v":0},{"$f":"IF(AND(EBP_Matrix!BY10=1,Risk_Tob!$J$227=1),1,0)","v":0},{"$f":"IF(AND(EBP_Matrix!BZ10=1,Risk_RxDrugs!$J$227=1),1,0)","v":0},{"$f":"IF(AND(EBP_Matrix!CA10=1,Risk_Other!$J$227=1),1,0)","v":0},{"$f":"IF(AND(EBP_Matrix!CB10=1,Risk_Alc!$J$270=1),1,0)","v":0},{"$f":"IF(AND(EBP_Matrix!CC10=1,Risk_Marj!$J$235=1),1,0)","v":0},{"$f":"IF(AND(EBP_Matrix!CD10=1,Risk_Tob!$J$228=1),1,0)","v":0},{"$f":"IF(AND(EBP_Matrix!CE10=1,Risk_RxDrugs!$J$228=1),1,0)","v":0},{"$f":"IF(AND(EBP_Matrix!CF10=1,Risk_Other!$J$228=1),1,0)","v":0},{"$f":"IF(AND(EBP_Matrix!CG10=1,Risk_Alc!$J$271=1),1,0)","v":0},{"$f":"IF(AND(EBP_Matrix!CH10=1,Risk_Marj!$J$236=1),1,0)","v":0},{"$f":"IF(AND(EBP_Matrix!CI10=1,Risk_Tob!$J$229=1),1,0)","v":0},{"$f":"IF(AND(EBP_Matrix!CJ10=1,Risk_RxDrugs!$J$229=1),1,0)","v":0},{"$f":"IF(AND(EBP_Matrix!CK10=1,Risk_Other!$J$229=1),1,0)","v":0},{"$f":"IF(AND(EBP_Matrix!CL10=1,Risk_Alc!$J$272=1),1,0)","v":0},{"$f":"IF(AND(EBP_Matrix!CM10=1,Risk_Marj!$J$237=1),1,0)","v":0},{"$f":"IF(AND(EBP_Matrix!CN10=1,Risk_Tob!$J$230=1),1,0)","v":0},{"$f":"IF(AND(EBP_Matrix!CO10=1,Risk_RxDrugs!$J$230=1),1,0)","v":0},{"$f":"IF(AND(EBP_Matrix!CP10=1,Risk_Other!$J$230=1),1,0)","v":0},0,0,0,0,0,0,0]
[{"$f":"EBP_Matrix!A11","v":"Challenging College Alcohol Abuse (CCAA)"},null,null,0,null,null,null,{"$f":"IF(AND(EBP_Matrix!T11=1,Prob_Alc!C71>0),1,0)","v":0},{"$f":"IF(AND(EBP_Matrix!T11=1,Prob_Alc!C71>0),1,0)","v":0},{"$f":"IF(AND(EBP_Matrix!T11=1,Prob_Alc!C71>0),1,0)","v":0},{"$f":"IF(AND(EBP_Matrix!T11=1,Prob_Alc!C71>0),1,0)","v":0},{"$f":"IF(AND(EBP_Matrix!T11=1,Prob_Alc!C71>0),1,0)","v":0},{"$f":"IF(AND(EBP_Matrix!T11=1,Prob_Alc!C71>0),1,0)","v":0},{"$f":"IF(AND(EBP_Matrix!T11=1,Prob_Alc!C71>0),1,0)","v":0},{"$f":"IF(AND(EBP_Matrix!T11=1,Prob_Alc!C71>0),1,0)","v":0},{"$f":"IF(AND(EBP_Matrix!U11=1,Prob_Marj!C71>0),1,0)","v":0},{"$f":"IF(AND(EBP_Matrix!U11=1,Prob_Marj!C71>0),1,0)","v":0},{"$f":"IF(AND(EBP_Matrix!U11=1,Prob_Marj!C71>0),1,0)","v":0},{"$f":"IF(AND(EBP_Matrix!U11=1,Prob_Marj!C71>0),1,0)","v":0},{"$f":"IF(AND(EBP_Matrix!V11=1,Prob_Tob!C71>0),1,0)","v":0},{"$f":"IF(AND(EBP_Matrix!V11=1,Prob_Tob!C71>0),1,0)","v":0},{"$f":"IF(AND(EBP_Matrix!V11=1,Prob_Tob!C71>0),1,0)","v":0},{"$f":"IF(AND(EBP_Matrix!V11=1,Prob_Tob!C71>0),1,0)","v":0},{"$f":"IF(AND(EBP_Matrix!V11=1,Prob_Tob!C71>0),1,0)","v":0},{"$f":"IF(AND(EBP_Matrix!V11=1,Prob_Tob!C71>0),1,0)","v":0},{"$f":"IF(AND(EBP_Matrix!W11=1,Prob_RxDrugs!C31>0),1,0)","v":0},{"$f":"IF(AND(EBP_Matrix!W11=1,Prob_RxDrugs!C31>0),1,0)","v":0},null,{"$f":"IF(AND(EBP_Matrix!X11=1,Prob_Other!C21>0),1,0)","v":0},{"$f":"IF(AND(EBP_Matrix!Y11=1,Risk_Alc!$J$259=1),1,0)","v":0},{"$f":"IF(AND(EBP_Matrix!Z11=1,Risk_Marj!$J$224=1),1,0)","v":0},{"$f":"IF(AND(EBP_Matrix!AA11=1,Risk_Tob!$J$217=1),1,0)","v":0},{"$f":"IF(AND(EBP_Matrix!AB11=1,Risk_RxDrugs!$J$217=1),1,0)","v":0},{"$f":"IF(AND(EBP_Matrix!AC11=1,Risk_Other!$J$217=1),1,0)","v":0},{"$f":"IF(AND(EBP_Matrix!AD11=1,Risk_Alc!$J$260=1),1,0)","v":0},{"$f":"IF(AND(EBP_Matrix!AE11=1,Risk_Marj!$J$225=1),1,0)","v":0},{"$f":"IF(AND(EBP_Matrix!AF11=1,Risk_Tob!$J$218=1),1,0)","v":0},{"$f":"IF(AND(EBP_Matrix!AG11=1,Risk_RxDrugs!$J$218=1),1,0)","v":0},{"$f":"IF(AND(EBP_Matrix!AH11=1,Risk_Other!$J$218=1),1,0)","v":0},{"$f":"IF(AND(EBP_Matrix!AI11=1,Risk_Alc!$J$261=1),1,0)","v":0},{"$f":"IF(AND(EBP_Matrix!AJ11=1,Risk_Marj!$J$226=1),1,0)","v":0},{"$f":"IF(AND(EBP_Matrix!AK11=1,Risk_Tob!$J$219=1),1,0)","v":0},{"$f":"IF(AND(EBP_Matrix!AL11=1,Risk_RxDrugs!$J$219=1),1,0)","v":0},{"$f":"IF(AND(EBP_Matrix!AM11=1,Risk_Other!$J$219=1),1,0)","v":0},{"$f":"IF(AND(EBP_Matrix!AN11=1,Risk_Alc!$J$262=1),1,0)","v":0},{"$f":"IF(AND(EBP_Matrix!AO11=1,Risk_Marj!$J$227=1),1,0)","v":0},{"$f":"IF(AND(EBP_Matrix!AP11=1,Risk_Tob!$J$220=1),1,0)","v":0},{"$f":"IF(AND(EBP_Matrix!AQ11=1,Risk_RxDrugs!$J$220=1),1,0)","v":0},{"$f":"IF(AND(EBP_Matrix!AR11=1,Risk_Other!$J$220=1),1,0)","v":0},{"$f":"IF(AND(EBP_Matrix!AS11=1,Risk_Alc!$J$263=1),1,0)","v":0},{"$f":"IF(AND(EBP_Matrix!AT11=1,Risk_Marj!$J$228=1),1,0)","v":0},{"$f":"IF(AND(EBP_Matrix!AU11=1,Risk_Tob!$J$221=1),1,0)","v":0},{"$f":"IF(AND(EBP_Matrix!AV11=1,Risk_RxDrugs!$J$221=1),1,0)","v":0},{"$f":"IF(AND(EBP_Matrix!AW11=1,Risk_Other!$J$221=1),1,0)","v":0},{"$f":"IF(AND(EBP_Matrix!AX11=1,Risk_Alc!$J$264=1),1,0)","v":0},{"$f":"IF(AND(EBP_Matrix!AY11=1,Risk_Marj!$J$229=1),1,0)","v":0},{"$f":"IF(AND(EBP_Matrix!AZ11=1,Risk_Tob!$J$222=1),1,0)","v":0},{"$f":"IF(AND(EBP_Matrix!BA11=1,Risk_RxDrugs!$J$222=1),1,0)","v":0},{"$f":"IF(AND(EBP_Matrix!BB11=1,Risk_Other!$J$222=1),1,0)","v":0},{"$f":"IF(AND(EBP_Matrix!BC11=1,Risk_Alc!$J$265=1),1,0)","v":0},{"$f":"IF(AND(EBP_Matrix!BD11=1,Risk_Marj!$J$230=1),1,0)","v":0},{"$f":"IF(AND(EBP_Matrix!BE11=1,Risk_Tob!$J$223=1),1,0)","v":0},{"$f":"IF(AND(EBP_Matrix!BF11=1,Risk_RxDrugs!$J$223=1),1,0)","v":0},{"$f":"IF(AND(EBP_Matrix!BG11=1,Risk_Other!$J$223=1),1,0)","v":0},{"$f":"IF(AND(EBP_Matrix!BH11=1,Risk_Alc!$J$266=1),1,0)","v":0},{"$f":"IF(AND(EBP_Matrix!BI11=1,Risk_Marj!$J$231=1),1,0)","v":0},{"$f":"IF(AND(EBP_Matrix!BJ11=1,Risk_Tob!$J$224=1),1,0)","v":0},{"$f":"IF(AND(EBP_Matrix!BK11=1,Risk_RxDrugs!$J$224=1),1,0)","v":0},{"$f":"IF(AND(EBP_Matrix!BL11=1,Risk_Other!$J$224=1),1,0)","v":0},{"$f":"IF(AND(EBP_Matrix!BM11=1,Risk_Alc!$J$267=1),1,0)","v":0},{"$f":"IF(AND(EBP_Matrix!BN11=1,Risk_Marj!$J$232=1),1,0)","v":0},{"$f":"IF(AND(EBP_Matrix!BO11=1,Risk_Tob!$J$225=1),1,0)","v":0},{"$f":"IF(AND(EBP_Matrix!BP11=1,Risk_RxDrugs!$J$225=1),1,0)","v":0},{"$f":"IF(AND(EBP_Matrix!BQ11=1,Risk_Other!$J$225=1),1,0)","v":0},{"$f":"IF(AND(EBP_Matrix!BR11=1,Risk_Alc!$J$268=1),1,0)","v":0},{"$f":"IF(AND(EBP_Matrix!BS11=1,Risk_Marj!$J$233=1),1,0)","v":0},{"$f":"IF(AND(EBP_Matrix!BT11=1,Risk_Tob!$J$226=1),1,0)","v":0},{"$f":"IF(AND(EBP_Matrix!BU11=1,Risk_RxDrugs!$J$226=1),1,0)","v":0},{"$f":"IF(AND(EBP_Matrix!BV11=1,Risk_Other!$J$226=1),1,0)","v":0},{"$f":"IF(AND(EBP_Matrix!BW11=1,Risk_Alc!$J$269=1),1,0)","v":0},{"$f":"IF(AND(EBP_Matrix!BX11=1,Risk_Marj!$J$234=1),1,0)","v":0},{"$f":"IF(AND(EBP_Matrix!BY11=1,Risk_Tob!$J$227=1),1,0)","v":0},{"$f":"IF(AND(EBP_Matrix!BZ11=1,Risk_RxDrugs!$J$227=1),1,0)","v":0},{"$f":"IF(AND(EBP_Matrix!CA11=1,Risk_Other!$J$227=1),1,0)","v":0},{"$f":"IF(AND(EBP_Matrix!CB11=1,Risk_Alc!$J$270=1),1,0)","v":0},{"$f":"IF(AND(EBP_Matrix!CC11=1,Risk_Marj!$J$235=1),1,0)","v":0},{"$f":"IF(AND(EBP_Matrix!CD11=1,Risk_Tob!$J$228=1),1,0)","v":0},{"$f":"IF(AND(EBP_Matrix!CE11=1,Risk_RxDrugs!$J$228=1),1,0)","v":0},{"$f":"IF(AND(EBP_Matrix!CF11=1,Risk_Other!$J$228=1),1,0)","v":0},{"$f":"IF(AND(EBP_Matrix!CG11=1,Risk_Alc!$J$271=1),1,0)","v":0},{"$f":"IF(AND(EBP_Matrix!CH11=1,Risk_Marj!$J$236=1),1,0)","v":0},{"$f":"IF(AND(EBP_Matrix!CI11=1,Risk_Tob!$J$229=1),1,0)","v":0},{"$f":"IF(AND(EBP_Matrix!CJ11=1,Risk_RxDrugs!$J$229=1),1,0)","v":0},{"$f":"IF(AND(EBP_Matrix!CK11=1,Risk_Other!$J$229=1),1,0)","v":0},{"$f":"IF(AND(EBP_Matrix!CL11=1,Risk_Alc!$J$272=1),1,0)","v":0},{"$f":"IF(AND(EBP_Matrix!CM11=1,Risk_Marj!$J$237=1),1,0)","v":0},{"$f":"IF(AND(EBP_Matrix!CN11=1,Risk_Tob!$J$230=1),1,0)","v":0},{"$f":"IF(AND(EBP_Matrix!CO11=1,Risk_RxDrugs!$J$230=1),1,0)","v":0},{"$f":"IF(AND(EBP_Matrix!CP11=1,Risk_Other!$J$230=1),1,0)","v":0},0,0,0,0,0,0,0]
[{"$f":"EBP_Matrix!A12","v":"CHOICES (college program)"},null,null,0,null,null,null,{"$f":"IF(AND(EBP_Matrix!T12=1,Prob_Alc!C71>0),1,0)","v":0},{"$f":"IF(AND(EBP_Matrix!T12=1,Prob_Alc!C71>0),1,0)","v":0},{"$f":"IF(AND(EBP_Matrix!T12=1,Prob_Alc!C71>0),1,0)","v":0},{"$f":"IF(AND(EBP_Matrix!T12=1,Prob_Alc!C71>0),1,0)","v":0},{"$f":"IF(AND(EBP_Matrix!T12=1,Prob_Alc!C71>0),1,0)","v":0},{"$f":"IF(AND(EBP_Matrix!T12=1,Prob_Alc!C71>0),1,0)","v":0},{"$f":"IF(AND(EBP_Matrix!T12=1,Prob_Alc!C71>0),1,0)","v":0},{"$f":"IF(AND(EBP_Matrix!T12=1,Prob_Alc!C71>0),1,0)","v":0},{"$f":"IF(AND(EBP_Matrix!U12=1,Prob_Marj!C71>0),1,0)","v":0},{"$f":"IF(AND(EBP_Matrix!U12=1,Prob_Marj!C71>0),1,0)","v":0},{"$f":"IF(AND(EBP_Matrix!U12=1,Prob_Marj!C71>0),1,0)","v":0},{"$f":"IF(AND(EBP_Matrix!U12=1,Prob_Marj!C71>0),1,0)","v":0},{"$f":"IF(AND(EBP_Matrix!V12=1,Prob_Tob!C71>0),1,0)","v":0},{"$f":"IF(AND(EBP_Matrix!V12=1,Prob_Tob!C71>0),1,0)","v":0},{"$f":"IF(AND(EBP_Matrix!V12=1,Prob_Tob!C71>0),1,0)","v":0},{"$f":"IF(AND(EBP_Matrix!V12=1,Prob_Tob!C71>0),1,0)","v":0},{"$f":"IF(AND(EBP_Matrix!V12=1,Prob_Tob!C71>0),1,0)","v":0},{"$f":"IF(AND(EBP_Matrix!V12=1,Prob_Tob!C71>0),1,0)","v":0},{"$f":"IF(AND(EBP_Matrix!W12=1,Prob_RxDrugs!C31>0),1,0)","v":0},{"$f":"IF(AND(EBP_Matrix!W12=1,Prob_RxDrugs!C31>0),1,0)","v":0},null,{"$f":"IF(AND(EBP_Matrix!X12=1,Prob_Other!C21>0),1,0)","v":0},{"$f":"IF(AND(EBP_Matrix!Y12=1,Risk_Alc!$J$259=1),1,0)","v":0},{"$f":"IF(AND(EBP_Matrix!Z12=1,Risk_Marj!$J$224=1),1,0)","v":0},{"$f":"IF(AND(EBP_Matrix!AA12=1,Risk_Tob!$J$217=1),1,0)","v":0},{"$f":"IF(AND(EBP_Matrix!AB12=1,Risk_RxDrugs!$J$217=1),1,0)","v":0},{"$f":"IF(AND(EBP_Matrix!AC12=1,Risk_Other!$J$217=1),1,0)","v":0},{"$f":"IF(AND(EBP_Matrix!AD12=1,Risk_Alc!$J$260=1),1,0)","v":0},{"$f":"IF(AND(EBP_Matrix!AE12=1,Risk_Marj!$J$225=1),1,0)","v":0},{"$f":"IF(AND(EBP_Matrix!AF12=1,Risk_Tob!$J$218=1),1,0)","v":0},{"$f":"IF(AND(EBP_Matrix!AG12=1,Risk_RxDrugs!$J$218=1),1,0)","v":0},{"$f":"IF(AND(EBP_Matrix!AH12=1,Risk_Other!$J$218=1),1,0)","v":0},{"$f":"IF(AND(EBP_Matrix!AI12=1,Risk_Alc!$J$261=1),1,0)","v":0},{"$f":"IF(AND(EBP_Matrix!AJ12=1,Risk_Marj!$J$226=1),1,0)","v":0},{"$f":"IF(AND(EBP_Matrix!AK12=1,Risk_Tob!$J$219=1),1,0)","v":0},{"$f":"IF(AND(EBP_Matrix!AL12=1,Risk_RxDrugs!$J$219=1),1,0)","v":0},{"$f":"IF(AND(EBP_Matrix!AM12=1,Risk_Other!$J$219=1),1,0)","v":0},{"$f":"IF(AND(EBP_Matrix!AN12=1,Risk_Alc!$J$262=1),1,0)","v":0},{"$f":"IF(AND(EBP_Matrix!AO12=1,Risk_Marj!$J$227=1),1,0)","v":0},{"$f":"IF(AND(EBP_Matrix!AP12=1,Risk_Tob!$J$220=1),1,0)","v":0},{"$f":"IF(AND(EBP_Matrix!AQ12=1,Risk_RxDrugs!$J$220=1),1,0)","v":0},{"$f":"IF(AND(EBP_Matrix!AR12=1,Risk_Other!$J$220=1),1,0)","v":0},{"$f":"IF(AND(EBP_Matrix!AS12=1,Risk_Alc!$J$263=1),1,0)","v":0},{"$f":"IF(AND(EBP_Matrix!AT12=1,Risk_Marj!$J$228=1),1,0)","v":0},{"$f":"IF(AND(EBP_Matrix!AU12=1,Risk_Tob!$J$221=1),1,0)","v":0},{"$f":"IF(AND(EBP_Matrix!AV12=1,Risk_RxDrugs!$J$221=1),1,0)","v":0},{"$f":"IF(AND(EBP_Matrix!AW12=1,Risk_Other!$J$221=1),1,0)","v":0},{"$f":"IF(AND(EBP_Matrix!AX12=1,Risk_Alc!$J$264=1),1,0)","v":0},{"$f":"IF(AND(EBP_Matrix!AY12=1,Risk_Marj!$J$229=1),1,0)","v":0},{"$f":"IF(AND(EBP_Matrix!AZ12=1,Risk_Tob!$J$222=1),1,0)","v":0},{"$f":"IF(AND(EBP_Matrix!BA12=1,Risk_RxDrugs!$J$222=1),1,0)","v":0},{"$f":"IF(AND(EBP_Matrix!BB12=1,Risk_Other!$J$222=1),1,0)","v":0},{"$f":"IF(AND(EBP_Matrix!BC12=1,Risk_Alc!$J$265=1),1,0)","v":0},{"$f":"IF(AND(EBP_Matrix!BD12=1,Risk_Marj!$J$230=1),1,0)","v":0},{"$f":"IF(AND(EBP_Matrix!BE12=1,Risk_Tob!$J$223=1),1,0)","v":0},{"$f":"IF(AND(EBP_Matrix!BF12=1,Risk_RxDrugs!$J$223=1),1,0)","v":0},{"$f":"IF(AND(EBP_Matrix!BG12=1,Risk_Other!$J$223=1),1,0)","v":0},{"$f":"IF(AND(EBP_Matrix!BH12=1,Risk_Alc!$J$266=1),1,0)","v":0},{"$f":"IF(AND(EBP_Matrix!BI12=1,Risk_Marj!$J$231=1),1,0)","v":0},{"$f":"IF(AND(EBP_Matrix!BJ12=1,Risk_Tob!$J$224=1),1,0)","v":0},{"$f":"IF(AND(EBP_Matrix!BK12=1,Risk_RxDrugs!$J$224=1),1,0)","v":0},{"$f":"IF(AND(EBP_Matrix!BL12=1,Risk_Other!$J$224=1),1,0)","v":0},{"$f":"IF(AND(EBP_Matrix!BM12=1,Risk_Alc!$J$267=1),1,0)","v":0},{"$f":"IF(AND(EBP_Matrix!BN12=1,Risk_Marj!$J$232=1),1,0)","v":0},{"$f":"IF(AND(EBP_Matrix!BO12=1,Risk_Tob!$J$225=1),1,0)","v":0},{"$f":"IF(AND(EBP_Matrix!BP12=1,Risk_RxDrugs!$J$225=1),1,0)","v":0},{"$f":"IF(AND(EBP_Matrix!BQ12=1,Risk_Other!$J$225=1),1,0)","v":0},{"$f":"IF(AND(EBP_Matrix!BR12=1,Risk_Alc!$J$268=1),1,0)","v":0},{"$f":"IF(AND(EBP_Matrix!BS12=1,Risk_Marj!$J$233=1),1,0)","v":0},{"$f":"IF(AND(EBP_Matrix!BT12=1,Risk_Tob!$J$226=1),1,0)","v":0},{"$f":"IF(AND(EBP_Matrix!BU12=1,Risk_RxDrugs!$J$226=1),1,0)","v":0},{"$f":"IF(AND(EBP_Matrix!BV12=1,Risk_Other!$J$226=1),1,0)","v":0},{"$f":"IF(AND(EBP_Matrix!BW12=1,Risk_Alc!$J$269=1),1,0)","v":0},{"$f":"IF(AND(EBP_Matrix!BX12=1,Risk_Marj!$J$234=1),1,0)","v":0},{"$f":"IF(AND(EBP_Matrix!BY12=1,Risk_Tob!$J$227=1),1,0)","v":0},{"$f":"IF(AND(EBP_Matrix!BZ12=1,Risk_RxDrugs!$J$227=1),1,0)","v":0},{"$f":"IF(AND(EBP_Matrix!CA12=1,Risk_Other!$J$227=1),1,0)","v":0},{"$f":"IF(AND(EBP_Matrix!CB12=1,Risk_Alc!$J$270=1),1,0)","v":0},{"$f":"IF(AND(EBP_Matrix!CC12=1,Risk_Marj!$J$235=1),1,0)","v":0},{"$f":"IF(AND(EBP_Matrix!CD12=1,Risk_Tob!$J$228=1),1,0)","v":0},{"$f":"IF(AND(EBP_Matrix!CE12=1,Risk_RxDrugs!$J$228=1),1,0)","v":0},{"$f":"IF(AND(EBP_Matrix!CF12=1,Risk_Other!$J$228=1),1,0)","v":0},{"$f":"IF(AND(EBP_Matrix!CG12=1,Risk_Alc!$J$271=1),1,0)","v":0},{"$f":"IF(AND(EBP_Matrix!CH12=1,Risk_Marj!$J$236=1),1,0)","v":0},{"$f":"IF(AND(EBP_Matrix!CI12=1,Risk_Tob!$J$229=1),1,0)","v":0},{"$f":"IF(AND(EBP_Matrix!CJ12=1,Risk_RxDrugs!$J$229=1),1,0)","v":0},{"$f":"IF(AND(EBP_Matrix!CK12=1,Risk_Other!$J$229=1),1,0)","v":0},{"$f":"IF(AND(EBP_Matrix!CL12=1,Risk_Alc!$J$272=1),1,0)","v":0},{"$f":"IF(AND(EBP_Matrix!CM12=1,Risk_Marj!$J$237=1),1,0)","v":0},{"$f":"IF(AND(EBP_Matrix!CN12=1,Risk_Tob!$J$230=1),1,0)","v":0},{"$f":"IF(AND(EBP_Matrix!CO12=1,Risk_RxDrugs!$J$230=1),1,0)","v":0},{"$f":"IF(AND(EBP_Matrix!CP12=1,Risk_Other!$J$230=1),1,0)","v":0},0,0,0,0,0,0,0]
[{"$f":"EBP_Matrix!A13","v":"Circle of Security"},null,null,0,null,null,null,{"$f":"IF(AND(EBP_Matrix!T13=1,Prob_Alc!C71>0),1,0)","v":0},{"$f":"IF(AND(EBP_Matrix!T13=1,Prob_Alc!C71>0),1,0)","v":0},{"$f":"IF(AND(EBP_Matrix!T13=1,Prob_Alc!C71>0),1,0)","v":0},{"$f":"IF(AND(EBP_Matrix!T13=1,Prob_Alc!C71>0),1,0)","v":0},{"$f":"IF(AND(EBP_Matrix!T13=1,Prob_Alc!C71>0),1,0)","v":0},{"$f":"IF(AND(EBP_Matrix!T13=1,Prob_Alc!C71>0),1,0)","v":0},{"$f":"IF(AND(EBP_Matrix!T13=1,Prob_Alc!C71>0),1,0)","v":0},{"$f":"IF(AND(EBP_Matrix!T13=1,Prob_Alc!C71>0),1,0)","v":0},{"$f":"IF(AND(EBP_Matrix!U13=1,Prob_Marj!C71>0),1,0)","v":0},{"$f":"IF(AND(EBP_Matrix!U13=1,Prob_Marj!C71>0),1,0)","v":0},{"$f":"IF(AND(EBP_Matrix!U13=1,Prob_Marj!C71>0),1,0)","v":0},{"$f":"IF(AND(EBP_Matrix!U13=1,Prob_Marj!C71>0),1,0)","v":0},{"$f":"IF(AND(EBP_Matrix!V13=1,Prob_Tob!C71>0),1,0)","v":0},{"$f":"IF(AND(EBP_Matrix!V13=1,Prob_Tob!C71>0),1,0)","v":0},{"$f":"IF(AND(EBP_Matrix!V13=1,Prob_Tob!C71>0),1,0)","v":0},{"$f":"IF(AND(EBP_Matrix!V13=1,Prob_Tob!C71>0),1,0)","v":0},{"$f":"IF(AND(EBP_Matrix!V13=1,Prob_Tob!C71>0),1,0)","v":0},{"$f":"IF(AND(EBP_Matrix!V13=1,Prob_Tob!C71>0),1,0)","v":0},{"$f":"IF(AND(EBP_Matrix!W13=1,Prob_RxDrugs!C31>0),1,0)","v":0},{"$f":"IF(AND(EBP_Matrix!W13=1,Prob_RxDrugs!C31>0),1,0)","v":0},null,{"$f":"IF(AND(EBP_Matrix!X13=1,Prob_Other!C21>0),1,0)","v":0},{"$f":"IF(AND(EBP_Matrix!Y13=1,Risk_Alc!$J$259=1),1,0)","v":0},{"$f":"IF(AND(EBP_Matrix!Z13=1,Risk_Marj!$J$224=1),1,0)","v":0},{"$f":"IF(AND(EBP_Matrix!AA13=1,Risk_Tob!$J$217=1),1,0)","v":0},{"$f":"IF(AND(EBP_Matrix!AB13=1,Risk_RxDrugs!$J$217=1),1,0)","v":0},{"$f":"IF(AND(EBP_Matrix!AC13=1,Risk_Other!$J$217=1),1,0)","v":0},{"$f":"IF(AND(EBP_Matrix!AD13=1,Risk_Alc!$J$260=1),1,0)","v":0},{"$f":"IF(AND(EBP_Matrix!AE13=1,Risk_Marj!$J$225=1),1,0)","v":0},{"$f":"IF(AND(EBP_Matrix!AF13=1,Risk_Tob!$J$218=1),1,0)","v":0},{"$f":"IF(AND(EBP_Matrix!AG13=1,Risk_RxDrugs!$J$218=1),1,0)","v":0},{"$f":"IF(AND(EBP_Matrix!AH13=1,Risk_Other!$J$218=1),1,0)","v":0},{"$f":"IF(AND(EBP_Matrix!AI13=1,Risk_Alc!$J$261=1),1,0)","v":0},{"$f":"IF(AND(EBP_Matrix!AJ13=1,Risk_Marj!$J$226=1),1,0)","v":0},{"$f":"IF(AND(EBP_Matrix!AK13=1,Risk_Tob!$J$219=1),1,0)","v":0},{"$f":"IF(AND(EBP_Matrix!AL13=1,Risk_RxDrugs!$J$219=1),1,0)","v":0},{"$f":"IF(AND(EBP_Matrix!AM13=1,Risk_Other!$J$219=1),1,0)","v":0},{"$f":"IF(AND(EBP_Matrix!AN13=1,Risk_Alc!$J$262=1),1,0)","v":0},{"$f":"IF(AND(EBP_Matrix!AO13=1,Risk_Marj!$J$227=1),1,0)","v":0},{"$f":"IF(AND(EBP_Matrix!AP13=1,Risk_Tob!$J$220=1),1,0)","v":0},{"$f":"IF(AND(EBP_Matrix!AQ13=1,Risk_RxDrugs!$J$220=1),1,0)","v":0},{"$f":"IF(AND(EBP_Matrix!AR13=1,Risk_Other!$J$220=1),1,0)","v":0},{"$f":"IF(AND(EBP_Matrix!AS13=1,Risk_Alc!$J$263=1),1,0)","v":0},{"$f":"IF(AND(EBP_Matrix!AT13=1,Risk_Marj!$J$228=1),1,0)","v":0},{"$f":"IF(AND(EBP_Matrix!AU13=1,Risk_Tob!$J$221=1),1,0)","v":0},{"$f":"IF(AND(EBP_Matrix!AV13=1,Risk_RxDrugs!$J$221=1),1,0)","v":0},{"$f":"IF(AND(EBP_Matrix!AW13=1,Risk_Other!$J$221=1),1,0)","v":0},{"$f":"IF(AND(EBP_Matrix!AX13=1,Risk_Alc!$J$264=1),1,0)","v":0},{"$f":"IF(AND(EBP_Matrix!AY13=1,Risk_Marj!$J$229=1),1,0)","v":0},{"$f":"IF(AND(EBP_Matrix!AZ13=1,Risk_Tob!$J$222=1),1,0)","v":0},{"$f":"IF(AND(EBP_Matrix!BA13=1,Risk_RxDrugs!$J$222=1),1,0)","v":0},{"$f":"IF(AND(EBP_Matrix!BB13=1,Risk_Other!$J$222=1),1,0)","v":0},{"$f":"IF(AND(EBP_Matrix!BC13=1,Risk_Alc!$J$265=1),1,0)","v":0},{"$f":"IF(AND(EBP_Matrix!BD13=1,Risk_Marj!$J$230=1),1,0)","v":0},{"$f":"IF(AND(EBP_Matrix!BE13=1,Risk_Tob!$J$223=1),1,0)","v":0},{"$f":"IF(AND(EBP_Matrix!BF13=1,Risk_RxDrugs!$J$223=1),1,0)","v":0},{"$f":"IF(AND(EBP_Matrix!BG13=1,Risk_Other!$J$223=1),1,0)","v":0},{"$f":"IF(AND(EBP_Matrix!BH13=1,Risk_Alc!$J$266=1),1,0)","v":0},{"$f":"IF(AND(EBP_Matrix!BI13=1,Risk_Marj!$J$231=1),1,0)","v":0},{"$f":"IF(AND(EBP_Matrix!BJ13=1,Risk_Tob!$J$224=1),1,0)","v":0},{"$f":"IF(AND(EBP_Matrix!BK13=1,Risk_RxDrugs!$J$224=1),1,0)","v":0},{"$f":"IF(AND(EBP_Matrix!BL13=1,Risk_Other!$J$224=1),1,0)","v":0},{"$f":"IF(AND(EBP_Matrix!BM13=1,Risk_Alc!$J$267=1),1,0)","v":0},{"$f":"IF(AND(EBP_Matrix!BN13=1,Risk_Marj!$J$232=1),1,0)","v":0},{"$f":"IF(AND(EBP_Matrix!BO13=1,Risk_Tob!$J$225=1),1,0)","v":0},{"$f":"IF(AND(EBP_Matrix!BP13=1,Risk_RxDrugs!$J$225=1),1,0)","v":0},{"$f":"IF(AND(EBP_Matrix!BQ13=1,Risk_Other!$J$225=1),1,0)","v":0},{"$f":"IF(AND(EBP_Matrix!BR13=1,Risk_Alc!$J$268=1),1,0)","v":0},{"$f":"IF(AND(EBP_Matrix!BS13=1,Risk_Marj!$J$233=1),1,0)","v":0},{"$f":"IF(AND(EBP_Matrix!BT13=1,Risk_Tob!$J$226=1),1,0)","v":0},{"$f":"IF(AND(EBP_Matrix!BU13=1,Risk_RxDrugs!$J$226=1),1,0)","v":0},{"$f":"IF(AND(EBP_Matrix!BV13=1,Risk_Other!$J$226=1),1,0)","v":0},{"$f":"IF(AND(EBP_Matrix!BW13=1,Risk_Alc!$J$269=1),1,0)","v":0},{"$f":"IF(AND(EBP_Matrix!BX13=1,Risk_Marj!$J$234=1),1,0)","v":0},{"$f":"IF(AND(EBP_Matrix!BY13=1,Risk_Tob!$J$227=1),1,0)","v":0},{"$f":"IF(AND(EBP_Matrix!BZ13=1,Risk_RxDrugs!$J$227=1),1,0)","v":0},{"$f":"IF(AND(EBP_Matrix!CA13=1,Risk_Other!$J$227=1),1,0)","v":0},{"$f":"IF(AND(EBP_Matrix!CB13=1,Risk_Alc!$J$270=1),1,0)","v":0},{"$f":"IF(AND(EBP_Matrix!CC13=1,Risk_Marj!$J$235=1),1,0)","v":0},{"$f":"IF(AND(EBP_Matrix!CD13=1,Risk_Tob!$J$228=1),1,0)","v":0},{"$f":"IF(AND(EBP_Matrix!CE13=1,Risk_RxDrugs!$J$228=1),1,0)","v":0},{"$f":"IF(AND(EBP_Matrix!CF13=1,Risk_Other!$J$228=1),1,0)","v":0},{"$f":"IF(AND(EBP_Matrix!CG13=1,Risk_Alc!$J$271=1),1,0)","v":0},{"$f":"IF(AND(EBP_Matrix!CH13=1,Risk_Marj!$J$236=1),1,0)","v":0},{"$f":"IF(AND(EBP_Matrix!CI13=1,Risk_Tob!$J$229=1),1,0)","v":0},{"$f":"IF(AND(EBP_Matrix!CJ13=1,Risk_RxDrugs!$J$229=1),1,0)","v":0},{"$f":"IF(AND(EBP_Matrix!CK13=1,Risk_Other!$J$229=1),1,0)","v":0},{"$f":"IF(AND(EBP_Matrix!CL13=1,Risk_Alc!$J$272=1),1,0)","v":0},{"$f":"IF(AND(EBP_Matrix!CM13=1,Risk_Marj!$J$237=1),1,0)","v":0},{"$f":"IF(AND(EBP_Matrix!CN13=1,Risk_Tob!$J$230=1),1,0)","v":0},{"$f":"IF(AND(EBP_Matrix!CO13=1,Risk_RxDrugs!$J$230=1),1,0)","v":0},{"$f":"IF(AND(EBP_Matrix!CP13=1,Risk_Other!$J$230=1),1,0)","v":0},0,0,0,0,0,0,0]
[{"$f":"EBP_Matrix!A14","v":"Class Action"},null,null,0,null,null,null,{"$f":"IF(AND(EBP_Matrix!T14=1,Prob_Alc!C71>0),1,0)","v":0},{"$f":"IF(AND(EBP_Matrix!T14=1,Prob_Alc!C71>0),1,0)","v":0},{"$f":"IF(AND(EBP_Matrix!T14=1,Prob_Alc!C71>0),1,0)","v":0},{"$f":"IF(AND(EBP_Matrix!T14=1,Prob_Alc!C71>0),1,0)","v":0},{"$f":"IF(AND(EBP_Matrix!T14=1,Prob_Alc!C71>0),1,0)","v":0},{"$f":"IF(AND(EBP_Matrix!T14=1,Prob_Alc!C71>0),1,0)","v":0},{"$f":"IF(AND(EBP_Matrix!T14=1,Prob_Alc!C71>0),1,0)","v":0},{"$f":"IF(AND(EBP_Matrix!T14=1,Prob_Alc!C71>0),1,0)","v":0},{"$f":"IF(AND(EBP_Matrix!U14=1,Prob_Marj!C71>0),1,0)","v":0},{"$f":"IF(AND(EBP_Matrix!U14=1,Prob_Marj!C71>0),1,0)","v":0},{"$f":"IF(AND(EBP_Matrix!U14=1,Prob_Marj!C71>0),1,0)","v":0},{"$f":"IF(AND(EBP_Matrix!U14=1,Prob_Marj!C71>0),1,0)","v":0},{"$f":"IF(AND(EBP_Matrix!V14=1,Prob_Tob!C71>0),1,0)","v":0},{"$f":"IF(AND(EBP_Matrix!V14=1,Prob_Tob!C71>0),1,0)","v":0},{"$f":"IF(AND(EBP_Matrix!V14=1,Prob_Tob!C71>0),1,0)","v":0},{"$f":"IF(AND(EBP_Matrix!V14=1,Prob_Tob!C71>0),1,0)","v":0},{"$f":"IF(AND(EBP_Matrix!V14=1,Prob_Tob!C71>0),1,0)","v":0},{"$f":"IF(AND(EBP_Matrix!V14=1,Prob_Tob!C71>0),1,0)","v":0},{"$f":"IF(AND(EBP_Matrix!W14=1,Prob_RxDrugs!C31>0),1,0)","v":0},{"$f":"IF(AND(EBP_Matrix!W14=1,Prob_RxDrugs!C31>0),1,0)","v":0},null,{"$f":"IF(AND(EBP_Matrix!X14=1,Prob_Other!C21>0),1,0)","v":0},{"$f":"IF(AND(EBP_Matrix!Y14=1,Risk_Alc!$J$259=1),1,0)","v":0},{"$f":"IF(AND(EBP_Matrix!Z14=1,Risk_Marj!$J$224=1),1,0)","v":0},{"$f":"IF(AND(EBP_Matrix!AA14=1,Risk_Tob!$J$217=1),1,0)","v":0},{"$f":"IF(AND(EBP_Matrix!AB14=1,Risk_RxDrugs!$J$217=1),1,0)","v":0},{"$f":"IF(AND(EBP_Matrix!AC14=1,Risk_Other!$J$217=1),1,0)","v":0},{"$f":"IF(AND(EBP_Matrix!AD14=1,Risk_Alc!$J$260=1),1,0)","v":0},{"$f":"IF(AND(EBP_Matrix!AE14=1,Risk_Marj!$J$225=1),1,0)","v":0},{"$f":"IF(AND(EBP_Matrix!AF14=1,Risk_Tob!$J$218=1),1,0)","v":0},{"$f":"IF(AND(EBP_Matrix!AG14=1,Risk_RxDrugs!$J$218=1),1,0)","v":0},{"$f":"IF(AND(EBP_Matrix!AH14=1,Risk_Other!$J$218=1),1,0)","v":0},{"$f":"IF(AND(EBP_Matrix!AI14=1,Risk_Alc!$J$261=1),1,0)","v":0},{"$f":"IF(AND(EBP_Matrix!AJ14=1,Risk_Marj!$J$226=1),1,0)","v":0},{"$f":"IF(AND(EBP_Matrix!AK14=1,Risk_Tob!$J$219=1),1,0)","v":0},{"$f":"IF(AND(EBP_Matrix!AL14=1,Risk_RxDrugs!$J$219=1),1,0)","v":0},{"$f":"IF(AND(EBP_Matrix!AM14=1,Risk_Other!$J$219=1),1,0)","v":0},{"$f":"IF(AND(EBP_Matrix!AN14=1,Risk_Alc!$J$262=1),1,0)","v":0},{"$f":"IF(AND(EBP_Matrix!AO14=1,Risk_Marj!$J$227=1),1,0)","v":0},{"$f":"IF(AND(EBP_Matrix!AP14=1,Risk_Tob!$J$220=1),1,0)","v":0},{"$f":"IF(AND(EBP_Matrix!AQ14=1,Risk_RxDrugs!$J$220=1),1,0)","v":0},{"$f":"IF(AND(EBP_Matrix!AR14=1,Risk_Other!$J$220=1),1,0)","v":0},{"$f":"IF(AND(EBP_Matrix!AS14=1,Risk_Alc!$J$263=1),1,0)","v":0},{"$f":"IF(AND(EBP_Matrix!AT14=1,Risk_Marj!$J$228=1),1,0)","v":0},{"$f":"IF(AND(EBP_Matrix!AU14=1,Risk_Tob!$J$221=1),1,0)","v":0},{"$f":"IF(AND(EBP_Matrix!AV14=1,Risk_RxDrugs!$J$221=1),1,0)","v":0},{"$f":"IF(AND(EBP_Matrix!AW14=1,Risk_Other!$J$221=1),1,0)","v":0},{"$f":"IF(AND(EBP_Matrix!AX14=1,Risk_Alc!$J$264=1),1,0)","v":0},{"$f":"IF(AND(EBP_Matrix!AY14=1,Risk_Marj!$J$229=1),1,0)","v":0},{"$f":"IF(AND(EBP_Matrix!AZ14=1,Risk_Tob!$J$222=1),1,0)","v":0},{"$f":"IF(AND(EBP_Matrix!BA14=1,Risk_RxDrugs!$J$222=1),1,0)","v":0},{"$f":"IF(AND(EBP_Matrix!BB14=1,Risk_Other!$J$222=1),1,0)","v":0},{"$f":"IF(AND(EBP_Matrix!BC14=1,Risk_Alc!$J$265=1),1,0)","v":0},{"$f":"IF(AND(EBP_Matrix!BD14=1,Risk_Marj!$J$230=1),1,0)","v":0},{"$f":"IF(AND(EBP_Matrix!BE14=1,Risk_Tob!$J$223=1),1,0)","v":0},{"$f":"IF(AND(EBP_Matrix!BF14=1,Risk_RxDrugs!$J$223=1),1,0)","v":0},{"$f":"IF(AND(EBP_Matrix!BG14=1,Risk_Other!$J$223=1),1,0)","v":0},{"$f":"IF(AND(EBP_Matrix!BH14=1,Risk_Alc!$J$266=1),1,0)","v":0},{"$f":"IF(AND(EBP_Matrix!BI14=1,Risk_Marj!$J$231=1),1,0)","v":0},{"$f":"IF(AND(EBP_Matrix!BJ14=1,Risk_Tob!$J$224=1),1,0)","v":0},{"$f":"IF(AND(EBP_Matrix!BK14=1,Risk_RxDrugs!$J$224=1),1,0)","v":0},{"$f":"IF(AND(EBP_Matrix!BL14=1,Risk_Other!$J$224=1),1,0)","v":0},{"$f":"IF(AND(EBP_Matrix!BM14=1,Risk_Alc!$J$267=1),1,0)","v":0},{"$f":"IF(AND(EBP_Matrix!BN14=1,Risk_Marj!$J$232=1),1,0)","v":0},{"$f":"IF(AND(EBP_Matrix!BO14=1,Risk_Tob!$J$225=1),1,0)","v":0},{"$f":"IF(AND(EBP_Matrix!BP14=1,Risk_RxDrugs!$J$225=1),1,0)","v":0},{"$f":"IF(AND(EBP_Matrix!BQ14=1,Risk_Other!$J$225=1),1,0)","v":0},{"$f":"IF(AND(EBP_Matrix!BR14=1,Risk_Alc!$J$268=1),1,0)","v":0},{"$f":"IF(AND(EBP_Matrix!BS14=1,Risk_Marj!$J$233=1),1,0)","v":0},{"$f":"IF(AND(EBP_Matrix!BT14=1,Risk_Tob!$J$226=1),1,0)","v":0},{"$f":"IF(AND(EBP_Matrix!BU14=1,Risk_RxDrugs!$J$226=1),1,0)","v":0},{"$f":"IF(AND(EBP_Matrix!BV14=1,Risk_Other!$J$226=1),1,0)","v":0},{"$f":"IF(AND(EBP_Matrix!BW14=1,Risk_Alc!$J$269=1),1,0)","v":0},{"$f":"IF(AND(EBP_Matrix!BX14=1,Risk_Marj!$J$234=1),1,0)","v":0},{"$f":"IF(AND(EBP_Matrix!BY14=1,Risk_Tob!$J$227=1),1,0)","v":0},{"$f":"IF(AND(EBP_Matrix!BZ14=1,Risk_RxDrugs!$J$227=1),1,0)","v":0},{"$f":"IF(AND(EBP_Matrix!CA14=1,Risk_Other!$J$227=1),1,0)","v":0},{"$f":"IF(AND(EBP_Matrix!CB14=1,Risk_Alc!$J$270=1),1,0)","v":0},{"$f":"IF(AND(EBP_Matrix!CC14=1,Risk_Marj!$J$235=1),1,0)","v":0},{"$f":"IF(AND(EBP_Matrix!CD14=1,Risk_Tob!$J$228=1),1,0)","v":0},{"$f":"IF(AND(EBP_Matrix!CE14=1,Risk_RxDrugs!$J$228=1),1,0)","v":0},{"$f":"IF(AND(EBP_Matrix!CF14=1,Risk_Other!$J$228=1),1,0)","v":0},{"$f":"IF(AND(EBP_Matrix!CG14=1,Risk_Alc!$J$271=1),1,0)","v":0},{"$f":"IF(AND(EBP_Matrix!CH14=1,Risk_Marj!$J$236=1),1,0)","v":0},{"$f":"IF(AND(EBP_Matrix!CI14=1,Risk_Tob!$J$229=1),1,0)","v":0},{"$f":"IF(AND(EBP_Matrix!CJ14=1,Risk_RxDrugs!$J$229=1),1,0)","v":0},{"$f":"IF(AND(EBP_Matrix!CK14=1,Risk_Other!$J$229=1),1,0)","v":0},{"$f":"IF(AND(EBP_Matrix!CL14=1,Risk_Alc!$J$272=1),1,0)","v":0},{"$f":"IF(AND(EBP_Matrix!CM14=1,Risk_Marj!$J$237=1),1,0)","v":0},{"$f":"IF(AND(EBP_Matrix!CN14=1,Risk_Tob!$J$230=1),1,0)","v":0},{"$f":"IF(AND(EBP_Matrix!CO14=1,Risk_RxDrugs!$J$230=1),1,0)","v":0},{"$f":"IF(AND(EBP_Matrix!CP14=1,Risk_Other!$J$230=1),1,0)","v":0},0,0,0,0,0,0,0]
[{"$f":"EBP_Matrix!A15","v":"Club HERO (Helping Everyone Reach Out)"},null,null,0,null,null,null,{"$f":"IF(AND(EBP_Matrix!T15=1,Prob_Alc!C71>0),1,0)","v":0},{"$f":"IF(AND(EBP_Matrix!T15=1,Prob_Alc!C71>0),1,0)","v":0},{"$f":"IF(AND(EBP_Matrix!T15=1,Prob_Alc!C71>0),1,0)","v":0},{"$f":"IF(AND(EBP_Matrix!T15=1,Prob_Alc!C71>0),1,0)","v":0},{"$f":"IF(AND(EBP_Matrix!T15=1,Prob_Alc!C71>0),1,0)","v":0},{"$f":"IF(AND(EBP_Matrix!T15=1,Prob_Alc!C71>0),1,0)","v":0},{"$f":"IF(AND(EBP_Matrix!T15=1,Prob_Alc!C71>0),1,0)","v":0},{"$f":"IF(AND(EBP_Matrix!T15=1,Prob_Alc!C71>0),1,0)","v":0},{"$f":"IF(AND(EBP_Matrix!U15=1,Prob_Marj!C71>0),1,0)","v":0},{"$f":"IF(AND(EBP_Matrix!U15=1,Prob_Marj!C71>0),1,0)","v":0},{"$f":"IF(AND(EBP_Matrix!U15=1,Prob_Marj!C71>0),1,0)","v":0},{"$f":"IF(AND(EBP_Matrix!U15=1,Prob_Marj!C71>0),1,0)","v":0},{"$f":"IF(AND(EBP_Matrix!V15=1,Prob_Tob!C71>0),1,0)","v":0},{"$f":"IF(AND(EBP_Matrix!V15=1,Prob_Tob!C71>0),1,0)","v":0},{"$f":"IF(AND(EBP_Matrix!V15=1,Prob_Tob!C71>0),1,0)","v":0},{"$f":"IF(AND(EBP_Matrix!V15=1,Prob_Tob!C71>0),1,0)","v":0},{"$f":"IF(AND(EBP_Matrix!V15=1,Prob_Tob!C71>0),1,0)","v":0},{"$f":"IF(AND(EBP_Matrix!V15=1,Prob_Tob!C71>0),1,0)","v":0},{"$f":"IF(AND(EBP_Matrix!W15=1,Prob_RxDrugs!C31>0),1,0)","v":0},{"$f":"IF(AND(EBP_Matrix!W15=1,Prob_RxDrugs!C31>0),1,0)","v":0},null,{"$f":"IF(AND(EBP_Matrix!X15=1,Prob_Other!C21>0),1,0)","v":0},{"$f":"IF(AND(EBP_Matrix!Y15=1,Risk_Alc!$J$259=1),1,0)","v":0},{"$f":"IF(AND(EBP_Matrix!Z15=1,Risk_Marj!$J$224=1),1,0)","v":0},{"$f":"IF(AND(EBP_Matrix!AA15=1,Risk_Tob!$J$217=1),1,0)","v":0},{"$f":"IF(AND(EBP_Matrix!AB15=1,Risk_RxDrugs!$J$217=1),1,0)","v":0},{"$f":"IF(AND(EBP_Matrix!AC15=1,Risk_Other!$J$217=1),1,0)","v":0},{"$f":"IF(AND(EBP_Matrix!AD15=1,Risk_Alc!$J$260=1),1,0)","v":0},{"$f":"IF(AND(EBP_Matrix!AE15=1,Risk_Marj!$J$225=1),1,0)","v":0},{"$f":"IF(AND(EBP_Matrix!AF15=1,Risk_Tob!$J$218=1),1,0)","v":0},{"$f":"IF(AND(EBP_Matrix!AG15=1,Risk_RxDrugs!$J$218=1),1,0)","v":0},{"$f":"IF(AND(EBP_Matrix!AH15=1,Risk_Other!$J$218=1),1,0)","v":0},{"$f":"IF(AND(EBP_Matrix!AI15=1,Risk_Alc!$J$261=1),1,0)","v":0},{"$f":"IF(AND(EBP_Matrix!AJ15=1,Risk_Marj!$J$226=1),1,0)","v":0},{"$f":"IF(AND(EBP_Matrix!AK15=1,Risk_Tob!$J$219=1),1,0)","v":0},{"$f":"IF(AND(EBP_Matrix!AL15=1,Risk_RxDrugs!$J$219=1),1,0)","v":0},{"$f":"IF(AND(EBP_Matrix!AM15=1,Risk_Other!$J$219=1),1,0)","v":0},{"$f":"IF(AND(EBP_Matrix!AN15=1,Risk_Alc!$J$262=1),1,0)","v":0},{"$f":"IF(AND(EBP_Matrix!AO15=1,Risk_Marj!$J$227=1),1,0)","v":0},{"$f":"IF(AND(EBP_Matrix!AP15=1,Risk_Tob!$J$220=1),1,0)","v":0},{"$f":"IF(AND(EBP_Matrix!AQ15=1,Risk_RxDrugs!$J$220=1),1,0)","v":0},{"$f":"IF(AND(EBP_Matrix!AR15=1,Risk_Other!$J$220=1),1,0)","v":0},{"$f":"IF(AND(EBP_Matrix!AS15=1,Risk_Alc!$J$263=1),1,0)","v":0},{"$f":"IF(AND(EBP_Matrix!AT15=1,Risk_Marj!$J$228=1),1,0)","v":0},{"$f":"IF(AND(EBP_Matrix!AU15=1,Risk_Tob!$J$221=1),1,0)","v":0},{"$f":"IF(AND(EBP_Matrix!AV15=1,Risk_RxDrugs!$J$221=1),1,0)","v":0},{"$f":"IF(AND(EBP_Matrix!AW15=1,Risk_Other!$J$221=1),1,0)","v":0},{"$f":"IF(AND(EBP_Matrix!AX15=1,Risk_Alc!$J$264=1),1,0)","v":0},{"$f":"IF(AND(EBP_Matrix!AY15=1,Risk_Marj!$J$229=1),1,0)","v":0},{"$f":"IF(AND(EBP_Matrix!AZ15=1,Risk_Tob!$J$222=1),1,0)","v":0},{"$f":"IF(AND(EBP_Matrix!BA15=1,Risk_RxDrugs!$J$222=1),1,0)","v":0},{"$f":"IF(AND(EBP_Matrix!BB15=1,Risk_Other!$J$222=1),1,0)","v":0},{"$f":"IF(AND(EBP_Matrix!BC15=1,Risk_Alc!$J$265=1),1,0)","v":0},{"$f":"IF(AND(EBP_Matrix!BD15=1,Risk_Marj!$J$230=1),1,0)","v":0},{"$f":"IF(AND(EBP_Matrix!BE15=1,Risk_Tob!$J$223=1),1,0)","v":0},{"$f":"IF(AND(EBP_Matrix!BF15=1,Risk_RxDrugs!$J$223=1),1,0)","v":0},{"$f":"IF(AND(EBP_Matrix!BG15=1,Risk_Other!$J$223=1),1,0)","v":0},{"$f":"IF(AND(EBP_Matrix!BH15=1,Risk_Alc!$J$266=1),1,0)","v":0},{"$f":"IF(AND(EBP_Matrix!BI15=1,Risk_Marj!$J$231=1),1,0)","v":0},{"$f":"IF(AND(EBP_Matrix!BJ15=1,Risk_Tob!$J$224=1),1,0)","v":0},{"$f":"IF(AND(EBP_Matrix!BK15=1,Risk_RxDrugs!$J$224=1),1,0)","v":0},{"$f":"IF(AND(EBP_Matrix!BL15=1,Risk_Other!$J$224=1),1,0)","v":0},{"$f":"IF(AND(EBP_Matrix!BM15=1,Risk_Alc!$J$267=1),1,0)","v":0},{"$f":"IF(AND(EBP_Matrix!BN15=1,Risk_Marj!$J$232=1),1,0)","v":0},{"$f":"IF(AND(EBP_Matrix!BO15=1,Risk_Tob!$J$225=1),1,0)","v":0},{"$f":"IF(AND(EBP_Matrix!BP15=1,Risk_RxDrugs!$J$225=1),1,0)","v":0},{"$f":"IF(AND(EBP_Matrix!BQ15=1,Risk_Other!$J$225=1),1,0)","v":0},{"$f":"IF(AND(EBP_Matrix!BR15=1,Risk_Alc!$J$268=1),1,0)","v":0},{"$f":"IF(AND(EBP_Matrix!BS15=1,Risk_Marj!$J$233=1),1,0)","v":0},{"$f":"IF(AND(EBP_Matrix!BT15=1,Risk_Tob!$J$226=1),1,0)","v":0},{"$f":"IF(AND(EBP_Matrix!BU15=1,Risk_RxDrugs!$J$226=1),1,0)","v":0},{"$f":"IF(AND(EBP_Matrix!BV15=1,Risk_Other!$J$226=1),1,0)","v":0},{"$f":"IF(AND(EBP_Matrix!BW15=1,Risk_Alc!$J$269=1),1,0)","v":0},{"$f":"IF(AND(EBP_Matrix!BX15=1,Risk_Marj!$J$234=1),1,0)","v":0},{"$f":"IF(AND(EBP_Matrix!BY15=1,Risk_Tob!$J$227=1),1,0)","v":0},{"$f":"IF(AND(EBP_Matrix!BZ15=1,Risk_RxDrugs!$J$227=1),1,0)","v":0},{"$f":"IF(AND(EBP_Matrix!CA15=1,Risk_Other!$J$227=1),1,0)","v":0},{"$f":"IF(AND(EBP_Matrix!CB15=1,Risk_Alc!$J$270=1),1,0)","v":0},{"$f":"IF(AND(EBP_Matrix!CC15=1,Risk_Marj!$J$235=1),1,0)","v":0},{"$f":"IF(AND(EBP_Matrix!CD15=1,Risk_Tob!$J$228=1),1,0)","v":0},{"$f":"IF(AND(EBP_Matrix!CE15=1,Risk_RxDrugs!$J$228=1),1,0)","v":0},{"$f":"IF(AND(EBP_Matrix!CF15=1,Risk_Other!$J$228=1),1,0)","v":0},{"$f":"IF(AND(EBP_Matrix!CG15=1,Risk_Alc!$J$271=1),1,0)","v":0},{"$f":"IF(AND(EBP_Matrix!CH15=1,Risk_Marj!$J$236=1),1,0)","v":0},{"$f":"IF(AND(EBP_Matrix!CI15=1,Risk_Tob!$J$229=1),1,0)","v":0},{"$f":"IF(AND(EBP_Matrix!CJ15=1,Risk_RxDrugs!$J$229=1),1,0)","v":0},{"$f":"IF(AND(EBP_Matrix!CK15=1,Risk_Other!$J$229=1),1,0)","v":0},{"$f":"IF(AND(EBP_Matrix!CL15=1,Risk_Alc!$J$272=1),1,0)","v":0},{"$f":"IF(AND(EBP_Matrix!CM15=1,Risk_Marj!$J$237=1),1,0)","v":0},{"$f":"IF(AND(EBP_Matrix!CN15=1,Risk_Tob!$J$230=1),1,0)","v":0},{"$f":"IF(AND(EBP_Matrix!CO15=1,Risk_RxDrugs!$J$230=1),1,0)","v":0},{"$f":"IF(AND(EBP_Matrix!CP15=1,Risk_Other!$J$230=1),1,0)","v":0},0,0,0,0,0,0,0]
[{"$f":"EBP_Matrix!A16","v":"College Behavior Profile (CBP)"},null,null,0,null,null,null,{"$f":"IF(AND(EBP_Matrix!T16=1,Prob_Alc!C71>0),1,0)","v":0},{"$f":"IF(AND(EBP_Matrix!T16=1,Prob_Alc!C71>0),1,0)","v":0},{"$f":"IF(AND(EBP_Matrix!T16=1,Prob_Alc!C71>0),1,0)","v":0},{"$f":"IF(AND(EBP_Matrix!T16=1,Prob_Alc!C71>0),1,0)","v":0},{"$f":"IF(AND(EBP_Matrix!T16=1,Prob_Alc!C71>0),1,0)","v":0},{"$f":"IF(AND(EBP_Matrix!T16=1,Prob_Alc!C71>0),1,0)","v":0},{"$f":"IF(AND(EBP_Matrix!T16=1,Prob_Alc!C71>0),1,0)","v":0},{"$f":"IF(AND(EBP_Matrix!T16=1,Prob_Alc!C71>0),1,0)","v":0},{"$f":"IF(AND(EBP_Matrix!U16=1,Prob_Marj!C71>0),1,0)","v":0},{"$f":"IF(AND(EBP_Matrix!U16=1,Prob_Marj!C71>0),1,0)","v":0},{"$f":"IF(AND(EBP_Matrix!U16=1,Prob_Marj!C71>0),1,0)","v":0},{"$f":"IF(AND(EBP_Matrix!U16=1,Prob_Marj!C71>0),1,0)","v":0},{"$f":"IF(AND(EBP_Matrix!V16=1,Prob_Tob!C71>0),1,0)","v":0},{"$f":"IF(AND(EBP_Matrix!V16=1,Prob_Tob!C71>0),1,0)","v":0},{"$f":"IF(AND(EBP_Matrix!V16=1,Prob_Tob!C71>0),1,0)","v":0},{"$f":"IF(AND(EBP_Matrix!V16=1,Prob_Tob!C71>0),1,0)","v":0},{"$f":"IF(AND(EBP_Matrix!V16=1,Prob_Tob!C71>0),1,0)","v":0},{"$f":"IF(AND(EBP_Matrix!V16=1,Prob_Tob!C71>0),1,0)","v":0},{"$f":"IF(AND(EBP_Matrix!W16=1,Prob_RxDrugs!C31>0),1,0)","v":0},{"$f":"IF(AND(EBP_Matrix!W16=1,Prob_RxDrugs!C31>0),1,0)","v":0},null,{"$f":"IF(AND(EBP_Matrix!X16=1,Prob_Other!C21>0),1,0)","v":0},{"$f":"IF(AND(EBP_Matrix!Y16=1,Risk_Alc!$J$259=1),1,0)","v":0},{"$f":"IF(AND(EBP_Matrix!Z16=1,Risk_Marj!$J$224=1),1,0)","v":0},{"$f":"IF(AND(EBP_Matrix!AA16=1,Risk_Tob!$J$217=1),1,0)","v":0},{"$f":"IF(AND(EBP_Matrix!AB16=1,Risk_RxDrugs!$J$217=1),1,0)","v":0},{"$f":"IF(AND(EBP_Matrix!AC16=1,Risk_Other!$J$217=1),1,0)","v":0},{"$f":"IF(AND(EBP_Matrix!AD16=1,Risk_Alc!$J$260=1),1,0)","v":0},{"$f":"IF(AND(EBP_Matrix!AE16=1,Risk_Marj!$J$225=1),1,0)","v":0},{"$f":"IF(AND(EBP_Matrix!AF16=1,Risk_Tob!$J$218=1),1,0)","v":0},{"$f":"IF(AND(EBP_Matrix!AG16=1,Risk_RxDrugs!$J$218=1),1,0)","v":0},{"$f":"IF(AND(EBP_Matrix!AH16=1,Risk_Other!$J$218=1),1,0)","v":0},{"$f":"IF(AND(EBP_Matrix!AI16=1,Risk_Alc!$J$261=1),1,0)","v":0},{"$f":"IF(AND(EBP_Matrix!AJ16=1,Risk_Marj!$J$226=1),1,0)","v":0},{"$f":"IF(AND(EBP_Matrix!AK16=1,Risk_Tob!$J$219=1),1,0)","v":0},{"$f":"IF(AND(EBP_Matrix!AL16=1,Risk_RxDrugs!$J$219=1),1,0)","v":0},{"$f":"IF(AND(EBP_Matrix!AM16=1,Risk_Other!$J$219=1),1,0)","v":0},{"$f":"IF(AND(EBP_Matrix!AN16=1,Risk_Alc!$J$262=1),1,0)","v":0},{"$f":"IF(AND(EBP_Matrix!AO16=1,Risk_Marj!$J$227=1),1,0)","v":0},{"$f":"IF(AND(EBP_Matrix!AP16=1,Risk_Tob!$J$220=1),1,0)","v":0},{"$f":"IF(AND(EBP_Matrix!AQ16=1,Risk_RxDrugs!$J$220=1),1,0)","v":0},{"$f":"IF(AND(EBP_Matrix!AR16=1,Risk_Other!$J$220=1),1,0)","v":0},{"$f":"IF(AND(EBP_Matrix!AS16=1,Risk_Alc!$J$263=1),1,0)","v":0},{"$f":"IF(AND(EBP_Matrix!AT16=1,Risk_Marj!$J$228=1),1,0)","v":0},{"$f":"IF(AND(EBP_Matrix!AU16=1,Risk_Tob!$J$221=1),1,0)","v":0},{"$f":"IF(AND(EBP_Matrix!AV16=1,Risk_RxDrugs!$J$221=1),1,0)","v":0},{"$f":"IF(AND(EBP_Matrix!AW16=1,Risk_Other!$J$221=1),1,0)","v":0},{"$f":"IF(AND(EBP_Matrix!AX16=1,Risk_Alc!$J$264=1),1,0)","v":0},{"$f":"IF(AND(EBP_Matrix!AY16=1,Risk_Marj!$J$229=1),1,0)","v":0},{"$f":"IF(AND(EBP_Matrix!AZ16=1,Risk_Tob!$J$222=1),1,0)","v":0},{"$f":"IF(AND(EBP_Matrix!BA16=1,Risk_RxDrugs!$J$222=1),1,0)","v":0},{"$f":"IF(AND(EBP_Matrix!BB16=1,Risk_Other!$J$222=1),1,0)","v":0},{"$f":"IF(AND(EBP_Matrix!BC16=1,Risk_Alc!$J$265=1),1,0)","v":0},{"$f":"IF(AND(EBP_Matrix!BD16=1,Risk_Marj!$J$230=1),1,0)","v":0},{"$f":"IF(AND(EBP_Matrix!BE16=1,Risk_Tob!$J$223=1),1,0)","v":0},{"$f":"IF(AND(EBP_Matrix!BF16=1,Risk_RxDrugs!$J$223=1),1,0)","v":0},{"$f":"IF(AND(EBP_Matrix!BG16=1,Risk_Other!$J$223=1),1,0)","v":0},{"$f":"IF(AND(EBP_Matrix!BH16=1,Risk_Alc!$J$266=1),1,0)","v":0},{"$f":"IF(AND(EBP_Matrix!BI16=1,Risk_Marj!$J$231=1),1,0)","v":0},{"$f":"IF(AND(EBP_Matrix!BJ16=1,Risk_Tob!$J$224=1),1,0)","v":0},{"$f":"IF(AND(EBP_Matrix!BK16=1,Risk_RxDrugs!$J$224=1),1,0)","v":0},{"$f":"IF(AND(EBP_Matrix!BL16=1,Risk_Other!$J$224=1),1,0)","v":0},{"$f":"IF(AND(EBP_Matrix!BM16=1,Risk_Alc!$J$267=1),1,0)","v":0},{"$f":"IF(AND(EBP_Matrix!BN16=1,Risk_Marj!$J$232=1),1,0)","v":0},{"$f":"IF(AND(EBP_Matrix!BO16=1,Risk_Tob!$J$225=1),1,0)","v":0},{"$f":"IF(AND(EBP_Matrix!BP16=1,Risk_RxDrugs!$J$225=1),1,0)","v":0},{"$f":"IF(AND(EBP_Matrix!BQ16=1,Risk_Other!$J$225=1),1,0)","v":0},{"$f":"IF(AND(EBP_Matrix!BR16=1,Risk_Alc!$J$268=1),1,0)","v":0},{"$f":"IF(AND(EBP_Matrix!BS16=1,Risk_Marj!$J$233=1),1,0)","v":0},{"$f":"IF(AND(EBP_Matrix!BT16=1,Risk_Tob!$J$226=1),1,0)","v":0},{"$f":"IF(AND(EBP_Matrix!BU16=1,Risk_RxDrugs!$J$226=1),1,0)","v":0},{"$f":"IF(AND(EBP_Matrix!BV16=1,Risk_Other!$J$226=1),1,0)","v":0},{"$f":"IF(AND(EBP_Matrix!BW16=1,Risk_Alc!$J$269=1),1,0)","v":0},{"$f":"IF(AND(EBP_Matrix!BX16=1,Risk_Marj!$J$234=1),1,0)","v":0},{"$f":"IF(AND(EBP_Matrix!BY16=1,Risk_Tob!$J$227=1),1,0)","v":0},{"$f":"IF(AND(EBP_Matrix!BZ16=1,Risk_RxDrugs!$J$227=1),1,0)","v":0},{"$f":"IF(AND(EBP_Matrix!CA16=1,Risk_Other!$J$227=1),1,0)","v":0},{"$f":"IF(AND(EBP_Matrix!CB16=1,Risk_Alc!$J$270=1),1,0)","v":0},{"$f":"IF(AND(EBP_Matrix!CC16=1,Risk_Marj!$J$235=1),1,0)","v":0},{"$f":"IF(AND(EBP_Matrix!CD16=1,Risk_Tob!$J$228=1),1,0)","v":0},{"$f":"IF(AND(EBP_Matrix!CE16=1,Risk_RxDrugs!$J$228=1),1,0)","v":0},{"$f":"IF(AND(EBP_Matrix!CF16=1,Risk_Other!$J$228=1),1,0)","v":0},{"$f":"IF(AND(EBP_Matrix!CG16=1,Risk_Alc!$J$271=1),1,0)","v":0},{"$f":"IF(AND(EBP_Matrix!CH16=1,Risk_Marj!$J$236=1),1,0)","v":0},{"$f":"IF(AND(EBP_Matrix!CI16=1,Risk_Tob!$J$229=1),1,0)","v":0},{"$f":"IF(AND(EBP_Matrix!CJ16=1,Risk_RxDrugs!$J$229=1),1,0)","v":0},{"$f":"IF(AND(EBP_Matrix!CK16=1,Risk_Other!$J$229=1),1,0)","v":0},{"$f":"IF(AND(EBP_Matrix!CL16=1,Risk_Alc!$J$272=1),1,0)","v":0},{"$f":"IF(AND(EBP_Matrix!CM16=1,Risk_Marj!$J$237=1),1,0)","v":0},{"$f":"IF(AND(EBP_Matrix!CN16=1,Risk_Tob!$J$230=1),1,0)","v":0},{"$f":"IF(AND(EBP_Matrix!CO16=1,Risk_RxDrugs!$J$230=1),1,0)","v":0},{"$f":"IF(AND(EBP_Matrix!CP16=1,Risk_Other!$J$230=1),1,0)","v":0},0,0,0,0,0,0,0]
[{"$f":"EBP_Matrix!A17","v":"College Drinker`s Check-up (CDCU)"},null,null,0,null,null,null,{"$f":"IF(AND(EBP_Matrix!T17=1,Prob_Alc!C71>0),1,0)","v":0},{"$f":"IF(AND(EBP_Matrix!T17=1,Prob_Alc!C71>0),1,0)","v":0},{"$f":"IF(AND(EBP_Matrix!T17=1,Prob_Alc!C71>0),1,0)","v":0},{"$f":"IF(AND(EBP_Matrix!T17=1,Prob_Alc!C71>0),1,0)","v":0},{"$f":"IF(AND(EBP_Matrix!T17=1,Prob_Alc!C71>0),1,0)","v":0},{"$f":"IF(AND(EBP_Matrix!T17=1,Prob_Alc!C71>0),1,0)","v":0},{"$f":"IF(AND(EBP_Matrix!T17=1,Prob_Alc!C71>0),1,0)","v":0},{"$f":"IF(AND(EBP_Matrix!T17=1,Prob_Alc!C71>0),1,0)","v":0},{"$f":"IF(AND(EBP_Matrix!U17=1,Prob_Marj!C71>0),1,0)","v":0},{"$f":"IF(AND(EBP_Matrix!U17=1,Prob_Marj!C71>0),1,0)","v":0},{"$f":"IF(AND(EBP_Matrix!U17=1,Prob_Marj!C71>0),1,0)","v":0},{"$f":"IF(AND(EBP_Matrix!U17=1,Prob_Marj!C71>0),1,0)","v":0},{"$f":"IF(AND(EBP_Matrix!V17=1,Prob_Tob!C71>0),1,0)","v":0},{"$f":"IF(AND(EBP_Matrix!V17=1,Prob_Tob!C71>0),1,0)","v":0},{"$f":"IF(AND(EBP_Matrix!V17=1,Prob_Tob!C71>0),1,0)","v":0},{"$f":"IF(AND(EBP_Matrix!V17=1,Prob_Tob!C71>0),1,0)","v":0},{"$f":"IF(AND(EBP_Matrix!V17=1,Prob_Tob!C71>0),1,0)","v":0},{"$f":"IF(AND(EBP_Matrix!V17=1,Prob_Tob!C71>0),1,0)","v":0},{"$f":"IF(AND(EBP_Matrix!W17=1,Prob_RxDrugs!C31>0),1,0)","v":0},{"$f":"IF(AND(EBP_Matrix!W17=1,Prob_RxDrugs!C31>0),1,0)","v":0},null,{"$f":"IF(AND(EBP_Matrix!X17=1,Prob_Other!C21>0),1,0)","v":0},{"$f":"IF(AND(EBP_Matrix!Y17=1,Risk_Alc!$J$259=1),1,0)","v":0},{"$f":"IF(AND(EBP_Matrix!Z17=1,Risk_Marj!$J$224=1),1,0)","v":0},{"$f":"IF(AND(EBP_Matrix!AA17=1,Risk_Tob!$J$217=1),1,0)","v":0},{"$f":"IF(AND(EBP_Matrix!AB17=1,Risk_RxDrugs!$J$217=1),1,0)","v":0},{"$f":"IF(AND(EBP_Matrix!AC17=1,Risk_Other!$J$217=1),1,0)","v":0},{"$f":"IF(AND(EBP_Matrix!AD17=1,Risk_Alc!$J$260=1),1,0)","v":0},{"$f":"IF(AND(EBP_Matrix!AE17=1,Risk_Marj!$J$225=1),1,0)","v":0},{"$f":"IF(AND(EBP_Matrix!AF17=1,Risk_Tob!$J$218=1),1,0)","v":0},{"$f":"IF(AND(EBP_Matrix!AG17=1,Risk_RxDrugs!$J$218=1),1,0)","v":0},{"$f":"IF(AND(EBP_Matrix!AH17=1,Risk_Other!$J$218=1),1,0)","v":0},{"$f":"IF(AND(EBP_Matrix!AI17=1,Risk_Alc!$J$261=1),1,0)","v":0},{"$f":"IF(AND(EBP_Matrix!AJ17=1,Risk_Marj!$J$226=1),1,0)","v":0},{"$f":"IF(AND(EBP_Matrix!AK17=1,Risk_Tob!$J$219=1),1,0)","v":0},{"$f":"IF(AND(EBP_Matrix!AL17=1,Risk_RxDrugs!$J$219=1),1,0)","v":0},{"$f":"IF(AND(EBP_Matrix!AM17=1,Risk_Other!$J$219=1),1,0)","v":0},{"$f":"IF(AND(EBP_Matrix!AN17=1,Risk_Alc!$J$262=1),1,0)","v":0},{"$f":"IF(AND(EBP_Matrix!AO17=1,Risk_Marj!$J$227=1),1,0)","v":0},{"$f":"IF(AND(EBP_Matrix!AP17=1,Risk_Tob!$J$220=1),1,0)","v":0},{"$f":"IF(AND(EBP_Matrix!AQ17=1,Risk_RxDrugs!$J$220=1),1,0)","v":0},{"$f":"IF(AND(EBP_Matrix!AR17=1,Risk_Other!$J$220=1),1,0)","v":0},{"$f":"IF(AND(EBP_Matrix!AS17=1,Risk_Alc!$J$263=1),1,0)","v":0},{"$f":"IF(AND(EBP_Matrix!AT17=1,Risk_Marj!$J$228=1),1,0)","v":0},{"$f":"IF(AND(EBP_Matrix!AU17=1,Risk_Tob!$J$221=1),1,0)","v":0},{"$f":"IF(AND(EBP_Matrix!AV17=1,Risk_RxDrugs!$J$221=1),1,0)","v":0},{"$f":"IF(AND(EBP_Matrix!AW17=1,Risk_Other!$J$221=1),1,0)","v":0},{"$f":"IF(AND(EBP_Matrix!AX17=1,Risk_Alc!$J$264=1),1,0)","v":0},{"$f":"IF(AND(EBP_Matrix!AY17=1,Risk_Marj!$J$229=1),1,0)","v":0},{"$f":"IF(AND(EBP_Matrix!AZ17=1,Risk_Tob!$J$222=1),1,0)","v":0},{"$f":"IF(AND(EBP_Matrix!BA17=1,Risk_RxDrugs!$J$222=1),1,0)","v":0},{"$f":"IF(AND(EBP_Matrix!BB17=1,Risk_Other!$J$222=1),1,0)","v":0},{"$f":"IF(AND(EBP_Matrix!BC17=1,Risk_Alc!$J$265=1),1,0)","v":0},{"$f":"IF(AND(EBP_Matrix!BD17=1,Risk_Marj!$J$230=1),1,0)","v":0},{"$f":"IF(AND(EBP_Matrix!BE17=1,Risk_Tob!$J$223=1),1,0)","v":0},{"$f":"IF(AND(EBP_Matrix!BF17=1,Risk_RxDrugs!$J$223=1),1,0)","v":0},{"$f":"IF(AND(EBP_Matrix!BG17=1,Risk_Other!$J$223=1),1,0)","v":0},{"$f":"IF(AND(EBP_Matrix!BH17=1,Risk_Alc!$J$266=1),1,0)","v":0},{"$f":"IF(AND(EBP_Matrix!BI17=1,Risk_Marj!$J$231=1),1,0)","v":0},{"$f":"IF(AND(EBP_Matrix!BJ17=1,Risk_Tob!$J$224=1),1,0)","v":0},{"$f":"IF(AND(EBP_Matrix!BK17=1,Risk_RxDrugs!$J$224=1),1,0)","v":0},{"$f":"IF(AND(EBP_Matrix!BL17=1,Risk_Other!$J$224=1),1,0)","v":0},{"$f":"IF(AND(EBP_Matrix!BM17=1,Risk_Alc!$J$267=1),1,0)","v":0},{"$f":"IF(AND(EBP_Matrix!BN17=1,Risk_Marj!$J$232=1),1,0)","v":0},{"$f":"IF(AND(EBP_Matrix!BO17=1,Risk_Tob!$J$225=1),1,0)","v":0},{"$f":"IF(AND(EBP_Matrix!BP17=1,Risk_RxDrugs!$J$225=1),1,0)","v":0},{"$f":"IF(AND(EBP_Matrix!BQ17=1,Risk_Other!$J$225=1),1,0)","v":0},{"$f":"IF(AND(EBP_Matrix!BR17=1,Risk_Alc!$J$268=1),1,0)","v":0},{"$f":"IF(AND(EBP_Matrix!BS17=1,Risk_Marj!$J$233=1),1,0)","v":0},{"$f":"IF(AND(EBP_Matrix!BT17=1,Risk_Tob!$J$226=1),1,0)","v":0},{"$f":"IF(AND(EBP_Matrix!BU17=1,Risk_RxDrugs!$J$226=1),1,0)","v":0},{"$f":"IF(AND(EBP_Matrix!BV17=1,Risk_Other!$J$226=1),1,0)","v":0},{"$f":"IF(AND(EBP_Matrix!BW17=1,Risk_Alc!$J$269=1),1,0)","v":0},{"$f":"IF(AND(EBP_Matrix!BX17=1,Risk_Marj!$J$234=1),1,0)","v":0},{"$f":"IF(AND(EBP_Matrix!BY17=1,Risk_Tob!$J$227=1),1,0)","v":0},{"$f":"IF(AND(EBP_Matrix!BZ17=1,Risk_RxDrugs!$J$227=1),1,0)","v":0},{"$f":"IF(AND(EBP_Matrix!CA17=1,Risk_Other!$J$227=1),1,0)","v":0},{"$f":"IF(AND(EBP_Matrix!CB17=1,Risk_Alc!$J$270=1),1,0)","v":0},{"$f":"IF(AND(EBP_Matrix!CC17=1,Risk_Marj!$J$235=1),1,0)","v":0},{"$f":"IF(AND(EBP_Matrix!CD17=1,Risk_Tob!$J$228=1),1,0)","v":0},{"$f":"IF(AND(EBP_Matrix!CE17=1,Risk_RxDrugs!$J$228=1),1,0)","v":0},{"$f":"IF(AND(EBP_Matrix!CF17=1,Risk_Other!$J$228=1),1,0)","v":0},{"$f":"IF(AND(EBP_Matrix!CG17=1,Risk_Alc!$J$271=1),1,0)","v":0},{"$f":"IF(AND(EBP_Matrix!CH17=1,Risk_Marj!$J$236=1),1,0)","v":0},{"$f":"IF(AND(EBP_Matrix!CI17=1,Risk_Tob!$J$229=1),1,0)","v":0},{"$f":"IF(AND(EBP_Matrix!CJ17=1,Risk_RxDrugs!$J$229=1),1,0)","v":0},{"$f":"IF(AND(EBP_Matrix!CK17=1,Risk_Other!$J$229=1),1,0)","v":0},{"$f":"IF(AND(EBP_Matrix!CL17=1,Risk_Alc!$J$272=1),1,0)","v":0},{"$f":"IF(AND(EBP_Matrix!CM17=1,Risk_Marj!$J$237=1),1,0)","v":0},{"$f":"IF(AND(EBP_Matrix!CN17=1,Risk_Tob!$J$230=1),1,0)","v":0},{"$f":"IF(AND(EBP_Matrix!CO17=1,Risk_RxDrugs!$J$230=1),1,0)","v":0},{"$f":"IF(AND(EBP_Matrix!CP17=1,Risk_Other!$J$230=1),1,0)","v":0},0,0,0,0,0,0,0]
[{"$f":"EBP_Matrix!A18","v":"Communities Mobilizing for Change on Alcohol (CMCA)"},null,null,0,null,null,null,{"$f":"IF(AND(EBP_Matrix!T18=1,Prob_Alc!C71>0),1,0)","v":0},{"$f":"IF(AND(EBP_Matrix!T18=1,Prob_Alc!C71>0),1,0)","v":0},{"$f":"IF(AND(EBP_Matrix!T18=1,Prob_Alc!C71>0),1,0)","v":0},{"$f":"IF(AND(EBP_Matrix!T18=1,Prob_Alc!C71>0),1,0)","v":0},{"$f":"IF(AND(EBP_Matrix!T18=1,Prob_Alc!C71>0),1,0)","v":0},{"$f":"IF(AND(EBP_Matrix!T18=1,Prob_Alc!C71>0),1,0)","v":0},{"$f":"IF(AND(EBP_Matrix!T18=1,Prob_Alc!C71>0),1,0)","v":0},{"$f":"IF(AND(EBP_Matrix!T18=1,Prob_Alc!C71>0),1,0)","v":0},{"$f":"IF(AND(EBP_Matrix!U18=1,Prob_Marj!C71>0),1,0)","v":0},{"$f":"IF(AND(EBP_Matrix!U18=1,Prob_Marj!C71>0),1,0)","v":0},{"$f":"IF(AND(EBP_Matrix!U18=1,Prob_Marj!C71>0),1,0)","v":0},{"$f":"IF(AND(EBP_Matrix!U18=1,Prob_Marj!C71>0),1,0)","v":0},{"$f":"IF(AND(EBP_Matrix!V18=1,Prob_Tob!C71>0),1,0)","v":0},{"$f":"IF(AND(EBP_Matrix!V18=1,Prob_Tob!C71>0),1,0)","v":0},{"$f":"IF(AND(EBP_Matrix!V18=1,Prob_Tob!C71>0),1,0)","v":0},{"$f":"IF(AND(EBP_Matrix!V18=1,Prob_Tob!C71>0),1,0)","v":0},{"$f":"IF(AND(EBP_Matrix!V18=1,Prob_Tob!C71>0),1,0)","v":0},{"$f":"IF(AND(EBP_Matrix!V18=1,Prob_Tob!C71>0),1,0)","v":0},{"$f":"IF(AND(EBP_Matrix!W18=1,Prob_RxDrugs!C31>0),1,0)","v":0},{"$f":"IF(AND(EBP_Matrix!W18=1,Prob_RxDrugs!C31>0),1,0)","v":0},null,{"$f":"IF(AND(EBP_Matrix!X18=1,Prob_Other!C21>0),1,0)","v":0},{"$f":"IF(AND(EBP_Matrix!Y18=1,Risk_Alc!$J$259=1),1,0)","v":0},{"$f":"IF(AND(EBP_Matrix!Z18=1,Risk_Marj!$J$224=1),1,0)","v":0},{"$f":"IF(AND(EBP_Matrix!AA18=1,Risk_Tob!$J$217=1),1,0)","v":0},{"$f":"IF(AND(EBP_Matrix!AB18=1,Risk_RxDrugs!$J$217=1),1,0)","v":0},{"$f":"IF(AND(EBP_Matrix!AC18=1,Risk_Other!$J$217=1),1,0)","v":0},{"$f":"IF(AND(EBP_Matrix!AD18=1,Risk_Alc!$J$260=1),1,0)","v":0},{"$f":"IF(AND(EBP_Matrix!AE18=1,Risk_Marj!$J$225=1),1,0)","v":0},{"$f":"IF(AND(EBP_Matrix!AF18=1,Risk_Tob!$J$218=1),1,0)","v":0},{"$f":"IF(AND(EBP_Matrix!AG18=1,Risk_RxDrugs!$J$218=1),1,0)","v":0},{"$f":"IF(AND(EBP_Matrix!AH18=1,Risk_Other!$J$218=1),1,0)","v":0},{"$f":"IF(AND(EBP_Matrix!AI18=1,Risk_Alc!$J$261=1),1,0)","v":0},{"$f":"IF(AND(EBP_Matrix!AJ18=1,Risk_Marj!$J$226=1),1,0)","v":0},{"$f":"IF(AND(EBP_Matrix!AK18=1,Risk_Tob!$J$219=1),1,0)","v":0},{"$f":"IF(AND(EBP_Matrix!AL18=1,Risk_RxDrugs!$J$219=1),1,0)","v":0},{"$f":"IF(AND(EBP_Matrix!AM18=1,Risk_Other!$J$219=1),1,0)","v":0},{"$f":"IF(AND(EBP_Matrix!AN18=1,Risk_Alc!$J$262=1),1,0)","v":0},{"$f":"IF(AND(EBP_Matrix!AO18=1,Risk_Marj!$J$227=1),1,0)","v":0},{"$f":"IF(AND(EBP_Matrix!AP18=1,Risk_Tob!$J$220=1),1,0)","v":0},{"$f":"IF(AND(EBP_Matrix!AQ18=1,Risk_RxDrugs!$J$220=1),1,0)","v":0},{"$f":"IF(AND(EBP_Matrix!AR18=1,Risk_Other!$J$220=1),1,0)","v":0},{"$f":"IF(AND(EBP_Matrix!AS18=1,Risk_Alc!$J$263=1),1,0)","v":0},{"$f":"IF(AND(EBP_Matrix!AT18=1,Risk_Marj!$J$228=1),1,0)","v":0},{"$f":"IF(AND(EBP_Matrix!AU18=1,Risk_Tob!$J$221=1),1,0)","v":0},{"$f":"IF(AND(EBP_Matrix!AV18=1,Risk_RxDrugs!$J$221=1),1,0)","v":0},{"$f":"IF(AND(EBP_Matrix!AW18=1,Risk_Other!$J$221=1),1,0)","v":0},{"$f":"IF(AND(EBP_Matrix!AX18=1,Risk_Alc!$J$264=1),1,0)","v":0},{"$f":"IF(AND(EBP_Matrix!AY18=1,Risk_Marj!$J$229=1),1,0)","v":0},{"$f":"IF(AND(EBP_Matrix!AZ18=1,Risk_Tob!$J$222=1),1,0)","v":0},{"$f":"IF(AND(EBP_Matrix!BA18=1,Risk_RxDrugs!$J$222=1),1,0)","v":0},{"$f":"IF(AND(EBP_Matrix!BB18=1,Risk_Other!$J$222=1),1,0)","v":0},{"$f":"IF(AND(EBP_Matrix!BC18=1,Risk_Alc!$J$265=1),1,0)","v":0},{"$f":"IF(AND(EBP_Matrix!BD18=1,Risk_Marj!$J$230=1),1,0)","v":0},{"$f":"IF(AND(EBP_Matrix!BE18=1,Risk_Tob!$J$223=1),1,0)","v":0},{"$f":"IF(AND(EBP_Matrix!BF18=1,Risk_RxDrugs!$J$223=1),1,0)","v":0},{"$f":"IF(AND(EBP_Matrix!BG18=1,Risk_Other!$J$223=1),1,0)","v":0},{"$f":"IF(AND(EBP_Matrix!BH18=1,Risk_Alc!$J$266=1),1,0)","v":0},{"$f":"IF(AND(EBP_Matrix!BI18=1,Risk_Marj!$J$231=1),1,0)","v":0},{"$f":"IF(AND(EBP_Matrix!BJ18=1,Risk_Tob!$J$224=1),1,0)","v":0},{"$f":"IF(AND(EBP_Matrix!BK18=1,Risk_RxDrugs!$J$224=1),1,0)","v":0},{"$f":"IF(AND(EBP_Matrix!BL18=1,Risk_Other!$J$224=1),1,0)","v":0},{"$f":"IF(AND(EBP_Matrix!BM18=1,Risk_Alc!$J$267=1),1,0)","v":0},{"$f":"IF(AND(EBP_Matrix!BN18=1,Risk_Marj!$J$232=1),1,0)","v":0},{"$f":"IF(AND(EBP_Matrix!BO18=1,Risk_Tob!$J$225=1),1,0)","v":0},{"$f":"IF(AND(EBP_Matrix!BP18=1,Risk_RxDrugs!$J$225=1),1,0)","v":0},{"$f":"IF(AND(EBP_Matrix!BQ18=1,Risk_Other!$J$225=1),1,0)","v":0},{"$f":"IF(AND(EBP_Matrix!BR18=1,Risk_Alc!$J$268=1),1,0)","v":0},{"$f":"IF(AND(EBP_Matrix!BS18=1,Risk_Marj!$J$233=1),1,0)","v":0},{"$f":"IF(AND(EBP_Matrix!BT18=1,Risk_Tob!$J$226=1),1,0)","v":0},{"$f":"IF(AND(EBP_Matrix!BU18=1,Risk_RxDrugs!$J$226=1),1,0)","v":0},{"$f":"IF(AND(EBP_Matrix!BV18=1,Risk_Other!$J$226=1),1,0)","v":0},{"$f":"IF(AND(EBP_Matrix!BW18=1,Risk_Alc!$J$269=1),1,0)","v":0},{"$f":"IF(AND(EBP_Matrix!BX18=1,Risk_Marj!$J$234=1),1,0)","v":0},{"$f":"IF(AND(EBP_Matrix!BY18=1,Risk_Tob!$J$227=1),1,0)","v":0},{"$f":"IF(AND(EBP_Matrix!BZ18=1,Risk_RxDrugs!$J$227=1),1,0)","v":0},{"$f":"IF(AND(EBP_Matrix!CA18=1,Risk_Other!$J$227=1),1,0)","v":0},{"$f":"IF(AND(EBP_Matrix!CB18=1,Risk_Alc!$J$270=1),1,0)","v":0},{"$f":"IF(AND(EBP_Matrix!CC18=1,Risk_Marj!$J$235=1),1,0)","v":0},{"$f":"IF(AND(EBP_Matrix!CD18=1,Risk_Tob!$J$228=1),1,0)","v":0},{"$f":"IF(AND(EBP_Matrix!CE18=1,Risk_RxDrugs!$J$228=1),1,0)","v":0},{"$f":"IF(AND(EBP_Matrix!CF18=1,Risk_Other!$J$228=1),1,0)","v":0},{"$f":"IF(AND(EBP_Matrix!CG18=1,Risk_Alc!$J$271=1),1,0)","v":0},{"$f":"IF(AND(EBP_Matrix!CH18=1,Risk_Marj!$J$236=1),1,0)","v":0},{"$f":"IF(AND(EBP_Matrix!CI18=1,Risk_Tob!$J$229=1),1,0)","v":0},{"$f":"IF(AND(EBP_Matrix!CJ18=1,Risk_RxDrugs!$J$229=1),1,0)","v":0},{"$f":"IF(AND(EBP_Matrix!CK18=1,Risk_Other!$J$229=1),1,0)","v":0},{"$f":"IF(AND(EBP_Matrix!CL18=1,Risk_Alc!$J$272=1),1,0)","v":0},{"$f":"IF(AND(EBP_Matrix!CM18=1,Risk_Marj!$J$237=1),1,0)","v":0},{"$f":"IF(AND(EBP_Matrix!CN18=1,Risk_Tob!$J$230=1),1,0)","v":0},{"$f":"IF(AND(EBP_Matrix!CO18=1,Risk_RxDrugs!$J$230=1),1,0)","v":0},{"$f":"IF(AND(EBP_Matrix!CP18=1,Risk_Other!$J$230=1),1,0)","v":0},0,0,0,0,0,0,0]
[{"$f":"EBP_Matrix!A19","v":"Communities That Care"},null,null,0,null,null,null,{"$f":"IF(AND(EBP_Matrix!T19=1,Prob_Alc!C71>0),1,0)","v":0},{"$f":"IF(AND(EBP_Matrix!T19=1,Prob_Alc!C71>0),1,0)","v":0},{"$f":"IF(AND(EBP_Matrix!T19=1,Prob_Alc!C71>0),1,0)","v":0},{"$f":"IF(AND(EBP_Matrix!T19=1,Prob_Alc!C71>0),1,0)","v":0},{"$f":"IF(AND(EBP_Matrix!T19=1,Prob_Alc!C71>0),1,0)","v":0},{"$f":"IF(AND(EBP_Matrix!T19=1,Prob_Alc!C71>0),1,0)","v":0},{"$f":"IF(AND(EBP_Matrix!T19=1,Prob_Alc!C71>0),1,0)","v":0},{"$f":"IF(AND(EBP_Matrix!T19=1,Prob_Alc!C71>0),1,0)","v":0},{"$f":"IF(AND(EBP_Matrix!U19=1,Prob_Marj!C71>0),1,0)","v":0},{"$f":"IF(AND(EBP_Matrix!U19=1,Prob_Marj!C71>0),1,0)","v":0},{"$f":"IF(AND(EBP_Matrix!U19=1,Prob_Marj!C71>0),1,0)","v":0},{"$f":"IF(AND(EBP_Matrix!U19=1,Prob_Marj!C71>0),1,0)","v":0},{"$f":"IF(AND(EBP_Matrix!V19=1,Prob_Tob!C71>0),1,0)","v":0},{"$f":"IF(AND(EBP_Matrix!V19=1,Prob_Tob!C71>0),1,0)","v":0},{"$f":"IF(AND(EBP_Matrix!V19=1,Prob_Tob!C71>0),1,0)","v":0},{"$f":"IF(AND(EBP_Matrix!V19=1,Prob_Tob!C71>0),1,0)","v":0},{"$f":"IF(AND(EBP_Matrix!V19=1,Prob_Tob!C71>0),1,0)","v":0},{"$f":"IF(AND(EBP_Matrix!V19=1,Prob_Tob!C71>0),1,0)","v":0},{"$f":"IF(AND(EBP_Matrix!W19=1,Prob_RxDrugs!C31>0),1,0)","v":0},{"$f":"IF(AND(EBP_Matrix!W19=1,Prob_RxDrugs!C31>0),1,0)","v":0},null,{"$f":"IF(AND(EBP_Matrix!X19=1,Prob_Other!C21>0),1,0)","v":0},{"$f":"IF(AND(EBP_Matrix!Y19=1,Risk_Alc!$J$259=1),1,0)","v":0},{"$f":"IF(AND(EBP_Matrix!Z19=1,Risk_Marj!$J$224=1),1,0)","v":0},{"$f":"IF(AND(EBP_Matrix!AA19=1,Risk_Tob!$J$217=1),1,0)","v":0},{"$f":"IF(AND(EBP_Matrix!AB19=1,Risk_RxDrugs!$J$217=1),1,0)","v":0},{"$f":"IF(AND(EBP_Matrix!AC19=1,Risk_Other!$J$217=1),1,0)","v":0},{"$f":"IF(AND(EBP_Matrix!AD19=1,Risk_Alc!$J$260=1),1,0)","v":0},{"$f":"IF(AND(EBP_Matrix!AE19=1,Risk_Marj!$J$225=1),1,0)","v":0},{"$f":"IF(AND(EBP_Matrix!AF19=1,Risk_Tob!$J$218=1),1,0)","v":0},{"$f":"IF(AND(EBP_Matrix!AG19=1,Risk_RxDrugs!$J$218=1),1,0)","v":0},{"$f":"IF(AND(EBP_Matrix!AH19=1,Risk_Other!$J$218=1),1,0)","v":0},{"$f":"IF(AND(EBP_Matrix!AI19=1,Risk_Alc!$J$261=1),1,0)","v":0},{"$f":"IF(AND(EBP_Matrix!AJ19=1,Risk_Marj!$J$226=1),1,0)","v":0},{"$f":"IF(AND(EBP_Matrix!AK19=1,Risk_Tob!$J$219=1),1,0)","v":0},{"$f":"IF(AND(EBP_Matrix!AL19=1,Risk_RxDrugs!$J$219=1),1,0)","v":0},{"$f":"IF(AND(EBP_Matrix!AM19=1,Risk_Other!$J$219=1),1,0)","v":0},{"$f":"IF(AND(EBP_Matrix!AN19=1,Risk_Alc!$J$262=1),1,0)","v":0},{"$f":"IF(AND(EBP_Matrix!AO19=1,Risk_Marj!$J$227=1),1,0)","v":0},{"$f":"IF(AND(EBP_Matrix!AP19=1,Risk_Tob!$J$220=1),1,0)","v":0},{"$f":"IF(AND(EBP_Matrix!AQ19=1,Risk_RxDrugs!$J$220=1),1,0)","v":0},{"$f":"IF(AND(EBP_Matrix!AR19=1,Risk_Other!$J$220=1),1,0)","v":0},{"$f":"IF(AND(EBP_Matrix!AS19=1,Risk_Alc!$J$263=1),1,0)","v":0},{"$f":"IF(AND(EBP_Matrix!AT19=1,Risk_Marj!$J$228=1),1,0)","v":0},{"$f":"IF(AND(EBP_Matrix!AU19=1,Risk_Tob!$J$221=1),1,0)","v":0},{"$f":"IF(AND(EBP_Matrix!AV19=1,Risk_RxDrugs!$J$221=1),1,0)","v":0},{"$f":"IF(AND(EBP_Matrix!AW19=1,Risk_Other!$J$221=1),1,0)","v":0},{"$f":"IF(AND(EBP_Matrix!AX19=1,Risk_Alc!$J$264=1),1,0)","v":0},{"$f":"IF(AND(EBP_Matrix!AY19=1,Risk_Marj!$J$229=1),1,0)","v":0},{"$f":"IF(AND(EBP_Matrix!AZ19=1,Risk_Tob!$J$222=1),1,0)","v":0},{"$f":"IF(AND(EBP_Matrix!BA19=1,Risk_RxDrugs!$J$222=1),1,0)","v":0},{"$f":"IF(AND(EBP_Matrix!BB19=1,Risk_Other!$J$222=1),1,0)","v":0},{"$f":"IF(AND(EBP_Matrix!BC19=1,Risk_Alc!$J$265=1),1,0)","v":0},{"$f":"IF(AND(EBP_Matrix!BD19=1,Risk_Marj!$J$230=1),1,0)","v":0},{"$f":"IF(AND(EBP_Matrix!BE19=1,Risk_Tob!$J$223=1),1,0)","v":0},{"$f":"IF(AND(EBP_Matrix!BF19=1,Risk_RxDrugs!$J$223=1),1,0)","v":0},{"$f":"IF(AND(EBP_Matrix!BG19=1,Risk_Other!$J$223=1),1,0)","v":0},{"$f":"IF(AND(EBP_Matrix!BH19=1,Risk_Alc!$J$266=1),1,0)","v":0},{"$f":"IF(AND(EBP_Matrix!BI19=1,Risk_Marj!$J$231=1),1,0)","v":0},{"$f":"IF(AND(EBP_Matrix!BJ19=1,Risk_Tob!$J$224=1),1,0)","v":0},{"$f":"IF(AND(EBP_Matrix!BK19=1,Risk_RxDrugs!$J$224=1),1,0)","v":0},{"$f":"IF(AND(EBP_Matrix!BL19=1,Risk_Other!$J$224=1),1,0)","v":0},{"$f":"IF(AND(EBP_Matrix!BM19=1,Risk_Alc!$J$267=1),1,0)","v":0},{"$f":"IF(AND(EBP_Matrix!BN19=1,Risk_Marj!$J$232=1),1,0)","v":0},{"$f":"IF(AND(EBP_Matrix!BO19=1,Risk_Tob!$J$225=1),1,0)","v":0},{"$f":"IF(AND(EBP_Matrix!BP19=1,Risk_RxDrugs!$J$225=1),1,0)","v":0},{"$f":"IF(AND(EBP_Matrix!BQ19=1,Risk_Other!$J$225=1),1,0)","v":0},{"$f":"IF(AND(EBP_Matrix!BR19=1,Risk_Alc!$J$268=1),1,0)","v":0},{"$f":"IF(AND(EBP_Matrix!BS19=1,Risk_Marj!$J$233=1),1,0)","v":0},{"$f":"IF(AND(EBP_Matrix!BT19=1,Risk_Tob!$J$226=1),1,0)","v":0},{"$f":"IF(AND(EBP_Matrix!BU19=1,Risk_RxDrugs!$J$226=1),1,0)","v":0},{"$f":"IF(AND(EBP_Matrix!BV19=1,Risk_Other!$J$226=1),1,0)","v":0},{"$f":"IF(AND(EBP_Matrix!BW19=1,Risk_Alc!$J$269=1),1,0)","v":0},{"$f":"IF(AND(EBP_Matrix!BX19=1,Risk_Marj!$J$234=1),1,0)","v":0},{"$f":"IF(AND(EBP_Matrix!BY19=1,Risk_Tob!$J$227=1),1,0)","v":0},{"$f":"IF(AND(EBP_Matrix!BZ19=1,Risk_RxDrugs!$J$227=1),1,0)","v":0},{"$f":"IF(AND(EBP_Matrix!CA19=1,Risk_Other!$J$227=1),1,0)","v":0},{"$f":"IF(AND(EBP_Matrix!CB19=1,Risk_Alc!$J$270=1),1,0)","v":0},{"$f":"IF(AND(EBP_Matrix!CC19=1,Risk_Marj!$J$235=1),1,0)","v":0},{"$f":"IF(AND(EBP_Matrix!CD19=1,Risk_Tob!$J$228=1),1,0)","v":0},{"$f":"IF(AND(EBP_Matrix!CE19=1,Risk_RxDrugs!$J$228=1),1,0)","v":0},{"$f":"IF(AND(EBP_Matrix!CF19=1,Risk_Other!$J$228=1),1,0)","v":0},{"$f":"IF(AND(EBP_Matrix!CG19=1,Risk_Alc!$J$271=1),1,0)","v":0},{"$f":"IF(AND(EBP_Matrix!CH19=1,Risk_Marj!$J$236=1),1,0)","v":0},{"$f":"IF(AND(EBP_Matrix!CI19=1,Risk_Tob!$J$229=1),1,0)","v":0},{"$f":"IF(AND(EBP_Matrix!CJ19=1,Risk_RxDrugs!$J$229=1),1,0)","v":0},{"$f":"IF(AND(EBP_Matrix!CK19=1,Risk_Other!$J$229=1),1,0)","v":0},{"$f":"IF(AND(EBP_Matrix!CL19=1,Risk_Alc!$J$272=1),1,0)","v":0},{"$f":"IF(AND(EBP_Matrix!CM19=1,Risk_Marj!$J$237=1),1,0)","v":0},{"$f":"IF(AND(EBP_Matrix!CN19=1,Risk_Tob!$J$230=1),1,0)","v":0},{"$f":"IF(AND(EBP_Matrix!CO19=1,Risk_RxDrugs!$J$230=1),1,0)","v":0},{"$f":"IF(AND(EBP_Matrix!CP19=1,Risk_Other!$J$230=1),1,0)","v":0},0,0,0,0,0,0,0]
[{"$f":"EBP_Matrix!A20","v":"Community Trials"},null,null,0,null,null,null,{"$f":"IF(AND(EBP_Matrix!T20=1,Prob_Alc!C71>0),1,0)","v":0},{"$f":"IF(AND(EBP_Matrix!T20=1,Prob_Alc!C71>0),1,0)","v":0},{"$f":"IF(AND(EBP_Matrix!T20=1,Prob_Alc!C71>0),1,0)","v":0},{"$f":"IF(AND(EBP_Matrix!T20=1,Prob_Alc!C71>0),1,0)","v":0},{"$f":"IF(AND(EBP_Matrix!T20=1,Prob_Alc!C71>0),1,0)","v":0},{"$f":"IF(AND(EBP_Matrix!T20=1,Prob_Alc!C71>0),1,0)","v":0},{"$f":"IF(AND(EBP_Matrix!T20=1,Prob_Alc!C71>0),1,0)","v":0},{"$f":"IF(AND(EBP_Matrix!T20=1,Prob_Alc!C71>0),1,0)","v":0},{"$f":"IF(AND(EBP_Matrix!U20=1,Prob_Marj!C71>0),1,0)","v":0},{"$f":"IF(AND(EBP_Matrix!U20=1,Prob_Marj!C71>0),1,0)","v":0},{"$f":"IF(AND(EBP_Matrix!U20=1,Prob_Marj!C71>0),1,0)","v":0},{"$f":"IF(AND(EBP_Matrix!U20=1,Prob_Marj!C71>0),1,0)","v":0},{"$f":"IF(AND(EBP_Matrix!V20=1,Prob_Tob!C71>0),1,0)","v":0},{"$f":"IF(AND(EBP_Matrix!V20=1,Prob_Tob!C71>0),1,0)","v":0},{"$f":"IF(AND(EBP_Matrix!V20=1,Prob_Tob!C71>0),1,0)","v":0},{"$f":"IF(AND(EBP_Matrix!V20=1,Prob_Tob!C71>0),1,0)","v":0},{"$f":"IF(AND(EBP_Matrix!V20=1,Prob_Tob!C71>0),1,0)","v":0},{"$f":"IF(AND(EBP_Matrix!V20=1,Prob_Tob!C71>0),1,0)","v":0},{"$f":"IF(AND(EBP_Matrix!W20=1,Prob_RxDrugs!C31>0),1,0)","v":0},{"$f":"IF(AND(EBP_Matrix!W20=1,Prob_RxDrugs!C31>0),1,0)","v":0},null,{"$f":"IF(AND(EBP_Matrix!X20=1,Prob_Other!C21>0),1,0)","v":0},{"$f":"IF(AND(EBP_Matrix!Y20=1,Risk_Alc!$J$259=1),1,0)","v":0},{"$f":"IF(AND(EBP_Matrix!Z20=1,Risk_Marj!$J$224=1),1,0)","v":0},{"$f":"IF(AND(EBP_Matrix!AA20=1,Risk_Tob!$J$217=1),1,0)","v":0},{"$f":"IF(AND(EBP_Matrix!AB20=1,Risk_RxDrugs!$J$217=1),1,0)","v":0},{"$f":"IF(AND(EBP_Matrix!AC20=1,Risk_Other!$J$217=1),1,0)","v":0},{"$f":"IF(AND(EBP_Matrix!AD20=1,Risk_Alc!$J$260=1),1,0)","v":0},{"$f":"IF(AND(EBP_Matrix!AE20=1,Risk_Marj!$J$225=1),1,0)","v":0},{"$f":"IF(AND(EBP_Matrix!AF20=1,Risk_Tob!$J$218=1),1,0)","v":0},{"$f":"IF(AND(EBP_Matrix!AG20=1,Risk_RxDrugs!$J$218=1),1,0)","v":0},{"$f":"IF(AND(EBP_Matrix!AH20=1,Risk_Other!$J$218=1),1,0)","v":0},{"$f":"IF(AND(EBP_Matrix!AI20=1,Risk_Alc!$J$261=1),1,0)","v":0},{"$f":"IF(AND(EBP_Matrix!AJ20=1,Risk_Marj!$J$226=1),1,0)","v":0},{"$f":"IF(AND(EBP_Matrix!AK20=1,Risk_Tob!$J$219=1),1,0)","v":0},{"$f":"IF(AND(EBP_Matrix!AL20=1,Risk_RxDrugs!$J$219=1),1,0)","v":0},{"$f":"IF(AND(EBP_Matrix!AM20=1,Risk_Other!$J$219=1),1,0)","v":0},{"$f":"IF(AND(EBP_Matrix!AN20=1,Risk_Alc!$J$262=1),1,0)","v":0},{"$f":"IF(AND(EBP_Matrix!AO20=1,Risk_Marj!$J$227=1),1,0)","v":0},{"$f":"IF(AND(EBP_Matrix!AP20=1,Risk_Tob!$J$220=1),1,0)","v":0},{"$f":"IF(AND(EBP_Matrix!AQ20=1,Risk_RxDrugs!$J$220=1),1,0)","v":0},{"$f":"IF(AND(EBP_Matrix!AR20=1,Risk_Other!$J$220=1),1,0)","v":0},{"$f":"IF(AND(EBP_Matrix!AS20=1,Risk_Alc!$J$263=1),1,0)","v":0},{"$f":"IF(AND(EBP_Matrix!AT20=1,Risk_Marj!$J$228=1),1,0)","v":0},{"$f":"IF(AND(EBP_Matrix!AU20=1,Risk_Tob!$J$221=1),1,0)","v":0},{"$f":"IF(AND(EBP_Matrix!AV20=1,Risk_RxDrugs!$J$221=1),1,0)","v":0},{"$f":"IF(AND(EBP_Matrix!AW20=1,Risk_Other!$J$221=1),1,0)","v":0},{"$f":"IF(AND(EBP_Matrix!AX20=1,Risk_Alc!$J$264=1),1,0)","v":0},{"$f":"IF(AND(EBP_Matrix!AY20=1,Risk_Marj!$J$229=1),1,0)","v":0},{"$f":"IF(AND(EBP_Matrix!AZ20=1,Risk_Tob!$J$222=1),1,0)","v":0},{"$f":"IF(AND(EBP_Matrix!BA20=1,Risk_RxDrugs!$J$222=1),1,0)","v":0},{"$f":"IF(AND(EBP_Matrix!BB20=1,Risk_Other!$J$222=1),1,0)","v":0},{"$f":"IF(AND(EBP_Matrix!BC20=1,Risk_Alc!$J$265=1),1,0)","v":0},{"$f":"IF(AND(EBP_Matrix!BD20=1,Risk_Marj!$J$230=1),1,0)","v":0},{"$f":"IF(AND(EBP_Matrix!BE20=1,Risk_Tob!$J$223=1),1,0)","v":0},{"$f":"IF(AND(EBP_Matrix!BF20=1,Risk_RxDrugs!$J$223=1),1,0)","v":0},{"$f":"IF(AND(EBP_Matrix!BG20=1,Risk_Other!$J$223=1),1,0)","v":0},{"$f":"IF(AND(EBP_Matrix!BH20=1,Risk_Alc!$J$266=1),1,0)","v":0},{"$f":"IF(AND(EBP_Matrix!BI20=1,Risk_Marj!$J$231=1),1,0)","v":0},{"$f":"IF(AND(EBP_Matrix!BJ20=1,Risk_Tob!$J$224=1),1,0)","v":0},{"$f":"IF(AND(EBP_Matrix!BK20=1,Risk_RxDrugs!$J$224=1),1,0)","v":0},{"$f":"IF(AND(EBP_Matrix!BL20=1,Risk_Other!$J$224=1),1,0)","v":0},{"$f":"IF(AND(EBP_Matrix!BM20=1,Risk_Alc!$J$267=1),1,0)","v":0},{"$f":"IF(AND(EBP_Matrix!BN20=1,Risk_Marj!$J$232=1),1,0)","v":0},{"$f":"IF(AND(EBP_Matrix!BO20=1,Risk_Tob!$J$225=1),1,0)","v":0},{"$f":"IF(AND(EBP_Matrix!BP20=1,Risk_RxDrugs!$J$225=1),1,0)","v":0},{"$f":"IF(AND(EBP_Matrix!BQ20=1,Risk_Other!$J$225=1),1,0)","v":0},{"$f":"IF(AND(EBP_Matrix!BR20=1,Risk_Alc!$J$268=1),1,0)","v":0},{"$f":"IF(AND(EBP_Matrix!BS20=1,Risk_Marj!$J$233=1),1,0)","v":0},{"$f":"IF(AND(EBP_Matrix!BT20=1,Risk_Tob!$J$226=1),1,0)","v":0},{"$f":"IF(AND(EBP_Matrix!BU20=1,Risk_RxDrugs!$J$226=1),1,0)","v":0},{"$f":"IF(AND(EBP_Matrix!BV20=1,Risk_Other!$J$226=1),1,0)","v":0},{"$f":"IF(AND(EBP_Matrix!BW20=1,Risk_Alc!$J$269=1),1,0)","v":0},{"$f":"IF(AND(EBP_Matrix!BX20=1,Risk_Marj!$J$234=1),1,0)","v":0},{"$f":"IF(AND(EBP_Matrix!BY20=1,Risk_Tob!$J$227=1),1,0)","v":0},{"$f":"IF(AND(EBP_Matrix!BZ20=1,Risk_RxDrugs!$J$227=1),1,0)","v":0},{"$f":"IF(AND(EBP_Matrix!CA20=1,Risk_Other!$J$227=1),1,0)","v":0},{"$f":"IF(AND(EBP_Matrix!CB20=1,Risk_Alc!$J$270=1),1,0)","v":0},{"$f":"IF(AND(EBP_Matrix!CC20=1,Risk_Marj!$J$235=1),1,0)","v":0},{"$f":"IF(AND(EBP_Matrix!CD20=1,Risk_Tob!$J$228=1),1,0)","v":0},{"$f":"IF(AND(EBP_Matrix!CE20=1,Risk_RxDrugs!$J$228=1),1,0)","v":0},{"$f":"IF(AND(EBP_Matrix!CF20=1,Risk_Other!$J$228=1),1,0)","v":0},{"$f":"IF(AND(EBP_Matrix!CG20=1,Risk_Alc!$J$271=1),1,0)","v":0},{"$f":"IF(AND(EBP_Matrix!CH20=1,Risk_Marj!$J$236=1),1,0)","v":0},{"$f":"IF(AND(EBP_Matrix!CI20=1,Risk_Tob!$J$229=1),1,0)","v":0},{"$f":"IF(AND(EBP_Matrix!CJ20=1,Risk_RxDrugs!$J$229=1),1,0)","v":0},{"$f":"IF(AND(EBP_Matrix!CK20=1,Risk_Other!$J$229=1),1,0)","v":0},{"$f":"IF(AND(EBP_Matrix!CL20=1,Risk_Alc!$J$272=1),1,0)","v":0},{"$f":"IF(AND(EBP_Matrix!CM20=1,Risk_Marj!$J$237=1),1,0)","v":0},{"$f":"IF(AND(EBP_Matrix!CN20=1,Risk_Tob!$J$230=1),1,0)","v":0},{"$f":"IF(AND(EBP_Matrix!CO20=1,Risk_RxDrugs!$J$230=1),1,0)","v":0},{"$f":"IF(AND(EBP_Matrix!CP20=1,Risk_Other!$J$230=1),1,0)","v":0},0,0,0,0,0,0,0]
[{"$f":"EBP_Matrix!A21","v":"Creating Lasting Family Connections (CLFC)/Creating Lasting Connections (CLC)"},null,null,0,null,null,null,{"$f":"IF(AND(EBP_Matrix!T21=1,Prob_Alc!C71>0),1,0)","v":0},{"$f":"IF(AND(EBP_Matrix!T21=1,Prob_Alc!C71>0),1,0)","v":0},{"$f":"IF(AND(EBP_Matrix!T21=1,Prob_Alc!C71>0),1,0)","v":0},{"$f":"IF(AND(EBP_Matrix!T21=1,Prob_Alc!C71>0),1,0)","v":0},{"$f":"IF(AND(EBP_Matrix!T21=1,Prob_Alc!C71>0),1,0)","v":0},{"$f":"IF(AND(EBP_Matrix!T21=1,Prob_Alc!C71>0),1,0)","v":0},{"$f":"IF(AND(EBP_Matrix!T21=1,Prob_Alc!C71>0),1,0)","v":0},{"$f":"IF(AND(EBP_Matrix!T21=1,Prob_Alc!C71>0),1,0)","v":0},{"$f":"IF(AND(EBP_Matrix!U21=1,Prob_Marj!C71>0),1,0)","v":0},{"$f":"IF(AND(EBP_Matrix!U21=1,Prob_Marj!C71>0),1,0)","v":0},{"$f":"IF(AND(EBP_Matrix!U21=1,Prob_Marj!C71>0),1,0)","v":0},{"$f":"IF(AND(EBP_Matrix!U21=1,Prob_Marj!C71>0),1,0)","v":0},{"$f":"IF(AND(EBP_Matrix!V21=1,Prob_Tob!C71>0),1,0)","v":0},{"$f":"IF(AND(EBP_Matrix!V21=1,Prob_Tob!C71>0),1,0)","v":0},{"$f":"IF(AND(EBP_Matrix!V21=1,Prob_Tob!C71>0),1,0)","v":0},{"$f":"IF(AND(EBP_Matrix!V21=1,Prob_Tob!C71>0),1,0)","v":0},{"$f":"IF(AND(EBP_Matrix!V21=1,Prob_Tob!C71>0),1,0)","v":0},{"$f":"IF(AND(EBP_Matrix!V21=1,Prob_Tob!C71>0),1,0)","v":0},{"$f":"IF(AND(EBP_Matrix!W21=1,Prob_RxDrugs!C31>0),1,0)","v":0},{"$f":"IF(AND(EBP_Matrix!W21=1,Prob_RxDrugs!C31>0),1,0)","v":0},null,{"$f":"IF(AND(EBP_Matrix!X21=1,Prob_Other!C21>0),1,0)","v":0},{"$f":"IF(AND(EBP_Matrix!Y21=1,Risk_Alc!$J$259=1),1,0)","v":0},{"$f":"IF(AND(EBP_Matrix!Z21=1,Risk_Marj!$J$224=1),1,0)","v":0},{"$f":"IF(AND(EBP_Matrix!AA21=1,Risk_Tob!$J$217=1),1,0)","v":0},{"$f":"IF(AND(EBP_Matrix!AB21=1,Risk_RxDrugs!$J$217=1),1,0)","v":0},{"$f":"IF(AND(EBP_Matrix!AC21=1,Risk_Other!$J$217=1),1,0)","v":0},{"$f":"IF(AND(EBP_Matrix!AD21=1,Risk_Alc!$J$260=1),1,0)","v":0},{"$f":"IF(AND(EBP_Matrix!AE21=1,Risk_Marj!$J$225=1),1,0)","v":0},{"$f":"IF(AND(EBP_Matrix!AF21=1,Risk_Tob!$J$218=1),1,0)","v":0},{"$f":"IF(AND(EBP_Matrix!AG21=1,Risk_RxDrugs!$J$218=1),1,0)","v":0},{"$f":"IF(AND(EBP_Matrix!AH21=1,Risk_Other!$J$218=1),1,0)","v":0},{"$f":"IF(AND(EBP_Matrix!AI21=1,Risk_Alc!$J$261=1),1,0)","v":0},{"$f":"IF(AND(EBP_Matrix!AJ21=1,Risk_Marj!$J$226=1),1,0)","v":0},{"$f":"IF(AND(EBP_Matrix!AK21=1,Risk_Tob!$J$219=1),1,0)","v":0},{"$f":"IF(AND(EBP_Matrix!AL21=1,Risk_RxDrugs!$J$219=1),1,0)","v":0},{"$f":"IF(AND(EBP_Matrix!AM21=1,Risk_Other!$J$219=1),1,0)","v":0},{"$f":"IF(AND(EBP_Matrix!AN21=1,Risk_Alc!$J$262=1),1,0)","v":0},{"$f":"IF(AND(EBP_Matrix!AO21=1,Risk_Marj!$J$227=1),1,0)","v":0},{"$f":"IF(AND(EBP_Matrix!AP21=1,Risk_Tob!$J$220=1),1,0)","v":0},{"$f":"IF(AND(EBP_Matrix!AQ21=1,Risk_RxDrugs!$J$220=1),1,0)","v":0},{"$f":"IF(AND(EBP_Matrix!AR21=1,Risk_Other!$J$220=1),1,0)","v":0},{"$f":"IF(AND(EBP_Matrix!AS21=1,Risk_Alc!$J$263=1),1,0)","v":0},{"$f":"IF(AND(EBP_Matrix!AT21=1,Risk_Marj!$J$228=1),1,0)","v":0},{"$f":"IF(AND(EBP_Matrix!AU21=1,Risk_Tob!$J$221=1),1,0)","v":0},{"$f":"IF(AND(EBP_Matrix!AV21=1,Risk_RxDrugs!$J$221=1),1,0)","v":0},{"$f":"IF(AND(EBP_Matrix!AW21=1,Risk_Other!$J$221=1),1,0)","v":0},{"$f":"IF(AND(EBP_Matrix!AX21=1,Risk_Alc!$J$264=1),1,0)","v":0},{"$f":"IF(AND(EBP_Matrix!AY21=1,Risk_Marj!$J$229=1),1,0)","v":0},{"$f":"IF(AND(EBP_Matrix!AZ21=1,Risk_Tob!$J$222=1),1,0)","v":0},{"$f":"IF(AND(EBP_Matrix!BA21=1,Risk_RxDrugs!$J$222=1),1,0)","v":0},{"$f":"IF(AND(EBP_Matrix!BB21=1,Risk_Other!$J$222=1),1,0)","v":0},{"$f":"IF(AND(EBP_Matrix!BC21=1,Risk_Alc!$J$265=1),1,0)","v":0},{"$f":"IF(AND(EBP_Matrix!BD21=1,Risk_Marj!$J$230=1),1,0)","v":0},{"$f":"IF(AND(EBP_Matrix!BE21=1,Risk_Tob!$J$223=1),1,0)","v":0},{"$f":"IF(AND(EBP_Matrix!BF21=1,Risk_RxDrugs!$J$223=1),1,0)","v":0},{"$f":"IF(AND(EBP_Matrix!BG21=1,Risk_Other!$J$223=1),1,0)","v":0},{"$f":"IF(AND(EBP_Matrix!BH21=1,Risk_Alc!$J$266=1),1,0)","v":0},{"$f":"IF(AND(EBP_Matrix!BI21=1,Risk_Marj!$J$231=1),1,0)","v":0},{"$f":"IF(AND(EBP_Matrix!BJ21=1,Risk_Tob!$J$224=1),1,0)","v":0},{"$f":"IF(AND(EBP_Matrix!BK21=1,Risk_RxDrugs!$J$224=1),1,0)","v":0},{"$f":"IF(AND(EBP_Matrix!BL21=1,Risk_Other!$J$224=1),1,0)","v":0},{"$f":"IF(AND(EBP_Matrix!BM21=1,Risk_Alc!$J$267=1),1,0)","v":0},{"$f":"IF(AND(EBP_Matrix!BN21=1,Risk_Marj!$J$232=1),1,0)","v":0},{"$f":"IF(AND(EBP_Matrix!BO21=1,Risk_Tob!$J$225=1),1,0)","v":0},{"$f":"IF(AND(EBP_Matrix!BP21=1,Risk_RxDrugs!$J$225=1),1,0)","v":0},{"$f":"IF(AND(EBP_Matrix!BQ21=1,Risk_Other!$J$225=1),1,0)","v":0},{"$f":"IF(AND(EBP_Matrix!BR21=1,Risk_Alc!$J$268=1),1,0)","v":0},{"$f":"IF(AND(EBP_Matrix!BS21=1,Risk_Marj!$J$233=1),1,0)","v":0},{"$f":"IF(AND(EBP_Matrix!BT21=1,Risk_Tob!$J$226=1),1,0)","v":0},{"$f":"IF(AND(EBP_Matrix!BU21=1,Risk_RxDrugs!$J$226=1),1,0)","v":0},{"$f":"IF(AND(EBP_Matrix!BV21=1,Risk_Other!$J$226=1),1,0)","v":0},{"$f":"IF(AND(EBP_Matrix!BW21=1,Risk_Alc!$J$269=1),1,0)","v":0},{"$f":"IF(AND(EBP_Matrix!BX21=1,Risk_Marj!$J$234=1),1,0)","v":0},{"$f":"IF(AND(EBP_Matrix!BY21=1,Risk_Tob!$J$227=1),1,0)","v":0},{"$f":"IF(AND(EBP_Matrix!BZ21=1,Risk_RxDrugs!$J$227=1),1,0)","v":0},{"$f":"IF(AND(EBP_Matrix!CA21=1,Risk_Other!$J$227=1),1,0)","v":0},{"$f":"IF(AND(EBP_Matrix!CB21=1,Risk_Alc!$J$270=1),1,0)","v":0},{"$f":"IF(AND(EBP_Matrix!CC21=1,Risk_Marj!$J$235=1),1,0)","v":0},{"$f":"IF(AND(EBP_Matrix!CD21=1,Risk_Tob!$J$228=1),1,0)","v":0},{"$f":"IF(AND(EBP_Matrix!CE21=1,Risk_RxDrugs!$J$228=1),1,0)","v":0},{"$f":"IF(AND(EBP_Matrix!CF21=1,Risk_Other!$J$228=1),1,0)","v":0},{"$f":"IF(AND(EBP_Matrix!CG21=1,Risk_Alc!$J$271=1),1,0)","v":0},{"$f":"IF(AND(EBP_Matrix!CH21=1,Risk_Marj!$J$236=1),1,0)","v":0},{"$f":"IF(AND(EBP_Matrix!CI21=1,Risk_Tob!$J$229=1),1,0)","v":0},{"$f":"IF(AND(EBP_Matrix!CJ21=1,Risk_RxDrugs!$J$229=1),1,0)","v":0},{"$f":"IF(AND(EBP_Matrix!CK21=1,Risk_Other!$J$229=1),1,0)","v":0},{"$f":"IF(AND(EBP_Matrix!CL21=1,Risk_Alc!$J$272=1),1,0)","v":0},{"$f":"IF(AND(EBP_Matrix!CM21=1,Risk_Marj!$J$237=1),1,0)","v":0},{"$f":"IF(AND(EBP_Matrix!CN21=1,Risk_Tob!$J$230=1),1,0)","v":0},{"$f":"IF(AND(EBP_Matrix!CO21=1,Risk_RxDrugs!$J$230=1),1,0)","v":0},{"$f":"IF(AND(EBP_Matrix!CP21=1,Risk_Other!$J$230=1),1,0)","v":0},0,0,0,0,0,0,0]
[{"$f":"EBP_Matrix!A22","v":"DARE to Be You"},null,null,0,null,null,null,{"$f":"IF(AND(EBP_Matrix!T22=1,Prob_Alc!C71>0),1,0)","v":0},{"$f":"IF(AND(EBP_Matrix!T22=1,Prob_Alc!C71>0),1,0)","v":0},{"$f":"IF(AND(EBP_Matrix!T22=1,Prob_Alc!C71>0),1,0)","v":0},{"$f":"IF(AND(EBP_Matrix!T22=1,Prob_Alc!C71>0),1,0)","v":0},{"$f":"IF(AND(EBP_Matrix!T22=1,Prob_Alc!C71>0),1,0)","v":0},{"$f":"IF(AND(EBP_Matrix!T22=1,Prob_Alc!C71>0),1,0)","v":0},{"$f":"IF(AND(EBP_Matrix!T22=1,Prob_Alc!C71>0),1,0)","v":0},{"$f":"IF(AND(EBP_Matrix!T22=1,Prob_Alc!C71>0),1,0)","v":0},{"$f":"IF(AND(EBP_Matrix!U22=1,Prob_Marj!C71>0),1,0)","v":0},{"$f":"IF(AND(EBP_Matrix!U22=1,Prob_Marj!C71>0),1,0)","v":0},{"$f":"IF(AND(EBP_Matrix!U22=1,Prob_Marj!C71>0),1,0)","v":0},{"$f":"IF(AND(EBP_Matrix!U22=1,Prob_Marj!C71>0),1,0)","v":0},{"$f":"IF(AND(EBP_Matrix!V22=1,Prob_Tob!C71>0),1,0)","v":0},{"$f":"IF(AND(EBP_Matrix!V22=1,Prob_Tob!C71>0),1,0)","v":0},{"$f":"IF(AND(EBP_Matrix!V22=1,Prob_Tob!C71>0),1,0)","v":0},{"$f":"IF(AND(EBP_Matrix!V22=1,Prob_Tob!C71>0),1,0)","v":0},{"$f":"IF(AND(EBP_Matrix!V22=1,Prob_Tob!C71>0),1,0)","v":0},{"$f":"IF(AND(EBP_Matrix!V22=1,Prob_Tob!C71>0),1,0)","v":0},{"$f":"IF(AND(EBP_Matrix!W22=1,Prob_RxDrugs!C31>0),1,0)","v":0},{"$f":"IF(AND(EBP_Matrix!W22=1,Prob_RxDrugs!C31>0),1,0)","v":0},null,{"$f":"IF(AND(EBP_Matrix!X22=1,Prob_Other!C21>0),1,0)","v":0},{"$f":"IF(AND(EBP_Matrix!Y22=1,Risk_Alc!$J$259=1),1,0)","v":0},{"$f":"IF(AND(EBP_Matrix!Z22=1,Risk_Marj!$J$224=1),1,0)","v":0},{"$f":"IF(AND(EBP_Matrix!AA22=1,Risk_Tob!$J$217=1),1,0)","v":0},{"$f":"IF(AND(EBP_Matrix!AB22=1,Risk_RxDrugs!$J$217=1),1,0)","v":0},{"$f":"IF(AND(EBP_Matrix!AC22=1,Risk_Other!$J$217=1),1,0)","v":0},{"$f":"IF(AND(EBP_Matrix!AD22=1,Risk_Alc!$J$260=1),1,0)","v":0},{"$f":"IF(AND(EBP_Matrix!AE22=1,Risk_Marj!$J$225=1),1,0)","v":0},{"$f":"IF(AND(EBP_Matrix!AF22=1,Risk_Tob!$J$218=1),1,0)","v":0},{"$f":"IF(AND(EBP_Matrix!AG22=1,Risk_RxDrugs!$J$218=1),1,0)","v":0},{"$f":"IF(AND(EBP_Matrix!AH22=1,Risk_Other!$J$218=1),1,0)","v":0},{"$f":"IF(AND(EBP_Matrix!AI22=1,Risk_Alc!$J$261=1),1,0)","v":0},{"$f":"IF(AND(EBP_Matrix!AJ22=1,Risk_Marj!$J$226=1),1,0)","v":0},{"$f":"IF(AND(EBP_Matrix!AK22=1,Risk_Tob!$J$219=1),1,0)","v":0},{"$f":"IF(AND(EBP_Matrix!AL22=1,Risk_RxDrugs!$J$219=1),1,0)","v":0},{"$f":"IF(AND(EBP_Matrix!AM22=1,Risk_Other!$J$219=1),1,0)","v":0},{"$f":"IF(AND(EBP_Matrix!AN22=1,Risk_Alc!$J$262=1),1,0)","v":0},{"$f":"IF(AND(EBP_Matrix!AO22=1,Risk_Marj!$J$227=1),1,0)","v":0},{"$f":"IF(AND(EBP_Matrix!AP22=1,Risk_Tob!$J$220=1),1,0)","v":0},{"$f":"IF(AND(EBP_Matrix!AQ22=1,Risk_RxDrugs!$J$220=1),1,0)","v":0},{"$f":"IF(AND(EBP_Matrix!AR22=1,Risk_Other!$J$220=1),1,0)","v":0},{"$f":"IF(AND(EBP_Matrix!AS22=1,Risk_Alc!$J$263=1),1,0)","v":0},{"$f":"IF(AND(EBP_Matrix!AT22=1,Risk_Marj!$J$228=1),1,0)","v":0},{"$f":"IF(AND(EBP_Matrix!AU22=1,Risk_Tob!$J$221=1),1,0)","v":0},{"$f":"IF(AND(EBP_Matrix!AV22=1,Risk_RxDrugs!$J$221=1),1,0)","v":0},{"$f":"IF(AND(EBP_Matrix!AW22=1,Risk_Other!$J$221=1),1,0)","v":0},{"$f":"IF(AND(EBP_Matrix!AX22=1,Risk_Alc!$J$264=1),1,0)","v":0},{"$f":"IF(AND(EBP_Matrix!AY22=1,Risk_Marj!$J$229=1),1,0)","v":0},{"$f":"IF(AND(EBP_Matrix!AZ22=1,Risk_Tob!$J$222=1),1,0)","v":0},{"$f":"IF(AND(EBP_Matrix!BA22=1,Risk_RxDrugs!$J$222=1),1,0)","v":0},{"$f":"IF(AND(EBP_Matrix!BB22=1,Risk_Other!$J$222=1),1,0)","v":0},{"$f":"IF(AND(EBP_Matrix!BC22=1,Risk_Alc!$J$265=1),1,0)","v":0},{"$f":"IF(AND(EBP_Matrix!BD22=1,Risk_Marj!$J$230=1),1,0)","v":0},{"$f":"IF(AND(EBP_Matrix!BE22=1,Risk_Tob!$J$223=1),1,0)","v":0},{"$f":"IF(AND(EBP_Matrix!BF22=1,Risk_RxDrugs!$J$223=1),1,0)","v":0},{"$f":"IF(AND(EBP_Matrix!BG22=1,Risk_Other!$J$223=1),1,0)","v":0},{"$f":"IF(AND(EBP_Matrix!BH22=1,Risk_Alc!$J$266=1),1,0)","v":0},{"$f":"IF(AND(EBP_Matrix!BI22=1,Risk_Marj!$J$231=1),1,0)","v":0},{"$f":"IF(AND(EBP_Matrix!BJ22=1,Risk_Tob!$J$224=1),1,0)","v":0},{"$f":"IF(AND(EBP_Matrix!BK22=1,Risk_RxDrugs!$J$224=1),1,0)","v":0},{"$f":"IF(AND(EBP_Matrix!BL22=1,Risk_Other!$J$224=1),1,0)","v":0},{"$f":"IF(AND(EBP_Matrix!BM22=1,Risk_Alc!$J$267=1),1,0)","v":0},{"$f":"IF(AND(EBP_Matrix!BN22=1,Risk_Marj!$J$232=1),1,0)","v":0},{"$f":"IF(AND(EBP_Matrix!BO22=1,Risk_Tob!$J$225=1),1,0)","v":0},{"$f":"IF(AND(EBP_Matrix!BP22=1,Risk_RxDrugs!$J$225=1),1,0)","v":0},{"$f":"IF(AND(EBP_Matrix!BQ22=1,Risk_Other!$J$225=1),1,0)","v":0},{"$f":"IF(AND(EBP_Matrix!BR22=1,Risk_Alc!$J$268=1),1,0)","v":0},{"$f":"IF(AND(EBP_Matrix!BS22=1,Risk_Marj!$J$233=1),1,0)","v":0},{"$f":"IF(AND(EBP_Matrix!BT22=1,Risk_Tob!$J$226=1),1,0)","v":0},{"$f":"IF(AND(EBP_Matrix!BU22=1,Risk_RxDrugs!$J$226=1),1,0)","v":0},{"$f":"IF(AND(EBP_Matrix!BV22=1,Risk_Other!$J$226=1),1,0)","v":0},{"$f":"IF(AND(EBP_Matrix!BW22=1,Risk_Alc!$J$269=1),1,0)","v":0},{"$f":"IF(AND(EBP_Matrix!BX22=1,Risk_Marj!$J$234=1),1,0)","v":0},{"$f":"IF(AND(EBP_Matrix!BY22=1,Risk_Tob!$J$227=1),1,0)","v":0},{"$f":"IF(AND(EBP_Matrix!BZ22=1,Risk_RxDrugs!$J$227=1),1,0)","v":0},{"$f":"IF(AND(EBP_Matrix!CA22=1,Risk_Other!$J$227=1),1,0)","v":0},{"$f":"IF(AND(EBP_Matrix!CB22=1,Risk_Alc!$J$270=1),1,0)","v":0},{"$f":"IF(AND(EBP_Matrix!CC22=1,Risk_Marj!$J$235=1),1,0)","v":0},{"$f":"IF(AND(EBP_Matrix!CD22=1,Risk_Tob!$J$228=1),1,0)","v":0},{"$f":"IF(AND(EBP_Matrix!CE22=1,Risk_RxDrugs!$J$228=1),1,0)","v":0},{"$f":"IF(AND(EBP_Matrix!CF22=1,Risk_Other!$J$228=1),1,0)","v":0},{"$f":"IF(AND(EBP_Matrix!CG22=1,Risk_Alc!$J$271=1),1,0)","v":0},{"$f":"IF(AND(EBP_Matrix!CH22=1,Risk_Marj!$J$236=1),1,0)","v":0},{"$f":"IF(AND(EBP_Matrix!CI22=1,Risk_Tob!$J$229=1),1,0)","v":0},{"$f":"IF(AND(EBP_Matrix!CJ22=1,Risk_RxDrugs!$J$229=1),1,0)","v":0},{"$f":"IF(AND(EBP_Matrix!CK22=1,Risk_Other!$J$229=1),1,0)","v":0},{"$f":"IF(AND(EBP_Matrix!CL22=1,Risk_Alc!$J$272=1),1,0)","v":0},{"$f":"IF(AND(EBP_Matrix!CM22=1,Risk_Marj!$J$237=1),1,0)","v":0},{"$f":"IF(AND(EBP_Matrix!CN22=1,Risk_Tob!$J$230=1),1,0)","v":0},{"$f":"IF(AND(EBP_Matrix!CO22=1,Risk_RxDrugs!$J$230=1),1,0)","v":0},{"$f":"IF(AND(EBP_Matrix!CP22=1,Risk_Other!$J$230=1),1,0)","v":0},0,0,0,0,0,0,0]
[{"$f":"EBP_Matrix!A23","v":"Electronic Screening and Brief Interventions (e-SBI)"},null,null,0,null,null,null,{"$f":"IF(AND(EBP_Matrix!T23=1,Prob_Alc!C71>0),1,0)","v":0},{"$f":"IF(AND(EBP_Matrix!T23=1,Prob_Alc!C71>0),1,0)","v":0},{"$f":"IF(AND(EBP_Matrix!T23=1,Prob_Alc!C71>0),1,0)","v":0},{"$f":"IF(AND(EBP_Matrix!T23=1,Prob_Alc!C71>0),1,0)","v":0},{"$f":"IF(AND(EBP_Matrix!T23=1,Prob_Alc!C71>0),1,0)","v":0},{"$f":"IF(AND(EBP_Matrix!T23=1,Prob_Alc!C71>0),1,0)","v":0},{"$f":"IF(AND(EBP_Matrix!T23=1,Prob_Alc!C71>0),1,0)","v":0},{"$f":"IF(AND(EBP_Matrix!T23=1,Prob_Alc!C71>0),1,0)","v":0},{"$f":"IF(AND(EBP_Matrix!U23=1,Prob_Marj!C71>0),1,0)","v":0},{"$f":"IF(AND(EBP_Matrix!U23=1,Prob_Marj!C71>0),1,0)","v":0},{"$f":"IF(AND(EBP_Matrix!U23=1,Prob_Marj!C71>0),1,0)","v":0},{"$f":"IF(AND(EBP_Matrix!U23=1,Prob_Marj!C71>0),1,0)","v":0},{"$f":"IF(AND(EBP_Matrix!V23=1,Prob_Tob!C71>0),1,0)","v":0},{"$f":"IF(AND(EBP_Matrix!V23=1,Prob_Tob!C71>0),1,0)","v":0},{"$f":"IF(AND(EBP_Matrix!V23=1,Prob_Tob!C71>0),1,0)","v":0},{"$f":"IF(AND(EBP_Matrix!V23=1,Prob_Tob!C71>0),1,0)","v":0},{"$f":"IF(AND(EBP_Matrix!V23=1,Prob_Tob!C71>0),1,0)","v":0},{"$f":"IF(AND(EBP_Matrix!V23=1,Prob_Tob!C71>0),1,0)","v":0},{"$f":"IF(AND(EBP_Matrix!W23=1,Prob_RxDrugs!C31>0),1,0)","v":0},{"$f":"IF(AND(EBP_Matrix!W23=1,Prob_RxDrugs!C31>0),1,0)","v":0},null,{"$f":"IF(AND(EBP_Matrix!X23=1,Prob_Other!C21>0),1,0)","v":0},{"$f":"IF(AND(EBP_Matrix!Y23=1,Risk_Alc!$J$259=1),1,0)","v":0},{"$f":"IF(AND(EBP_Matrix!Z23=1,Risk_Marj!$J$224=1),1,0)","v":0},{"$f":"IF(AND(EBP_Matrix!AA23=1,Risk_Tob!$J$217=1),1,0)","v":0},{"$f":"IF(AND(EBP_Matrix!AB23=1,Risk_RxDrugs!$J$217=1),1,0)","v":0},{"$f":"IF(AND(EBP_Matrix!AC23=1,Risk_Other!$J$217=1),1,0)","v":0},{"$f":"IF(AND(EBP_Matrix!AD23=1,Risk_Alc!$J$260=1),1,0)","v":0},{"$f":"IF(AND(EBP_Matrix!AE23=1,Risk_Marj!$J$225=1),1,0)","v":0},{"$f":"IF(AND(EBP_Matrix!AF23=1,Risk_Tob!$J$218=1),1,0)","v":0},{"$f":"IF(AND(EBP_Matrix!AG23=1,Risk_RxDrugs!$J$218=1),1,0)","v":0},{"$f":"IF(AND(EBP_Matrix!AH23=1,Risk_Other!$J$218=1),1,0)","v":0},{"$f":"IF(AND(EBP_Matrix!AI23=1,Risk_Alc!$J$261=1),1,0)","v":0},{"$f":"IF(AND(EBP_Matrix!AJ23=1,Risk_Marj!$J$226=1),1,0)","v":0},{"$f":"IF(AND(EBP_Matrix!AK23=1,Risk_Tob!$J$219=1),1,0)","v":0},{"$f":"IF(AND(EBP_Matrix!AL23=1,Risk_RxDrugs!$J$219=1),1,0)","v":0},{"$f":"IF(AND(EBP_Matrix!AM23=1,Risk_Other!$J$219=1),1,0)","v":0},{"$f":"IF(AND(EBP_Matrix!AN23=1,Risk_Alc!$J$262=1),1,0)","v":0},{"$f":"IF(AND(EBP_Matrix!AO23=1,Risk_Marj!$J$227=1),1,0)","v":0},{"$f":"IF(AND(EBP_Matrix!AP23=1,Risk_Tob!$J$220=1),1,0)","v":0},{"$f":"IF(AND(EBP_Matrix!AQ23=1,Risk_RxDrugs!$J$220=1),1,0)","v":0},{"$f":"IF(AND(EBP_Matrix!AR23=1,Risk_Other!$J$220=1),1,0)","v":0},{"$f":"IF(AND(EBP_Matrix!AS23=1,Risk_Alc!$J$263=1),1,0)","v":0},{"$f":"IF(AND(EBP_Matrix!AT23=1,Risk_Marj!$J$228=1),1,0)","v":0},{"$f":"IF(AND(EBP_Matrix!AU23=1,Risk_Tob!$J$221=1),1,0)","v":0},{"$f":"IF(AND(EBP_Matrix!AV23=1,Risk_RxDrugs!$J$221=1),1,0)","v":0},{"$f":"IF(AND(EBP_Matrix!AW23=1,Risk_Other!$J$221=1),1,0)","v":0},{"$f":"IF(AND(EBP_Matrix!AX23=1,Risk_Alc!$J$264=1),1,0)","v":0},{"$f":"IF(AND(EBP_Matrix!AY23=1,Risk_Marj!$J$229=1),1,0)","v":0},{"$f":"IF(AND(EBP_Matrix!AZ23=1,Risk_Tob!$J$222=1),1,0)","v":0},{"$f":"IF(AND(EBP_Matrix!BA23=1,Risk_RxDrugs!$J$222=1),1,0)","v":0},{"$f":"IF(AND(EBP_Matrix!BB23=1,Risk_Other!$J$222=1),1,0)","v":0},{"$f":"IF(AND(EBP_Matrix!BC23=1,Risk_Alc!$J$265=1),1,0)","v":0},{"$f":"IF(AND(EBP_Matrix!BD23=1,Risk_Marj!$J$230=1),1,0)","v":0},{"$f":"IF(AND(EBP_Matrix!BE23=1,Risk_Tob!$J$223=1),1,0)","v":0},{"$f":"IF(AND(EBP_Matrix!BF23=1,Risk_RxDrugs!$J$223=1),1,0)","v":0},{"$f":"IF(AND(EBP_Matrix!BG23=1,Risk_Other!$J$223=1),1,0)","v":0},{"$f":"IF(AND(EBP_Matrix!BH23=1,Risk_Alc!$J$266=1),1,0)","v":0},{"$f":"IF(AND(EBP_Matrix!BI23=1,Risk_Marj!$J$231=1),1,0)","v":0},{"$f":"IF(AND(EBP_Matrix!BJ23=1,Risk_Tob!$J$224=1),1,0)","v":0},{"$f":"IF(AND(EBP_Matrix!BK23=1,Risk_RxDrugs!$J$224=1),1,0)","v":0},{"$f":"IF(AND(EBP_Matrix!BL23=1,Risk_Other!$J$224=1),1,0)","v":0},{"$f":"IF(AND(EBP_Matrix!BM23=1,Risk_Alc!$J$267=1),1,0)","v":0},{"$f":"IF(AND(EBP_Matrix!BN23=1,Risk_Marj!$J$232=1),1,0)","v":0},{"$f":"IF(AND(EBP_Matrix!BO23=1,Risk_Tob!$J$225=1),1,0)","v":0},{"$f":"IF(AND(EBP_Matrix!BP23=1,Risk_RxDrugs!$J$225=1),1,0)","v":0},{"$f":"IF(AND(EBP_Matrix!BQ23=1,Risk_Other!$J$225=1),1,0)","v":0},{"$f":"IF(AND(EBP_Matrix!BR23=1,Risk_Alc!$J$268=1),1,0)","v":0},{"$f":"IF(AND(EBP_Matrix!BS23=1,Risk_Marj!$J$233=1),1,0)","v":0},{"$f":"IF(AND(EBP_Matrix!BT23=1,Risk_Tob!$J$226=1),1,0)","v":0},{"$f":"IF(AND(EBP_Matrix!BU23=1,Risk_RxDrugs!$J$226=1),1,0)","v":0},{"$f":"IF(AND(EBP_Matrix!BV23=1,Risk_Other!$J$226=1),1,0)","v":0},{"$f":"IF(AND(EBP_Matrix!BW23=1,Risk_Alc!$J$269=1),1,0)","v":0},{"$f":"IF(AND(EBP_Matrix!BX23=1,Risk_Marj!$J$234=1),1,0)","v":0},{"$f":"IF(AND(EBP_Matrix!BY23=1,Risk_Tob!$J$227=1),1,0)","v":0},{"$f":"IF(AND(EBP_Matrix!BZ23=1,Risk_RxDrugs!$J$227=1),1,0)","v":0},{"$f":"IF(AND(EBP_Matrix!CA23=1,Risk_Other!$J$227=1),1,0)","v":0},{"$f":"IF(AND(EBP_Matrix!CB23=1,Risk_Alc!$J$270=1),1,0)","v":0},{"$f":"IF(AND(EBP_Matrix!CC23=1,Risk_Marj!$J$235=1),1,0)","v":0},{"$f":"IF(AND(EBP_Matrix!CD23=1,Risk_Tob!$J$228=1),1,0)","v":0},{"$f":"IF(AND(EBP_Matrix!CE23=1,Risk_RxDrugs!$J$228=1),1,0)","v":0},{"$f":"IF(AND(EBP_Matrix!CF23=1,Risk_Other!$J$228=1),1,0)","v":0},{"$f":"IF(AND(EBP_Matrix!CG23=1,Risk_Alc!$J$271=1),1,0)","v":0},{"$f":"IF(AND(EBP_Matrix!CH23=1,Risk_Marj!$J$236=1),1,0)","v":0},{"$f":"IF(AND(EBP_Matrix!CI23=1,Risk_Tob!$J$229=1),1,0)","v":0},{"$f":"IF(AND(EBP_Matrix!CJ23=1,Risk_RxDrugs!$J$229=1),1,0)","v":0},{"$f":"IF(AND(EBP_Matrix!CK23=1,Risk_Other!$J$229=1),1,0)","v":0},{"$f":"IF(AND(EBP_Matrix!CL23=1,Risk_Alc!$J$272=1),1,0)","v":0},{"$f":"IF(AND(EBP_Matrix!CM23=1,Risk_Marj!$J$237=1),1,0)","v":0},{"$f":"IF(AND(EBP_Matrix!CN23=1,Risk_Tob!$J$230=1),1,0)","v":0},{"$f":"IF(AND(EBP_Matrix!CO23=1,Risk_RxDrugs!$J$230=1),1,0)","v":0},{"$f":"IF(AND(EBP_Matrix!CP23=1,Risk_Other!$J$230=1),1,0)","v":0},0,0,0,0,0,0,0]
[{"$f":"EBP_Matrix!A24","v":"Guiding Good Choices"},null,null,0,null,null,null,{"$f":"IF(AND(EBP_Matrix!T24=1,Prob_Alc!C71>0),1,0)","v":0},{"$f":"IF(AND(EBP_Matrix!T24=1,Prob_Alc!C71>0),1,0)","v":0},{"$f":"IF(AND(EBP_Matrix!T24=1,Prob_Alc!C71>0),1,0)","v":0},{"$f":"IF(AND(EBP_Matrix!T24=1,Prob_Alc!C71>0),1,0)","v":0},{"$f":"IF(AND(EBP_Matrix!T24=1,Prob_Alc!C71>0),1,0)","v":0},{"$f":"IF(AND(EBP_Matrix!T24=1,Prob_Alc!C71>0),1,0)","v":0},{"$f":"IF(AND(EBP_Matrix!T24=1,Prob_Alc!C71>0),1,0)","v":0},{"$f":"IF(AND(EBP_Matrix!T24=1,Prob_Alc!C71>0),1,0)","v":0},{"$f":"IF(AND(EBP_Matrix!U24=1,Prob_Marj!C71>0),1,0)","v":0},{"$f":"IF(AND(EBP_Matrix!U24=1,Prob_Marj!C71>0),1,0)","v":0},{"$f":"IF(AND(EBP_Matrix!U24=1,Prob_Marj!C71>0),1,0)","v":0},{"$f":"IF(AND(EBP_Matrix!U24=1,Prob_Marj!C71>0),1,0)","v":0},{"$f":"IF(AND(EBP_Matrix!V24=1,Prob_Tob!C71>0),1,0)","v":0},{"$f":"IF(AND(EBP_Matrix!V24=1,Prob_Tob!C71>0),1,0)","v":0},{"$f":"IF(AND(EBP_Matrix!V24=1,Prob_Tob!C71>0),1,0)","v":0},{"$f":"IF(AND(EBP_Matrix!V24=1,Prob_Tob!C71>0),1,0)","v":0},{"$f":"IF(AND(EBP_Matrix!V24=1,Prob_Tob!C71>0),1,0)","v":0},{"$f":"IF(AND(EBP_Matrix!V24=1,Prob_Tob!C71>0),1,0)","v":0},{"$f":"IF(AND(EBP_Matrix!W24=1,Prob_RxDrugs!C31>0),1,0)","v":0},{"$f":"IF(AND(EBP_Matrix!W24=1,Prob_RxDrugs!C31>0),1,0)","v":0},null,{"$f":"IF(AND(EBP_Matrix!X24=1,Prob_Other!C21>0),1,0)","v":0},{"$f":"IF(AND(EBP_Matrix!Y24=1,Risk_Alc!$J$259=1),1,0)","v":0},{"$f":"IF(AND(EBP_Matrix!Z24=1,Risk_Marj!$J$224=1),1,0)","v":0},{"$f":"IF(AND(EBP_Matrix!AA24=1,Risk_Tob!$J$217=1),1,0)","v":0},{"$f":"IF(AND(EBP_Matrix!AB24=1,Risk_RxDrugs!$J$217=1),1,0)","v":0},{"$f":"IF(AND(EBP_Matrix!AC24=1,Risk_Other!$J$217=1),1,0)","v":0},{"$f":"IF(AND(EBP_Matrix!AD24=1,Risk_Alc!$J$260=1),1,0)","v":0},{"$f":"IF(AND(EBP_Matrix!AE24=1,Risk_Marj!$J$225=1),1,0)","v":0},{"$f":"IF(AND(EBP_Matrix!AF24=1,Risk_Tob!$J$218=1),1,0)","v":0},{"$f":"IF(AND(EBP_Matrix!AG24=1,Risk_RxDrugs!$J$218=1),1,0)","v":0},{"$f":"IF(AND(EBP_Matrix!AH24=1,Risk_Other!$J$218=1),1,0)","v":0},{"$f":"IF(AND(EBP_Matrix!AI24=1,Risk_Alc!$J$261=1),1,0)","v":0},{"$f":"IF(AND(EBP_Matrix!AJ24=1,Risk_Marj!$J$226=1),1,0)","v":0},{"$f":"IF(AND(EBP_Matrix!AK24=1,Risk_Tob!$J$219=1),1,0)","v":0},{"$f":"IF(AND(EBP_Matrix!AL24=1,Risk_RxDrugs!$J$219=1),1,0)","v":0},{"$f":"IF(AND(EBP_Matrix!AM24=1,Risk_Other!$J$219=1),1,0)","v":0},{"$f":"IF(AND(EBP_Matrix!AN24=1,Risk_Alc!$J$262=1),1,0)","v":0},{"$f":"IF(AND(EBP_Matrix!AO24=1,Risk_Marj!$J$227=1),1,0)","v":0},{"$f":"IF(AND(EBP_Matrix!AP24=1,Risk_Tob!$J$220=1),1,0)","v":0},{"$f":"IF(AND(EBP_Matrix!AQ24=1,Risk_RxDrugs!$J$220=1),1,0)","v":0},{"$f":"IF(AND(EBP_Matrix!AR24=1,Risk_Other!$J$220=1),1,0)","v":0},{"$f":"IF(AND(EBP_Matrix!AS24=1,Risk_Alc!$J$263=1),1,0)","v":0},{"$f":"IF(AND(EBP_Matrix!AT24=1,Risk_Marj!$J$228=1),1,0)","v":0},{"$f":"IF(AND(EBP_Matrix!AU24=1,Risk_Tob!$J$221=1),1,0)","v":0},{"$f":"IF(AND(EBP_Matrix!AV24=1,Risk_RxDrugs!$J$221=1),1,0)","v":0},{"$f":"IF(AND(EBP_Matrix!AW24=1,Risk_Other!$J$221=1),1,0)","v":0},{"$f":"IF(AND(EBP_Matrix!AX24=1,Risk_Alc!$J$264=1),1,0)","v":0},{"$f":"IF(AND(EBP_Matrix!AY24=1,Risk_Marj!$J$229=1),1,0)","v":0},{"$f":"IF(AND(EBP_Matrix!AZ24=1,Risk_Tob!$J$222=1),1,0)","v":0},{"$f":"IF(AND(EBP_Matrix!BA24=1,Risk_RxDrugs!$J$222=1),1,0)","v":0},{"$f":"IF(AND(EBP_Matrix!BB24=1,Risk_Other!$J$222=1),1,0)","v":0},{"$f":"IF(AND(EBP_Matrix!BC24=1,Risk_Alc!$J$265=1),1,0)","v":0},{"$f":"IF(AND(EBP_Matrix!BD24=1,Risk_Marj!$J$230=1),1,0)","v":0},{"$f":"IF(AND(EBP_Matrix!BE24=1,Risk_Tob!$J$223=1),1,0)","v":0},{"$f":"IF(AND(EBP_Matrix!BF24=1,Risk_RxDrugs!$J$223=1),1,0)","v":0},{"$f":"IF(AND(EBP_Matrix!BG24=1,Risk_Other!$J$223=1),1,0)","v":0},{"$f":"IF(AND(EBP_Matrix!BH24=1,Risk_Alc!$J$266=1),1,0)","v":0},{"$f":"IF(AND(EBP_Matrix!BI24=1,Risk_Marj!$J$231=1),1,0)","v":0},{"$f":"IF(AND(EBP_Matrix!BJ24=1,Risk_Tob!$J$224=1),1,0)","v":0},{"$f":"IF(AND(EBP_Matrix!BK24=1,Risk_RxDrugs!$J$224=1),1,0)","v":0},{"$f":"IF(AND(EBP_Matrix!BL24=1,Risk_Other!$J$224=1),1,0)","v":0},{"$f":"IF(AND(EBP_Matrix!BM24=1,Risk_Alc!$J$267=1),1,0)","v":0},{"$f":"IF(AND(EBP_Matrix!BN24=1,Risk_Marj!$J$232=1),1,0)","v":0},{"$f":"IF(AND(EBP_Matrix!BO24=1,Risk_Tob!$J$225=1),1,0)","v":0},{"$f":"IF(AND(EBP_Matrix!BP24=1,Risk_RxDrugs!$J$225=1),1,0)","v":0},{"$f":"IF(AND(EBP_Matrix!BQ24=1,Risk_Other!$J$225=1),1,0)","v":0},{"$f":"IF(AND(EBP_Matrix!BR24=1,Risk_Alc!$J$268=1),1,0)","v":0},{"$f":"IF(AND(EBP_Matrix!BS24=1,Risk_Marj!$J$233=1),1,0)","v":0},{"$f":"IF(AND(EBP_Matrix!BT24=1,Risk_Tob!$J$226=1),1,0)","v":0},{"$f":"IF(AND(EBP_Matrix!BU24=1,Risk_RxDrugs!$J$226=1),1,0)","v":0},{"$f":"IF(AND(EBP_Matrix!BV24=1,Risk_Other!$J$226=1),1,0)","v":0},{"$f":"IF(AND(EBP_Matrix!BW24=1,Risk_Alc!$J$269=1),1,0)","v":0},{"$f":"IF(AND(EBP_Matrix!BX24=1,Risk_Marj!$J$234=1),1,0)","v":0},{"$f":"IF(AND(EBP_Matrix!BY24=1,Risk_Tob!$J$227=1),1,0)","v":0},{"$f":"IF(AND(EBP_Matrix!BZ24=1,Risk_RxDrugs!$J$227=1),1,0)","v":0},{"$f":"IF(AND(EBP_Matrix!CA24=1,Risk_Other!$J$227=1),1,0)","v":0},{"$f":"IF(AND(EBP_Matrix!CB24=1,Risk_Alc!$J$270=1),1,0)","v":0},{"$f":"IF(AND(EBP_Matrix!CC24=1,Risk_Marj!$J$235=1),1,0)","v":0},{"$f":"IF(AND(EBP_Matrix!CD24=1,Risk_Tob!$J$228=1),1,0)","v":0},{"$f":"IF(AND(EBP_Matrix!CE24=1,Risk_RxDrugs!$J$228=1),1,0)","v":0},{"$f":"IF(AND(EBP_Matrix!CF24=1,Risk_Other!$J$228=1),1,0)","v":0},{"$f":"IF(AND(EBP_Matrix!CG24=1,Risk_Alc!$J$271=1),1,0)","v":0},{"$f":"IF(AND(EBP_Matrix!CH24=1,Risk_Marj!$J$236=1),1,0)","v":0},{"$f":"IF(AND(EBP_Matrix!CI24=1,Risk_Tob!$J$229=1),1,0)","v":0},{"$f":"IF(AND(EBP_Matrix!CJ24=1,Risk_RxDrugs!$J$229=1),1,0)","v":0},{"$f":"IF(AND(EBP_Matrix!CK24=1,Risk_Other!$J$229=1),1,0)","v":0},{"$f":"IF(AND(EBP_Matrix!CL24=1,Risk_Alc!$J$272=1),1,0)","v":0},{"$f":"IF(AND(EBP_Matrix!CM24=1,Risk_Marj!$J$237=1),1,0)","v":0},{"$f":"IF(AND(EBP_Matrix!CN24=1,Risk_Tob!$J$230=1),1,0)","v":0},{"$f":"IF(AND(EBP_Matrix!CO24=1,Risk_RxDrugs!$J$230=1),1,0)","v":0},{"$f":"IF(AND(EBP_Matrix!CP24=1,Risk_Other!$J$230=1),1,0)","v":0},0,0,0,0,0,0,0]
[{"$f":"EBP_Matrix!A25","v":"Health Rocks"},null,null,0,null,null,null,{"$f":"IF(AND(EBP_Matrix!T25=1,Prob_Alc!C71>0),1,0)","v":0},{"$f":"IF(AND(EBP_Matrix!T25=1,Prob_Alc!C71>0),1,0)","v":0},{"$f":"IF(AND(EBP_Matrix!T25=1,Prob_Alc!C71>0),1,0)","v":0},{"$f":"IF(AND(EBP_Matrix!T25=1,Prob_Alc!C71>0),1,0)","v":0},{"$f":"IF(AND(EBP_Matrix!T25=1,Prob_Alc!C71>0),1,0)","v":0},{"$f":"IF(AND(EBP_Matrix!T25=1,Prob_Alc!C71>0),1,0)","v":0},{"$f":"IF(AND(EBP_Matrix!T25=1,Prob_Alc!C71>0),1,0)","v":0},{"$f":"IF(AND(EBP_Matrix!T25=1,Prob_Alc!C71>0),1,0)","v":0},{"$f":"IF(AND(EBP_Matrix!U25=1,Prob_Marj!C71>0),1,0)","v":0},{"$f":"IF(AND(EBP_Matrix!U25=1,Prob_Marj!C71>0),1,0)","v":0},{"$f":"IF(AND(EBP_Matrix!U25=1,Prob_Marj!C71>0),1,0)","v":0},{"$f":"IF(AND(EBP_Matrix!U25=1,Prob_Marj!C71>0),1,0)","v":0},{"$f":"IF(AND(EBP_Matrix!V25=1,Prob_Tob!C71>0),1,0)","v":0},{"$f":"IF(AND(EBP_Matrix!V25=1,Prob_Tob!C71>0),1,0)","v":0},{"$f":"IF(AND(EBP_Matrix!V25=1,Prob_Tob!C71>0),1,0)","v":0},{"$f":"IF(AND(EBP_Matrix!V25=1,Prob_Tob!C71>0),1,0)","v":0},{"$f":"IF(AND(EBP_Matrix!V25=1,Prob_Tob!C71>0),1,0)","v":0},{"$f":"IF(AND(EBP_Matrix!V25=1,Prob_Tob!C71>0),1,0)","v":0},{"$f":"IF(AND(EBP_Matrix!W25=1,Prob_RxDrugs!C31>0),1,0)","v":0},{"$f":"IF(AND(EBP_Matrix!W25=1,Prob_RxDrugs!C31>0),1,0)","v":0},null,{"$f":"IF(AND(EBP_Matrix!X25=1,Prob_Other!C21>0),1,0)","v":0},{"$f":"IF(AND(EBP_Matrix!Y25=1,Risk_Alc!$J$259=1),1,0)","v":0},{"$f":"IF(AND(EBP_Matrix!Z25=1,Risk_Marj!$J$224=1),1,0)","v":0},{"$f":"IF(AND(EBP_Matrix!AA25=1,Risk_Tob!$J$217=1),1,0)","v":0},{"$f":"IF(AND(EBP_Matrix!AB25=1,Risk_RxDrugs!$J$217=1),1,0)","v":0},{"$f":"IF(AND(EBP_Matrix!AC25=1,Risk_Other!$J$217=1),1,0)","v":0},{"$f":"IF(AND(EBP_Matrix!AD25=1,Risk_Alc!$J$260=1),1,0)","v":0},{"$f":"IF(AND(EBP_Matrix!AE25=1,Risk_Marj!$J$225=1),1,0)","v":0},{"$f":"IF(AND(EBP_Matrix!AF25=1,Risk_Tob!$J$218=1),1,0)","v":0},{"$f":"IF(AND(EBP_Matrix!AG25=1,Risk_RxDrugs!$J$218=1),1,0)","v":0},{"$f":"IF(AND(EBP_Matrix!AH25=1,Risk_Other!$J$218=1),1,0)","v":0},{"$f":"IF(AND(EBP_Matrix!AI25=1,Risk_Alc!$J$261=1),1,0)","v":0},{"$f":"IF(AND(EBP_Matrix!AJ25=1,Risk_Marj!$J$226=1),1,0)","v":0},{"$f":"IF(AND(EBP_Matrix!AK25=1,Risk_Tob!$J$219=1),1,0)","v":0},{"$f":"IF(AND(EBP_Matrix!AL25=1,Risk_RxDrugs!$J$219=1),1,0)","v":0},{"$f":"IF(AND(EBP_Matrix!AM25=1,Risk_Other!$J$219=1),1,0)","v":0},{"$f":"IF(AND(EBP_Matrix!AN25=1,Risk_Alc!$J$262=1),1,0)","v":0},{"$f":"IF(AND(EBP_Matrix!AO25=1,Risk_Marj!$J$227=1),1,0)","v":0},{"$f":"IF(AND(EBP_Matrix!AP25=1,Risk_Tob!$J$220=1),1,0)","v":0},{"$f":"IF(AND(EBP_Matrix!AQ25=1,Risk_RxDrugs!$J$220=1),1,0)","v":0},{"$f":"IF(AND(EBP_Matrix!AR25=1,Risk_Other!$J$220=1),1,0)","v":0},{"$f":"IF(AND(EBP_Matrix!AS25=1,Risk_Alc!$J$263=1),1,0)","v":0},{"$f":"IF(AND(EBP_Matrix!AT25=1,Risk_Marj!$J$228=1),1,0)","v":0},{"$f":"IF(AND(EBP_Matrix!AU25=1,Risk_Tob!$J$221=1),1,0)","v":0},{"$f":"IF(AND(EBP_Matrix!AV25=1,Risk_RxDrugs!$J$221=1),1,0)","v":0},{"$f":"IF(AND(EBP_Matrix!AW25=1,Risk_Other!$J$221=1),1,0)","v":0},{"$f":"IF(AND(EBP_Matrix!AX25=1,Risk_Alc!$J$264=1),1,0)","v":0},{"$f":"IF(AND(EBP_Matrix!AY25=1,Risk_Marj!$J$229=1),1,0)","v":0},{"$f":"IF(AND(EBP_Matrix!AZ25=1,Risk_Tob!$J$222=1),1,0)","v":0},{"$f":"IF(AND(EBP_Matrix!BA25=1,Risk_RxDrugs!$J$222=1),1,0)","v":0},{"$f":"IF(AND(EBP_Matrix!BB25=1,Risk_Other!$J$222=1),1,0)","v":0},{"$f":"IF(AND(EBP_Matrix!BC25=1,Risk_Alc!$J$265=1),1,0)","v":0},{"$f":"IF(AND(EBP_Matrix!BD25=1,Risk_Marj!$J$230=1),1,0)","v":0},{"$f":"IF(AND(EBP_Matrix!BE25=1,Risk_Tob!$J$223=1),1,0)","v":0},{"$f":"IF(AND(EBP_Matrix!BF25=1,Risk_RxDrugs!$J$223=1),1,0)","v":0},{"$f":"IF(AND(EBP_Matrix!BG25=1,Risk_Other!$J$223=1),1,0)","v":0},{"$f":"IF(AND(EBP_Matrix!BH25=1,Risk_Alc!$J$266=1),1,0)","v":0},{"$f":"IF(AND(EBP_Matrix!BI25=1,Risk_Marj!$J$231=1),1,0)","v":0},{"$f":"IF(AND(EBP_Matrix!BJ25=1,Risk_Tob!$J$224=1),1,0)","v":0},{"$f":"IF(AND(EBP_Matrix!BK25=1,Risk_RxDrugs!$J$224=1),1,0)","v":0},{"$f":"IF(AND(EBP_Matrix!BL25=1,Risk_Other!$J$224=1),1,0)","v":0},{"$f":"IF(AND(EBP_Matrix!BM25=1,Risk_Alc!$J$267=1),1,0)","v":0},{"$f":"IF(AND(EBP_Matrix!BN25=1,Risk_Marj!$J$232=1),1,0)","v":0},{"$f":"IF(AND(EBP_Matrix!BO25=1,Risk_Tob!$J$225=1),1,0)","v":0},{"$f":"IF(AND(EBP_Matrix!BP25=1,Risk_RxDrugs!$J$225=1),1,0)","v":0},{"$f":"IF(AND(EBP_Matrix!BQ25=1,Risk_Other!$J$225=1),1,0)","v":0},{"$f":"IF(AND(EBP_Matrix!BR25=1,Risk_Alc!$J$268=1),1,0)","v":0},{"$f":"IF(AND(EBP_Matrix!BS25=1,Risk_Marj!$J$233=1),1,0)","v":0},{"$f":"IF(AND(EBP_Matrix!BT25=1,Risk_Tob!$J$226=1),1,0)","v":0},{"$f":"IF(AND(EBP_Matrix!BU25=1,Risk_RxDrugs!$J$226=1),1,0)","v":0},{"$f":"IF(AND(EBP_Matrix!BV25=1,Risk_Other!$J$226=1),1,0)","v":0},{"$f":"IF(AND(EBP_Matrix!BW25=1,Risk_Alc!$J$269=1),1,0)","v":0},{"$f":"IF(AND(EBP_Matrix!BX25=1,Risk_Marj!$J$234=1),1,0)","v":0},{"$f":"IF(AND(EBP_Matrix!BY25=1,Risk_Tob!$J$227=1),1,0)","v":0},{"$f":"IF(AND(EBP_Matrix!BZ25=1,Risk_RxDrugs!$J$227=1),1,0)","v":0},{"$f":"IF(AND(EBP_Matrix!CA25=1,Risk_Other!$J$227=1),1,0)","v":0},{"$f":"IF(AND(EBP_Matrix!CB25=1,Risk_Alc!$J$270=1),1,0)","v":0},{"$f":"IF(AND(EBP_Matrix!CC25=1,Risk_Marj!$J$235=1),1,0)","v":0},{"$f":"IF(AND(EBP_Matrix!CD25=1,Risk_Tob!$J$228=1),1,0)","v":0},{"$f":"IF(AND(EBP_Matrix!CE25=1,Risk_RxDrugs!$J$228=1),1,0)","v":0},{"$f":"IF(AND(EBP_Matrix!CF25=1,Risk_Other!$J$228=1),1,0)","v":0},{"$f":"IF(AND(EBP_Matrix!CG25=1,Risk_Alc!$J$271=1),1,0)","v":0},{"$f":"IF(AND(EBP_Matrix!CH25=1,Risk_Marj!$J$236=1),1,0)","v":0},{"$f":"IF(AND(EBP_Matrix!CI25=1,Risk_Tob!$J$229=1),1,0)","v":0},{"$f":"IF(AND(EBP_Matrix!CJ25=1,Risk_RxDrugs!$J$229=1),1,0)","v":0},{"$f":"IF(AND(EBP_Matrix!CK25=1,Risk_Other!$J$229=1),1,0)","v":0},{"$f":"IF(AND(EBP_Matrix!CL25=1,Risk_Alc!$J$272=1),1,0)","v":0},{"$f":"IF(AND(EBP_Matrix!CM25=1,Risk_Marj!$J$237=1),1,0)","v":0},{"$f":"IF(AND(EBP_Matrix!CN25=1,Risk_Tob!$J$230=1),1,0)","v":0},{"$f":"IF(AND(EBP_Matrix!CO25=1,Risk_RxDrugs!$J$230=1),1,0)","v":0},{"$f":"IF(AND(EBP_Matrix!CP25=1,Risk_Other!$J$230=1),1,0)","v":0},0,0,0,0,0,0,0]
[{"$f":"EBP_Matrix!A26","v":"Healthy Alternatives for Little Ones (HALO)"},null,null,0,null,null,null,{"$f":"IF(AND(EBP_Matrix!T26=1,Prob_Alc!C71>0),1,0)","v":0},{"$f":"IF(AND(EBP_Matrix!T26=1,Prob_Alc!C71>0),1,0)","v":0},{"$f":"IF(AND(EBP_Matrix!T26=1,Prob_Alc!C71>0),1,0)","v":0},{"$f":"IF(AND(EBP_Matrix!T26=1,Prob_Alc!C71>0),1,0)","v":0},{"$f":"IF(AND(EBP_Matrix!T26=1,Prob_Alc!C71>0),1,0)","v":0},{"$f":"IF(AND(EBP_Matrix!T26=1,Prob_Alc!C71>0),1,0)","v":0},{"$f":"IF(AND(EBP_Matrix!T26=1,Prob_Alc!C71>0),1,0)","v":0},{"$f":"IF(AND(EBP_Matrix!T26=1,Prob_Alc!C71>0),1,0)","v":0},{"$f":"IF(AND(EBP_Matrix!U26=1,Prob_Marj!C71>0),1,0)","v":0},{"$f":"IF(AND(EBP_Matrix!U26=1,Prob_Marj!C71>0),1,0)","v":0},{"$f":"IF(AND(EBP_Matrix!U26=1,Prob_Marj!C71>0),1,0)","v":0},{"$f":"IF(AND(EBP_Matrix!U26=1,Prob_Marj!C71>0),1,0)","v":0},{"$f":"IF(AND(EBP_Matrix!V26=1,Prob_Tob!C71>0),1,0)","v":0},{"$f":"IF(AND(EBP_Matrix!V26=1,Prob_Tob!C71>0),1,0)","v":0},{"$f":"IF(AND(EBP_Matrix!V26=1,Prob_Tob!C71>0),1,0)","v":0},{"$f":"IF(AND(EBP_Matrix!V26=1,Prob_Tob!C71>0),1,0)","v":0},{"$f":"IF(AND(EBP_Matrix!V26=1,Prob_Tob!C71>0),1,0)","v":0},{"$f":"IF(AND(EBP_Matrix!V26=1,Prob_Tob!C71>0),1,0)","v":0},{"$f":"IF(AND(EBP_Matrix!W26=1,Prob_RxDrugs!C31>0),1,0)","v":0},{"$f":"IF(AND(EBP_Matrix!W26=1,Prob_RxDrugs!C31>0),1,0)","v":0},null,{"$f":"IF(AND(EBP_Matrix!X26=1,Prob_Other!C21>0),1,0)","v":0},{"$f":"IF(AND(EBP_Matrix!Y26=1,Risk_Alc!$J$259=1),1,0)","v":0},{"$f":"IF(AND(EBP_Matrix!Z26=1,Risk_Marj!$J$224=1),1,0)","v":0},{"$f":"IF(AND(EBP_Matrix!AA26=1,Risk_Tob!$J$217=1),1,0)","v":0},{"$f":"IF(AND(EBP_Matrix!AB26=1,Risk_RxDrugs!$J$217=1),1,0)","v":0},{"$f":"IF(AND(EBP_Matrix!AC26=1,Risk_Other!$J$217=1),1,0)","v":0},{"$f":"IF(AND(EBP_Matrix!AD26=1,Risk_Alc!$J$260=1),1,0)","v":0},{"$f":"IF(AND(EBP_Matrix!AE26=1,Risk_Marj!$J$225=1),1,0)","v":0},{"$f":"IF(AND(EBP_Matrix!AF26=1,Risk_Tob!$J$218=1),1,0)","v":0},{"$f":"IF(AND(EBP_Matrix!AG26=1,Risk_RxDrugs!$J$218=1),1,0)","v":0},{"$f":"IF(AND(EBP_Matrix!AH26=1,Risk_Other!$J$218=1),1,0)","v":0},{"$f":"IF(AND(EBP_Matrix!AI26=1,Risk_Alc!$J$261=1),1,0)","v":0},{"$f":"IF(AND(EBP_Matrix!AJ26=1,Risk_Marj!$J$226=1),1,0)","v":0},{"$f":"IF(AND(EBP_Matrix!AK26=1,Risk_Tob!$J$219=1),1,0)","v":0},{"$f":"IF(AND(EBP_Matrix!AL26=1,Risk_RxDrugs!$J$219=1),1,0)","v":0},{"$f":"IF(AND(EBP_Matrix!AM26=1,Risk_Other!$J$219=1),1,0)","v":0},{"$f":"IF(AND(EBP_Matrix!AN26=1,Risk_Alc!$J$262=1),1,0)","v":0},{"$f":"IF(AND(EBP_Matrix!AO26=1,Risk_Marj!$J$227=1),1,0)","v":0},{"$f":"IF(AND(EBP_Matrix!AP26=1,Risk_Tob!$J$220=1),1,0)","v":0},{"$f":"IF(AND(EBP_Matrix!AQ26=1,Risk_RxDrugs!$J$220=1),1,0)","v":0},{"$f":"IF(AND(EBP_Matrix!AR26=1,Risk_Other!$J$220=1),1,0)","v":0},{"$f":"IF(AND(EBP_Matrix!AS26=1,Risk_Alc!$J$263=1),1,0)","v":0},{"$f":"IF(AND(EBP_Matrix!AT26=1,Risk_Marj!$J$228=1),1,0)","v":0},{"$f":"IF(AND(EBP_Matrix!AU26=1,Risk_Tob!$J$221=1),1,0)","v":0},{"$f":"IF(AND(EBP_Matrix!AV26=1,Risk_RxDrugs!$J$221=1),1,0)","v":0},{"$f":"IF(AND(EBP_Matrix!AW26=1,Risk_Other!$J$221=1),1,0)","v":0},{"$f":"IF(AND(EBP_Matrix!AX26=1,Risk_Alc!$J$264=1),1,0)","v":0},{"$f":"IF(AND(EBP_Matrix!AY26=1,Risk_Marj!$J$229=1),1,0)","v":0},{"$f":"IF(AND(EBP_Matrix!AZ26=1,Risk_Tob!$J$222=1),1,0)","v":0},{"$f":"IF(AND(EBP_Matrix!BA26=1,Risk_RxDrugs!$J$222=1),1,0)","v":0},{"$f":"IF(AND(EBP_Matrix!BB26=1,Risk_Other!$J$222=1),1,0)","v":0},{"$f":"IF(AND(EBP_Matrix!BC26=1,Risk_Alc!$J$265=1),1,0)","v":0},{"$f":"IF(AND(EBP_Matrix!BD26=1,Risk_Marj!$J$230=1),1,0)","v":0},{"$f":"IF(AND(EBP_Matrix!BE26=1,Risk_Tob!$J$223=1),1,0)","v":0},{"$f":"IF(AND(EBP_Matrix!BF26=1,Risk_RxDrugs!$J$223=1),1,0)","v":0},{"$f":"IF(AND(EBP_Matrix!BG26=1,Risk_Other!$J$223=1),1,0)","v":0},{"$f":"IF(AND(EBP_Matrix!BH26=1,Risk_Alc!$J$266=1),1,0)","v":0},{"$f":"IF(AND(EBP_Matrix!BI26=1,Risk_Marj!$J$231=1),1,0)","v":0},{"$f":"IF(AND(EBP_Matrix!BJ26=1,Risk_Tob!$J$224=1),1,0)","v":0},{"$f":"IF(AND(EBP_Matrix!BK26=1,Risk_RxDrugs!$J$224=1),1,0)","v":0},{"$f":"IF(AND(EBP_Matrix!BL26=1,Risk_Other!$J$224=1),1,0)","v":0},{"$f":"IF(AND(EBP_Matrix!BM26=1,Risk_Alc!$J$267=1),1,0)","v":0},{"$f":"IF(AND(EBP_Matrix!BN26=1,Risk_Marj!$J$232=1),1,0)","v":0},{"$f":"IF(AND(EBP_Matrix!BO26=1,Risk_Tob!$J$225=1),1,0)","v":0},{"$f":"IF(AND(EBP_Matrix!BP26=1,Risk_RxDrugs!$J$225=1),1,0)","v":0},{"$f":"IF(AND(EBP_Matrix!BQ26=1,Risk_Other!$J$225=1),1,0)","v":0},{"$f":"IF(AND(EBP_Matrix!BR26=1,Risk_Alc!$J$268=1),1,0)","v":0},{"$f":"IF(AND(EBP_Matrix!BS26=1,Risk_Marj!$J$233=1),1,0)","v":0},{"$f":"IF(AND(EBP_Matrix!BT26=1,Risk_Tob!$J$226=1),1,0)","v":0},{"$f":"IF(AND(EBP_Matrix!BU26=1,Risk_RxDrugs!$J$226=1),1,0)","v":0},{"$f":"IF(AND(EBP_Matrix!BV26=1,Risk_Other!$J$226=1),1,0)","v":0},{"$f":"IF(AND(EBP_Matrix!BW26=1,Risk_Alc!$J$269=1),1,0)","v":0},{"$f":"IF(AND(EBP_Matrix!BX26=1,Risk_Marj!$J$234=1),1,0)","v":0},{"$f":"IF(AND(EBP_Matrix!BY26=1,Risk_Tob!$J$227=1),1,0)","v":0},{"$f":"IF(AND(EBP_Matrix!BZ26=1,Risk_RxDrugs!$J$227=1),1,0)","v":0},{"$f":"IF(AND(EBP_Matrix!CA26=1,Risk_Other!$J$227=1),1,0)","v":0},{"$f":"IF(AND(EBP_Matrix!CB26=1,Risk_Alc!$J$270=1),1,0)","v":0},{"$f":"IF(AND(EBP_Matrix!CC26=1,Risk_Marj!$J$235=1),1,0)","v":0},{"$f":"IF(AND(EBP_Matrix!CD26=1,Risk_Tob!$J$228=1),1,0)","v":0},{"$f":"IF(AND(EBP_Matrix!CE26=1,Risk_RxDrugs!$J$228=1),1,0)","v":0},{"$f":"IF(AND(EBP_Matrix!CF26=1,Risk_Other!$J$228=1),1,0)","v":0},{"$f":"IF(AND(EBP_Matrix!CG26=1,Risk_Alc!$J$271=1),1,0)","v":0},{"$f":"IF(AND(EBP_Matrix!CH26=1,Risk_Marj!$J$236=1),1,0)","v":0},{"$f":"IF(AND(EBP_Matrix!CI26=1,Risk_Tob!$J$229=1),1,0)","v":0},{"$f":"IF(AND(EBP_Matrix!CJ26=1,Risk_RxDrugs!$J$229=1),1,0)","v":0},{"$f":"IF(AND(EBP_Matrix!CK26=1,Risk_Other!$J$229=1),1,0)","v":0},{"$f":"IF(AND(EBP_Matrix!CL26=1,Risk_Alc!$J$272=1),1,0)","v":0},{"$f":"IF(AND(EBP_Matrix!CM26=1,Risk_Marj!$J$237=1),1,0)","v":0},{"$f":"IF(AND(EBP_Matrix!CN26=1,Risk_Tob!$J$230=1),1,0)","v":0},{"$f":"IF(AND(EBP_Matrix!CO26=1,Risk_RxDrugs!$J$230=1),1,0)","v":0},{"$f":"IF(AND(EBP_Matrix!CP26=1,Risk_Other!$J$230=1),1,0)","v":0},0,0,0,0,0,0,0]
[{"$f":"EBP_Matrix!A27","v":"LifeSkills Training (LST)"},null,null,0,null,null,null,{"$f":"IF(AND(EBP_Matrix!T27=1,Prob_Alc!C71>0),1,0)","v":0},{"$f":"IF(AND(EBP_Matrix!T27=1,Prob_Alc!C71>0),1,0)","v":0},{"$f":"IF(AND(EBP_Matrix!T27=1,Prob_Alc!C71>0),1,0)","v":0},{"$f":"IF(AND(EBP_Matrix!T27=1,Prob_Alc!C71>0),1,0)","v":0},{"$f":"IF(AND(EBP_Matrix!T27=1,Prob_Alc!C71>0),1,0)","v":0},{"$f":"IF(AND(EBP_Matrix!T27=1,Prob_Alc!C71>0),1,0)","v":0},{"$f":"IF(AND(EBP_Matrix!T27=1,Prob_Alc!C71>0),1,0)","v":0},{"$f":"IF(AND(EBP_Matrix!T27=1,Prob_Alc!C71>0),1,0)","v":0},{"$f":"IF(AND(EBP_Matrix!U27=1,Prob_Marj!C71>0),1,0)","v":0},{"$f":"IF(AND(EBP_Matrix!U27=1,Prob_Marj!C71>0),1,0)","v":0},{"$f":"IF(AND(EBP_Matrix!U27=1,Prob_Marj!C71>0),1,0)","v":0},{"$f":"IF(AND(EBP_Matrix!U27=1,Prob_Marj!C71>0),1,0)","v":0},{"$f":"IF(AND(EBP_Matrix!V27=1,Prob_Tob!C71>0),1,0)","v":0},{"$f":"IF(AND(EBP_Matrix!V27=1,Prob_Tob!C71>0),1,0)","v":0},{"$f":"IF(AND(EBP_Matrix!V27=1,Prob_Tob!C71>0),1,0)","v":0},{"$f":"IF(AND(EBP_Matrix!V27=1,Prob_Tob!C71>0),1,0)","v":0},{"$f":"IF(AND(EBP_Matrix!V27=1,Prob_Tob!C71>0),1,0)","v":0},{"$f":"IF(AND(EBP_Matrix!V27=1,Prob_Tob!C71>0),1,0)","v":0},{"$f":"IF(AND(EBP_Matrix!W27=1,Prob_RxDrugs!C31>0),1,0)","v":0},{"$f":"IF(AND(EBP_Matrix!W27=1,Prob_RxDrugs!C31>0),1,0)","v":0},null,{"$f":"IF(AND(EBP_Matrix!X27=1,Prob_Other!C21>0),1,0)","v":0},{"$f":"IF(AND(EBP_Matrix!Y27=1,Risk_Alc!$J$259=1),1,0)","v":0},{"$f":"IF(AND(EBP_Matrix!Z27=1,Risk_Marj!$J$224=1),1,0)","v":0},{"$f":"IF(AND(EBP_Matrix!AA27=1,Risk_Tob!$J$217=1),1,0)","v":0},{"$f":"IF(AND(EBP_Matrix!AB27=1,Risk_RxDrugs!$J$217=1),1,0)","v":0},{"$f":"IF(AND(EBP_Matrix!AC27=1,Risk_Other!$J$217=1),1,0)","v":0},{"$f":"IF(AND(EBP_Matrix!AD27=1,Risk_Alc!$J$260=1),1,0)","v":0},{"$f":"IF(AND(EBP_Matrix!AE27=1,Risk_Marj!$J$225=1),1,0)","v":0},{"$f":"IF(AND(EBP_Matrix!AF27=1,Risk_Tob!$J$218=1),1,0)","v":0},{"$f":"IF(AND(EBP_Matrix!AG27=1,Risk_RxDrugs!$J$218=1),1,0)","v":0},{"$f":"IF(AND(EBP_Matrix!AH27=1,Risk_Other!$J$218=1),1,0)","v":0},{"$f":"IF(AND(EBP_Matrix!AI27=1,Risk_Alc!$J$261=1),1,0)","v":0},{"$f":"IF(AND(EBP_Matrix!AJ27=1,Risk_Marj!$J$226=1),1,0)","v":0},{"$f":"IF(AND(EBP_Matrix!AK27=1,Risk_Tob!$J$219=1),1,0)","v":0},{"$f":"IF(AND(EBP_Matrix!AL27=1,Risk_RxDrugs!$J$219=1),1,0)","v":0},{"$f":"IF(AND(EBP_Matrix!AM27=1,Risk_Other!$J$219=1),1,0)","v":0},{"$f":"IF(AND(EBP_Matrix!AN27=1,Risk_Alc!$J$262=1),1,0)","v":0},{"$f":"IF(AND(EBP_Matrix!AO27=1,Risk_Marj!$J$227=1),1,0)","v":0},{"$f":"IF(AND(EBP_Matrix!AP27=1,Risk_Tob!$J$220=1),1,0)","v":0},{"$f":"IF(AND(EBP_Matrix!AQ27=1,Risk_RxDrugs!$J$220=1),1,0)","v":0},{"$f":"IF(AND(EBP_Matrix!AR27=1,Risk_Other!$J$220=1),1,0)","v":0},{"$f":"IF(AND(EBP_Matrix!AS27=1,Risk_Alc!$J$263=1),1,0)","v":0},{"$f":"IF(AND(EBP_Matrix!AT27=1,Risk_Marj!$J$228=1),1,0)","v":0},{"$f":"IF(AND(EBP_Matrix!AU27=1,Risk_Tob!$J$221=1),1,0)","v":0},{"$f":"IF(AND(EBP_Matrix!AV27=1,Risk_RxDrugs!$J$221=1),1,0)","v":0},{"$f":"IF(AND(EBP_Matrix!AW27=1,Risk_Other!$J$221=1),1,0)","v":0},{"$f":"IF(AND(EBP_Matrix!AX27=1,Risk_Alc!$J$264=1),1,0)","v":0},{"$f":"IF(AND(EBP_Matrix!AY27=1,Risk_Marj!$J$229=1),1,0)","v":0},{"$f":"IF(AND(EBP_Matrix!AZ27=1,Risk_Tob!$J$222=1),1,0)","v":0},{"$f":"IF(AND(EBP_Matrix!BA27=1,Risk_RxDrugs!$J$222=1),1,0)","v":0},{"$f":"IF(AND(EBP_Matrix!BB27=1,Risk_Other!$J$222=1),1,0)","v":0},{"$f":"IF(AND(EBP_Matrix!BC27=1,Risk_Alc!$J$265=1),1,0)","v":0},{"$f":"IF(AND(EBP_Matrix!BD27=1,Risk_Marj!$J$230=1),1,0)","v":0},{"$f":"IF(AND(EBP_Matrix!BE27=1,Risk_Tob!$J$223=1),1,0)","v":0},{"$f":"IF(AND(EBP_Matrix!BF27=1,Risk_RxDrugs!$J$223=1),1,0)","v":0},{"$f":"IF(AND(EBP_Matrix!BG27=1,Risk_Other!$J$223=1),1,0)","v":0},{"$f":"IF(AND(EBP_Matrix!BH27=1,Risk_Alc!$J$266=1),1,0)","v":0},{"$f":"IF(AND(EBP_Matrix!BI27=1,Risk_Marj!$J$231=1),1,0)","v":0},{"$f":"IF(AND(EBP_Matrix!BJ27=1,Risk_Tob!$J$224=1),1,0)","v":0},{"$f":"IF(AND(EBP_Matrix!BK27=1,Risk_RxDrugs!$J$224=1),1,0)","v":0},{"$f":"IF(AND(EBP_Matrix!BL27=1,Risk_Other!$J$224=1),1,0)","v":0},{"$f":"IF(AND(EBP_Matrix!BM27=1,Risk_Alc!$J$267=1),1,0)","v":0},{"$f":"IF(AND(EBP_Matrix!BN27=1,Risk_Marj!$J$232=1),1,0)","v":0},{"$f":"IF(AND(EBP_Matrix!BO27=1,Risk_Tob!$J$225=1),1,0)","v":0},{"$f":"IF(AND(EBP_Matrix!BP27=1,Risk_RxDrugs!$J$225=1),1,0)","v":0},{"$f":"IF(AND(EBP_Matrix!BQ27=1,Risk_Other!$J$225=1),1,0)","v":0},{"$f":"IF(AND(EBP_Matrix!BR27=1,Risk_Alc!$J$268=1),1,0)","v":0},{"$f":"IF(AND(EBP_Matrix!BS27=1,Risk_Marj!$J$233=1),1,0)","v":0},{"$f":"IF(AND(EBP_Matrix!BT27=1,Risk_Tob!$J$226=1),1,0)","v":0},{"$f":"IF(AND(EBP_Matrix!BU27=1,Risk_RxDrugs!$J$226=1),1,0)","v":0},{"$f":"IF(AND(EBP_Matrix!BV27=1,Risk_Other!$J$226=1),1,0)","v":0},{"$f":"IF(AND(EBP_Matrix!BW27=1,Risk_Alc!$J$269=1),1,0)","v":0},{"$f":"IF(AND(EBP_Matrix!BX27=1,Risk_Marj!$J$234=1),1,0)","v":0},{"$f":"IF(AND(EBP_Matrix!BY27=1,Risk_Tob!$J$227=1),1,0)","v":0},{"$f":"IF(AND(EBP_Matrix!BZ27=1,Risk_RxDrugs!$J$227=1),1,0)","v":0},{"$f":"IF(AND(EBP_Matrix!CA27=1,Risk_Other!$J$227=1),1,0)","v":0},{"$f":"IF(AND(EBP_Matrix!CB27=1,Risk_Alc!$J$270=1),1,0)","v":0},{"$f":"IF(AND(EBP_Matrix!CC27=1,Risk_Marj!$J$235=1),1,0)","v":0},{"$f":"IF(AND(EBP_Matrix!CD27=1,Risk_Tob!$J$228=1),1,0)","v":0},{"$f":"IF(AND(EBP_Matrix!CE27=1,Risk_RxDrugs!$J$228=1),1,0)","v":0},{"$f":"IF(AND(EBP_Matrix!CF27=1,Risk_Other!$J$228=1),1,0)","v":0},{"$f":"IF(AND(EBP_Matrix!CG27=1,Risk_Alc!$J$271=1),1,0)","v":0},{"$f":"IF(AND(EBP_Matrix!CH27=1,Risk_Marj!$J$236=1),1,0)","v":0},{"$f":"IF(AND(EBP_Matrix!CI27=1,Risk_Tob!$J$229=1),1,0)","v":0},{"$f":"IF(AND(EBP_Matrix!CJ27=1,Risk_RxDrugs!$J$229=1),1,0)","v":0},{"$f":"IF(AND(EBP_Matrix!CK27=1,Risk_Other!$J$229=1),1,0)","v":0},{"$f":"IF(AND(EBP_Matrix!CL27=1,Risk_Alc!$J$272=1),1,0)","v":0},{"$f":"IF(AND(EBP_Matrix!CM27=1,Risk_Marj!$J$237=1),1,0)","v":0},{"$f":"IF(AND(EBP_Matrix!CN27=1,Risk_Tob!$J$230=1),1,0)","v":0},{"$f":"IF(AND(EBP_Matrix!CO27=1,Risk_RxDrugs!$J$230=1),1,0)","v":0},{"$f":"IF(AND(EBP_Matrix!CP27=1,Risk_Other!$J$230=1),1,0)","v":0},0,0,0,0,0,0,0]
[{"$f":"EBP_Matrix!A28","v":"Lions Quest Skills for Adolescence"},null,null,0,null,null,null,{"$f":"IF(AND(EBP_Matrix!T28=1,Prob_Alc!C71>0),1,0)","v":0},{"$f":"IF(AND(EBP_Matrix!T28=1,Prob_Alc!C71>0),1,0)","v":0},{"$f":"IF(AND(EBP_Matrix!T28=1,Prob_Alc!C71>0),1,0)","v":0},{"$f":"IF(AND(EBP_Matrix!T28=1,Prob_Alc!C71>0),1,0)","v":0},{"$f":"IF(AND(EBP_Matrix!T28=1,Prob_Alc!C71>0),1,0)","v":0},{"$f":"IF(AND(EBP_Matrix!T28=1,Prob_Alc!C71>0),1,0)","v":0},{"$f":"IF(AND(EBP_Matrix!T28=1,Prob_Alc!C71>0),1,0)","v":0},{"$f":"IF(AND(EBP_Matrix!T28=1,Prob_Alc!C71>0),1,0)","v":0},{"$f":"IF(AND(EBP_Matrix!U28=1,Prob_Marj!C71>0),1,0)","v":0},{"$f":"IF(AND(EBP_Matrix!U28=1,Prob_Marj!C71>0),1,0)","v":0},{"$f":"IF(AND(EBP_Matrix!U28=1,Prob_Marj!C71>0),1,0)","v":0},{"$f":"IF(AND(EBP_Matrix!U28=1,Prob_Marj!C71>0),1,0)","v":0},{"$f":"IF(AND(EBP_Matrix!V28=1,Prob_Tob!C71>0),1,0)","v":0},{"$f":"IF(AND(EBP_Matrix!V28=1,Prob_Tob!C71>0),1,0)","v":0},{"$f":"IF(AND(EBP_Matrix!V28=1,Prob_Tob!C71>0),1,0)","v":0},{"$f":"IF(AND(EBP_Matrix!V28=1,Prob_Tob!C71>0),1,0)","v":0},{"$f":"IF(AND(EBP_Matrix!V28=1,Prob_Tob!C71>0),1,0)","v":0},{"$f":"IF(AND(EBP_Matrix!V28=1,Prob_Tob!C71>0),1,0)","v":0},{"$f":"IF(AND(EBP_Matrix!W28=1,Prob_RxDrugs!C31>0),1,0)","v":0},{"$f":"IF(AND(EBP_Matrix!W28=1,Prob_RxDrugs!C31>0),1,0)","v":0},null,{"$f":"IF(AND(EBP_Matrix!X28=1,Prob_Other!C21>0),1,0)","v":0},{"$f":"IF(AND(EBP_Matrix!Y28=1,Risk_Alc!$J$259=1),1,0)","v":0},{"$f":"IF(AND(EBP_Matrix!Z28=1,Risk_Marj!$J$224=1),1,0)","v":0},{"$f":"IF(AND(EBP_Matrix!AA28=1,Risk_Tob!$J$217=1),1,0)","v":0},{"$f":"IF(AND(EBP_Matrix!AB28=1,Risk_RxDrugs!$J$217=1),1,0)","v":0},{"$f":"IF(AND(EBP_Matrix!AC28=1,Risk_Other!$J$217=1),1,0)","v":0},{"$f":"IF(AND(EBP_Matrix!AD28=1,Risk_Alc!$J$260=1),1,0)","v":0},{"$f":"IF(AND(EBP_Matrix!AE28=1,Risk_Marj!$J$225=1),1,0)","v":0},{"$f":"IF(AND(EBP_Matrix!AF28=1,Risk_Tob!$J$218=1),1,0)","v":0},{"$f":"IF(AND(EBP_Matrix!AG28=1,Risk_RxDrugs!$J$218=1),1,0)","v":0},{"$f":"IF(AND(EBP_Matrix!AH28=1,Risk_Other!$J$218=1),1,0)","v":0},{"$f":"IF(AND(EBP_Matrix!AI28=1,Risk_Alc!$J$261=1),1,0)","v":0},{"$f":"IF(AND(EBP_Matrix!AJ28=1,Risk_Marj!$J$226=1),1,0)","v":0},{"$f":"IF(AND(EBP_Matrix!AK28=1,Risk_Tob!$J$219=1),1,0)","v":0},{"$f":"IF(AND(EBP_Matrix!AL28=1,Risk_RxDrugs!$J$219=1),1,0)","v":0},{"$f":"IF(AND(EBP_Matrix!AM28=1,Risk_Other!$J$219=1),1,0)","v":0},{"$f":"IF(AND(EBP_Matrix!AN28=1,Risk_Alc!$J$262=1),1,0)","v":0},{"$f":"IF(AND(EBP_Matrix!AO28=1,Risk_Marj!$J$227=1),1,0)","v":0},{"$f":"IF(AND(EBP_Matrix!AP28=1,Risk_Tob!$J$220=1),1,0)","v":0},{"$f":"IF(AND(EBP_Matrix!AQ28=1,Risk_RxDrugs!$J$220=1),1,0)","v":0},{"$f":"IF(AND(EBP_Matrix!AR28=1,Risk_Other!$J$220=1),1,0)","v":0},{"$f":"IF(AND(EBP_Matrix!AS28=1,Risk_Alc!$J$263=1),1,0)","v":0},{"$f":"IF(AND(EBP_Matrix!AT28=1,Risk_Marj!$J$228=1),1,0)","v":0},{"$f":"IF(AND(EBP_Matrix!AU28=1,Risk_Tob!$J$221=1),1,0)","v":0},{"$f":"IF(AND(EBP_Matrix!AV28=1,Risk_RxDrugs!$J$221=1),1,0)","v":0},{"$f":"IF(AND(EBP_Matrix!AW28=1,Risk_Other!$J$221=1),1,0)","v":0},{"$f":"IF(AND(EBP_Matrix!AX28=1,Risk_Alc!$J$264=1),1,0)","v":0},{"$f":"IF(AND(EBP_Matrix!AY28=1,Risk_Marj!$J$229=1),1,0)","v":0},{"$f":"IF(AND(EBP_Matrix!AZ28=1,Risk_Tob!$J$222=1),1,0)","v":0},{"$f":"IF(AND(EBP_Matrix!BA28=1,Risk_RxDrugs!$J$222=1),1,0)","v":0},{"$f":"IF(AND(EBP_Matrix!BB28=1,Risk_Other!$J$222=1),1,0)","v":0},{"$f":"IF(AND(EBP_Matrix!BC28=1,Risk_Alc!$J$265=1),1,0)","v":0},{"$f":"IF(AND(EBP_Matrix!BD28=1,Risk_Marj!$J$230=1),1,0)","v":0},{"$f":"IF(AND(EBP_Matrix!BE28=1,Risk_Tob!$J$223=1),1,0)","v":0},{"$f":"IF(AND(EBP_Matrix!BF28=1,Risk_RxDrugs!$J$223=1),1,0)","v":0},{"$f":"IF(AND(EBP_Matrix!BG28=1,Risk_Other!$J$223=1),1,0)","v":0},{"$f":"IF(AND(EBP_Matrix!BH28=1,Risk_Alc!$J$266=1),1,0)","v":0},{"$f":"IF(AND(EBP_Matrix!BI28=1,Risk_Marj!$J$231=1),1,0)","v":0},{"$f":"IF(AND(EBP_Matrix!BJ28=1,Risk_Tob!$J$224=1),1,0)","v":0},{"$f":"IF(AND(EBP_Matrix!BK28=1,Risk_RxDrugs!$J$224=1),1,0)","v":0},{"$f":"IF(AND(EBP_Matrix!BL28=1,Risk_Other!$J$224=1),1,0)","v":0},{"$f":"IF(AND(EBP_Matrix!BM28=1,Risk_Alc!$J$267=1),1,0)","v":0},{"$f":"IF(AND(EBP_Matrix!BN28=1,Risk_Marj!$J$232=1),1,0)","v":0},{"$f":"IF(AND(EBP_Matrix!BO28=1,Risk_Tob!$J$225=1),1,0)","v":0},{"$f":"IF(AND(EBP_Matrix!BP28=1,Risk_RxDrugs!$J$225=1),1,0)","v":0},{"$f":"IF(AND(EBP_Matrix!BQ28=1,Risk_Other!$J$225=1),1,0)","v":0},{"$f":"IF(AND(EBP_Matrix!BR28=1,Risk_Alc!$J$268=1),1,0)","v":0},{"$f":"IF(AND(EBP_Matrix!BS28=1,Risk_Marj!$J$233=1),1,0)","v":0},{"$f":"IF(AND(EBP_Matrix!BT28=1,Risk_Tob!$J$226=1),1,0)","v":0},{"$f":"IF(AND(EBP_Matrix!BU28=1,Risk_RxDrugs!$J$226=1),1,0)","v":0},{"$f":"IF(AND(EBP_Matrix!BV28=1,Risk_Other!$J$226=1),1,0)","v":0},{"$f":"IF(AND(EBP_Matrix!BW28=1,Risk_Alc!$J$269=1),1,0)","v":0},{"$f":"IF(AND(EBP_Matrix!BX28=1,Risk_Marj!$J$234=1),1,0)","v":0},{"$f":"IF(AND(EBP_Matrix!BY28=1,Risk_Tob!$J$227=1),1,0)","v":0},{"$f":"IF(AND(EBP_Matrix!BZ28=1,Risk_RxDrugs!$J$227=1),1,0)","v":0},{"$f":"IF(AND(EBP_Matrix!CA28=1,Risk_Other!$J$227=1),1,0)","v":0},{"$f":"IF(AND(EBP_Matrix!CB28=1,Risk_Alc!$J$270=1),1,0)","v":0},{"$f":"IF(AND(EBP_Matrix!CC28=1,Risk_Marj!$J$235=1),1,0)","v":0},{"$f":"IF(AND(EBP_Matrix!CD28=1,Risk_Tob!$J$228=1),1,0)","v":0},{"$f":"IF(AND(EBP_Matrix!CE28=1,Risk_RxDrugs!$J$228=1),1,0)","v":0},{"$f":"IF(AND(EBP_Matrix!CF28=1,Risk_Other!$J$228=1),1,0)","v":0},{"$f":"IF(AND(EBP_Matrix!CG28=1,Risk_Alc!$J$271=1),1,0)","v":0},{"$f":"IF(AND(EBP_Matrix!CH28=1,Risk_Marj!$J$236=1),1,0)","v":0},{"$f":"IF(AND(EBP_Matrix!CI28=1,Risk_Tob!$J$229=1),1,0)","v":0},{"$f":"IF(AND(EBP_Matrix!CJ28=1,Risk_RxDrugs!$J$229=1),1,0)","v":0},{"$f":"IF(AND(EBP_Matrix!CK28=1,Risk_Other!$J$229=1),1,0)","v":0},{"$f":"IF(AND(EBP_Matrix!CL28=1,Risk_Alc!$J$272=1),1,0)","v":0},{"$f":"IF(AND(EBP_Matrix!CM28=1,Risk_Marj!$J$237=1),1,0)","v":0},{"$f":"IF(AND(EBP_Matrix!CN28=1,Risk_Tob!$J$230=1),1,0)","v":0},{"$f":"IF(AND(EBP_Matrix!CO28=1,Risk_RxDrugs!$J$230=1),1,0)","v":0},{"$f":"IF(AND(EBP_Matrix!CP28=1,Risk_Other!$J$230=1),1,0)","v":0},0,0,0,0,0,0,0]
[{"$f":"EBP_Matrix!A29","v":"Means Restriction Lock Boxes and Triger Locks (firearms)"},null,null,0,null,null,null,{"$f":"IF(AND(EBP_Matrix!T29=1,Prob_Alc!C71>0),1,0)","v":0},{"$f":"IF(AND(EBP_Matrix!T29=1,Prob_Alc!C71>0),1,0)","v":0},{"$f":"IF(AND(EBP_Matrix!T29=1,Prob_Alc!C71>0),1,0)","v":0},{"$f":"IF(AND(EBP_Matrix!T29=1,Prob_Alc!C71>0),1,0)","v":0},{"$f":"IF(AND(EBP_Matrix!T29=1,Prob_Alc!C71>0),1,0)","v":0},{"$f":"IF(AND(EBP_Matrix!T29=1,Prob_Alc!C71>0),1,0)","v":0},{"$f":"IF(AND(EBP_Matrix!T29=1,Prob_Alc!C71>0),1,0)","v":0},{"$f":"IF(AND(EBP_Matrix!T29=1,Prob_Alc!C71>0),1,0)","v":0},{"$f":"IF(AND(EBP_Matrix!U29=1,Prob_Marj!C71>0),1,0)","v":0},{"$f":"IF(AND(EBP_Matrix!U29=1,Prob_Marj!C71>0),1,0)","v":0},{"$f":"IF(AND(EBP_Matrix!U29=1,Prob_Marj!C71>0),1,0)","v":0},{"$f":"IF(AND(EBP_Matrix!U29=1,Prob_Marj!C71>0),1,0)","v":0},{"$f":"IF(AND(EBP_Matrix!V29=1,Prob_Tob!C71>0),1,0)","v":0},{"$f":"IF(AND(EBP_Matrix!V29=1,Prob_Tob!C71>0),1,0)","v":0},{"$f":"IF(AND(EBP_Matrix!V29=1,Prob_Tob!C71>0),1,0)","v":0},{"$f":"IF(AND(EBP_Matrix!V29=1,Prob_Tob!C71>0),1,0)","v":0},{"$f":"IF(AND(EBP_Matrix!V29=1,Prob_Tob!C71>0),1,0)","v":0},{"$f":"IF(AND(EBP_Matrix!V29=1,Prob_Tob!C71>0),1,0)","v":0},{"$f":"IF(AND(EBP_Matrix!W29=1,Prob_RxDrugs!C31>0),1,0)","v":0},{"$f":"IF(AND(EBP_Matrix!W29=1,Prob_RxDrugs!C31>0),1,0)","v":0},null,{"$f":"IF(AND(EBP_Matrix!X29=1,Prob_Other!C21>0),1,0)","v":0},{"$f":"IF(AND(EBP_Matrix!Y29=1,Risk_Alc!$J$259=1),1,0)","v":0},{"$f":"IF(AND(EBP_Matrix!Z29=1,Risk_Marj!$J$224=1),1,0)","v":0},{"$f":"IF(AND(EBP_Matrix!AA29=1,Risk_Tob!$J$217=1),1,0)","v":0},{"$f":"IF(AND(EBP_Matrix!AB29=1,Risk_RxDrugs!$J$217=1),1,0)","v":0},{"$f":"IF(AND(EBP_Matrix!AC29=1,Risk_Other!$J$217=1),1,0)","v":0},{"$f":"IF(AND(EBP_Matrix!AD29=1,Risk_Alc!$J$260=1),1,0)","v":0},{"$f":"IF(AND(EBP_Matrix!AE29=1,Risk_Marj!$J$225=1),1,0)","v":0},{"$f":"IF(AND(EBP_Matrix!AF29=1,Risk_Tob!$J$218=1),1,0)","v":0},{"$f":"IF(AND(EBP_Matrix!AG29=1,Risk_RxDrugs!$J$218=1),1,0)","v":0},{"$f":"IF(AND(EBP_Matrix!AH29=1,Risk_Other!$J$218=1),1,0)","v":0},{"$f":"IF(AND(EBP_Matrix!AI29=1,Risk_Alc!$J$261=1),1,0)","v":0},{"$f":"IF(AND(EBP_Matrix!AJ29=1,Risk_Marj!$J$226=1),1,0)","v":0},{"$f":"IF(AND(EBP_Matrix!AK29=1,Risk_Tob!$J$219=1),1,0)","v":0},{"$f":"IF(AND(EBP_Matrix!AL29=1,Risk_RxDrugs!$J$219=1),1,0)","v":0},{"$f":"IF(AND(EBP_Matrix!AM29=1,Risk_Other!$J$219=1),1,0)","v":0},{"$f":"IF(AND(EBP_Matrix!AN29=1,Risk_Alc!$J$262=1),1,0)","v":0},{"$f":"IF(AND(EBP_Matrix!AO29=1,Risk_Marj!$J$227=1),1,0)","v":0},{"$f":"IF(AND(EBP_Matrix!AP29=1,Risk_Tob!$J$220=1),1,0)","v":0},{"$f":"IF(AND(EBP_Matrix!AQ29=1,Risk_RxDrugs!$J$220=1),1,0)","v":0},{"$f":"IF(AND(EBP_Matrix!AR29=1,Risk_Other!$J$220=1),1,0)","v":0},{"$f":"IF(AND(EBP_Matrix!AS29=1,Risk_Alc!$J$263=1),1,0)","v":0},{"$f":"IF(AND(EBP_Matrix!AT29=1,Risk_Marj!$J$228=1),1,0)","v":0},{"$f":"IF(AND(EBP_Matrix!AU29=1,Risk_Tob!$J$221=1),1,0)","v":0},{"$f":"IF(AND(EBP_Matrix!AV29=1,Risk_RxDrugs!$J$221=1),1,0)","v":0},{"$f":"IF(AND(EBP_Matrix!AW29=1,Risk_Other!$J$221=1),1,0)","v":0},{"$f":"IF(AND(EBP_Matrix!AX29=1,Risk_Alc!$J$264=1),1,0)","v":0},{"$f":"IF(AND(EBP_Matrix!AY29=1,Risk_Marj!$J$229=1),1,0)","v":0},{"$f":"IF(AND(EBP_Matrix!AZ29=1,Risk_Tob!$J$222=1),1,0)","v":0},{"$f":"IF(AND(EBP_Matrix!BA29=1,Risk_RxDrugs!$J$222=1),1,0)","v":0},{"$f":"IF(AND(EBP_Matrix!BB29=1,Risk_Other!$J$222=1),1,0)","v":0},{"$f":"IF(AND(EBP_Matrix!BC29=1,Risk_Alc!$J$265=1),1,0)","v":0},{"$f":"IF(AND(EBP_Matrix!BD29=1,Risk_Marj!$J$230=1),1,0)","v":0},{"$f":"IF(AND(EBP_Matrix!BE29=1,Risk_Tob!$J$223=1),1,0)","v":0},{"$f":"IF(AND(EBP_Matrix!BF29=1,Risk_RxDrugs!$J$223=1),1,0)","v":0},{"$f":"IF(AND(EBP_Matrix!BG29=1,Risk_Other!$J$223=1),1,0)","v":0},{"$f":"IF(AND(EBP_Matrix!BH29=1,Risk_Alc!$J$266=1),1,0)","v":0},{"$f":"IF(AND(EBP_Matrix!BI29=1,Risk_Marj!$J$231=1),1,0)","v":0},{"$f":"IF(AND(EBP_Matrix!BJ29=1,Risk_Tob!$J$224=1),1,0)","v":0},{"$f":"IF(AND(EBP_Matrix!BK29=1,Risk_RxDrugs!$J$224=1),1,0)","v":0},{"$f":"IF(AND(EBP_Matrix!BL29=1,Risk_Other!$J$224=1),1,0)","v":0},{"$f":"IF(AND(EBP_Matrix!BM29=1,Risk_Alc!$J$267=1),1,0)","v":0},{"$f":"IF(AND(EBP_Matrix!BN29=1,Risk_Marj!$J$232=1),1,0)","v":0},{"$f":"IF(AND(EBP_Matrix!BO29=1,Risk_Tob!$J$225=1),1,0)","v":0},{"$f":"IF(AND(EBP_Matrix!BP29=1,Risk_RxDrugs!$J$225=1),1,0)","v":0},{"$f":"IF(AND(EBP_Matrix!BQ29=1,Risk_Other!$J$225=1),1,0)","v":0},{"$f":"IF(AND(EBP_Matrix!BR29=1,Risk_Alc!$J$268=1),1,0)","v":0},{"$f":"IF(AND(EBP_Matrix!BS29=1,Risk_Marj!$J$233=1),1,0)","v":0},{"$f":"IF(AND(EBP_Matrix!BT29=1,Risk_Tob!$J$226=1),1,0)","v":0},{"$f":"IF(AND(EBP_Matrix!BU29=1,Risk_RxDrugs!$J$226=1),1,0)","v":0},{"$f":"IF(AND(EBP_Matrix!BV29=1,Risk_Other!$J$226=1),1,0)","v":0},{"$f":"IF(AND(EBP_Matrix!BW29=1,Risk_Alc!$J$269=1),1,0)","v":0},{"$f":"IF(AND(EBP_Matrix!BX29=1,Risk_Marj!$J$234=1),1,0)","v":0},{"$f":"IF(AND(EBP_Matrix!BY29=1,Risk_Tob!$J$227=1),1,0)","v":0},{"$f":"IF(AND(EBP_Matrix!BZ29=1,Risk_RxDrugs!$J$227=1),1,0)","v":0},{"$f":"IF(AND(EBP_Matrix!CA29=1,Risk_Other!$J$227=1),1,0)","v":0},{"$f":"IF(AND(EBP_Matrix!CB29=1,Risk_Alc!$J$270=1),1,0)","v":0},{"$f":"IF(AND(EBP_Matrix!CC29=1,Risk_Marj!$J$235=1),1,0)","v":0},{"$f":"IF(AND(EBP_Matrix!CD29=1,Risk_Tob!$J$228=1),1,0)","v":0},{"$f":"IF(AND(EBP_Matrix!CE29=1,Risk_RxDrugs!$J$228=1),1,0)","v":0},{"$f":"IF(AND(EBP_Matrix!CF29=1,Risk_Other!$J$228=1),1,0)","v":0},{"$f":"IF(AND(EBP_Matrix!CG29=1,Risk_Alc!$J$271=1),1,0)","v":0},{"$f":"IF(AND(EBP_Matrix!CH29=1,Risk_Marj!$J$236=1),1,0)","v":0},{"$f":"IF(AND(EBP_Matrix!CI29=1,Risk_Tob!$J$229=1),1,0)","v":0},{"$f":"IF(AND(EBP_Matrix!CJ29=1,Risk_RxDrugs!$J$229=1),1,0)","v":0},{"$f":"IF(AND(EBP_Matrix!CK29=1,Risk_Other!$J$229=1),1,0)","v":0},{"$f":"IF(AND(EBP_Matrix!CL29=1,Risk_Alc!$J$272=1),1,0)","v":0},{"$f":"IF(AND(EBP_Matrix!CM29=1,Risk_Marj!$J$237=1),1,0)","v":0},{"$f":"IF(AND(EBP_Matrix!CN29=1,Risk_Tob!$J$230=1),1,0)","v":0},{"$f":"IF(AND(EBP_Matrix!CO29=1,Risk_RxDrugs!$J$230=1),1,0)","v":0},{"$f":"IF(AND(EBP_Matrix!CP29=1,Risk_Other!$J$230=1),1,0)","v":0},0,0,0,0,0,0,0]
[{"$f":"EBP_Matrix!A30","v":"Media Campaign"},null,null,0,null,null,null,{"$f":"IF(AND(EBP_Matrix!T30=1,Prob_Alc!C71>0),1,0)","v":0},{"$f":"IF(AND(EBP_Matrix!T30=1,Prob_Alc!C71>0),1,0)","v":0},{"$f":"IF(AND(EBP_Matrix!T30=1,Prob_Alc!C71>0),1,0)","v":0},{"$f":"IF(AND(EBP_Matrix!T30=1,Prob_Alc!C71>0),1,0)","v":0},{"$f":"IF(AND(EBP_Matrix!T30=1,Prob_Alc!C71>0),1,0)","v":0},{"$f":"IF(AND(EBP_Matrix!T30=1,Prob_Alc!C71>0),1,0)","v":0},{"$f":"IF(AND(EBP_Matrix!T30=1,Prob_Alc!C71>0),1,0)","v":0},{"$f":"IF(AND(EBP_Matrix!T30=1,Prob_Alc!C71>0),1,0)","v":0},{"$f":"IF(AND(EBP_Matrix!U30=1,Prob_Marj!C71>0),1,0)","v":0},{"$f":"IF(AND(EBP_Matrix!U30=1,Prob_Marj!C71>0),1,0)","v":0},{"$f":"IF(AND(EBP_Matrix!U30=1,Prob_Marj!C71>0),1,0)","v":0},{"$f":"IF(AND(EBP_Matrix!U30=1,Prob_Marj!C71>0),1,0)","v":0},{"$f":"IF(AND(EBP_Matrix!V30=1,Prob_Tob!C71>0),1,0)","v":0},{"$f":"IF(AND(EBP_Matrix!V30=1,Prob_Tob!C71>0),1,0)","v":0},{"$f":"IF(AND(EBP_Matrix!V30=1,Prob_Tob!C71>0),1,0)","v":0},{"$f":"IF(AND(EBP_Matrix!V30=1,Prob_Tob!C71>0),1,0)","v":0},{"$f":"IF(AND(EBP_Matrix!V30=1,Prob_Tob!C71>0),1,0)","v":0},{"$f":"IF(AND(EBP_Matrix!V30=1,Prob_Tob!C71>0),1,0)","v":0},{"$f":"IF(AND(EBP_Matrix!W30=1,Prob_RxDrugs!C31>0),1,0)","v":0},{"$f":"IF(AND(EBP_Matrix!W30=1,Prob_RxDrugs!C31>0),1,0)","v":0},null,{"$f":"IF(AND(EBP_Matrix!X30=1,Prob_Other!C21>0),1,0)","v":0},{"$f":"IF(AND(EBP_Matrix!Y30=1,Risk_Alc!$J$259=1),1,0)","v":0},{"$f":"IF(AND(EBP_Matrix!Z30=1,Risk_Marj!$J$224=1),1,0)","v":0},{"$f":"IF(AND(EBP_Matrix!AA30=1,Risk_Tob!$J$217=1),1,0)","v":0},{"$f":"IF(AND(EBP_Matrix!AB30=1,Risk_RxDrugs!$J$217=1),1,0)","v":0},{"$f":"IF(AND(EBP_Matrix!AC30=1,Risk_Other!$J$217=1),1,0)","v":0},{"$f":"IF(AND(EBP_Matrix!AD30=1,Risk_Alc!$J$260=1),1,0)","v":0},{"$f":"IF(AND(EBP_Matrix!AE30=1,Risk_Marj!$J$225=1),1,0)","v":0},{"$f":"IF(AND(EBP_Matrix!AF30=1,Risk_Tob!$J$218=1),1,0)","v":0},{"$f":"IF(AND(EBP_Matrix!AG30=1,Risk_RxDrugs!$J$218=1),1,0)","v":0},{"$f":"IF(AND(EBP_Matrix!AH30=1,Risk_Other!$J$218=1),1,0)","v":0},{"$f":"IF(AND(EBP_Matrix!AI30=1,Risk_Alc!$J$261=1),1,0)","v":0},{"$f":"IF(AND(EBP_Matrix!AJ30=1,Risk_Marj!$J$226=1),1,0)","v":0},{"$f":"IF(AND(EBP_Matrix!AK30=1,Risk_Tob!$J$219=1),1,0)","v":0},{"$f":"IF(AND(EBP_Matrix!AL30=1,Risk_RxDrugs!$J$219=1),1,0)","v":0},{"$f":"IF(AND(EBP_Matrix!AM30=1,Risk_Other!$J$219=1),1,0)","v":0},{"$f":"IF(AND(EBP_Matrix!AN30=1,Risk_Alc!$J$262=1),1,0)","v":0},{"$f":"IF(AND(EBP_Matrix!AO30=1,Risk_Marj!$J$227=1),1,0)","v":0},{"$f":"IF(AND(EBP_Matrix!AP30=1,Risk_Tob!$J$220=1),1,0)","v":0},{"$f":"IF(AND(EBP_Matrix!AQ30=1,Risk_RxDrugs!$J$220=1),1,0)","v":0},{"$f":"IF(AND(EBP_Matrix!AR30=1,Risk_Other!$J$220=1),1,0)","v":0},{"$f":"IF(AND(EBP_Matrix!AS30=1,Risk_Alc!$J$263=1),1,0)","v":0},{"$f":"IF(AND(EBP_Matrix!AT30=1,Risk_Marj!$J$228=1),1,0)","v":0},{"$f":"IF(AND(EBP_Matrix!AU30=1,Risk_Tob!$J$221=1),1,0)","v":0},{"$f":"IF(AND(EBP_Matrix!AV30=1,Risk_RxDrugs!$J$221=1),1,0)","v":0},{"$f":"IF(AND(EBP_Matrix!AW30=1,Risk_Other!$J$221=1),1,0)","v":0},{"$f":"IF(AND(EBP_Matrix!AX30=1,Risk_Alc!$J$264=1),1,0)","v":0},{"$f":"IF(AND(EBP_Matrix!AY30=1,Risk_Marj!$J$229=1),1,0)","v":0},{"$f":"IF(AND(EBP_Matrix!AZ30=1,Risk_Tob!$J$222=1),1,0)","v":0},{"$f":"IF(AND(EBP_Matrix!BA30=1,Risk_RxDrugs!$J$222=1),1,0)","v":0},{"$f":"IF(AND(EBP_Matrix!BB30=1,Risk_Other!$J$222=1),1,0)","v":0},{"$f":"IF(AND(EBP_Matrix!BC30=1,Risk_Alc!$J$265=1),1,0)","v":0},{"$f":"IF(AND(EBP_Matrix!BD30=1,Risk_Marj!$J$230=1),1,0)","v":0},{"$f":"IF(AND(EBP_Matrix!BE30=1,Risk_Tob!$J$223=1),1,0)","v":0},{"$f":"IF(AND(EBP_Matrix!BF30=1,Risk_RxDrugs!$J$223=1),1,0)","v":0},{"$f":"IF(AND(EBP_Matrix!BG30=1,Risk_Other!$J$223=1),1,0)","v":0},{"$f":"IF(AND(EBP_Matrix!BH30=1,Risk_Alc!$J$266=1),1,0)","v":0},{"$f":"IF(AND(EBP_Matrix!BI30=1,Risk_Marj!$J$231=1),1,0)","v":0},{"$f":"IF(AND(EBP_Matrix!BJ30=1,Risk_Tob!$J$224=1),1,0)","v":0},{"$f":"IF(AND(EBP_Matrix!BK30=1,Risk_RxDrugs!$J$224=1),1,0)","v":0},{"$f":"IF(AND(EBP_Matrix!BL30=1,Risk_Other!$J$224=1),1,0)","v":0},{"$f":"IF(AND(EBP_Matrix!BM30=1,Risk_Alc!$J$267=1),1,0)","v":0},{"$f":"IF(AND(EBP_Matrix!BN30=1,Risk_Marj!$J$232=1),1,0)","v":0},{"$f":"IF(AND(EBP_Matrix!BO30=1,Risk_Tob!$J$225=1),1,0)","v":0},{"$f":"IF(AND(EBP_Matrix!BP30=1,Risk_RxDrugs!$J$225=1),1,0)","v":0},{"$f":"IF(AND(EBP_Matrix!BQ30=1,Risk_Other!$J$225=1),1,0)","v":0},{"$f":"IF(AND(EBP_Matrix!BR30=1,Risk_Alc!$J$268=1),1,0)","v":0},{"$f":"IF(AND(EBP_Matrix!BS30=1,Risk_Marj!$J$233=1),1,0)","v":0},{"$f":"IF(AND(EBP_Matrix!BT30=1,Risk_Tob!$J$226=1),1,0)","v":0},{"$f":"IF(AND(EBP_Matrix!BU30=1,Risk_RxDrugs!$J$226=1),1,0)","v":0},{"$f":"IF(AND(EBP_Matrix!BV30=1,Risk_Other!$J$226=1),1,0)","v":0},{"$f":"IF(AND(EBP_Matrix!BW30=1,Risk_Alc!$J$269=1),1,0)","v":0},{"$f":"IF(AND(EBP_Matrix!BX30=1,Risk_Marj!$J$234=1),1,0)","v":0},{"$f":"IF(AND(EBP_Matrix!BY30=1,Risk_Tob!$J$227=1),1,0)","v":0},{"$f":"IF(AND(EBP_Matrix!BZ30=1,Risk_RxDrugs!$J$227=1),1,0)","v":0},{"$f":"IF(AND(EBP_Matrix!CA30=1,Risk_Other!$J$227=1),1,0)","v":0},{"$f":"IF(AND(EBP_Matrix!CB30=1,Risk_Alc!$J$270=1),1,0)","v":0},{"$f":"IF(AND(EBP_Matrix!CC30=1,Risk_Marj!$J$235=1),1,0)","v":0},{"$f":"IF(AND(EBP_Matrix!CD30=1,Risk_Tob!$J$228=1),1,0)","v":0},{"$f":"IF(AND(EBP_Matrix!CE30=1,Risk_RxDrugs!$J$228=1),1,0)","v":0},{"$f":"IF(AND(EBP_Matrix!CF30=1,Risk_Other!$J$228=1),1,0)","v":0},{"$f":"IF(AND(EBP_Matrix!CG30=1,Risk_Alc!$J$271=1),1,0)","v":0},{"$f":"IF(AND(EBP_Matrix!CH30=1,Risk_Marj!$J$236=1),1,0)","v":0},{"$f":"IF(AND(EBP_Matrix!CI30=1,Risk_Tob!$J$229=1),1,0)","v":0},{"$f":"IF(AND(EBP_Matrix!CJ30=1,Risk_RxDrugs!$J$229=1),1,0)","v":0},{"$f":"IF(AND(EBP_Matrix!CK30=1,Risk_Other!$J$229=1),1,0)","v":0},{"$f":"IF(AND(EBP_Matrix!CL30=1,Risk_Alc!$J$272=1),1,0)","v":0},{"$f":"IF(AND(EBP_Matrix!CM30=1,Risk_Marj!$J$237=1),1,0)","v":0},{"$f":"IF(AND(EBP_Matrix!CN30=1,Risk_Tob!$J$230=1),1,0)","v":0},{"$f":"IF(AND(EBP_Matrix!CO30=1,Risk_RxDrugs!$J$230=1),1,0)","v":0},{"$f":"IF(AND(EBP_Matrix!CP30=1,Risk_Other!$J$230=1),1,0)","v":0},0,0,0,0,0,0,0]
[{"$f":"EBP_Matrix!A31","v":"MyStudentBody.com"},null,null,0,null,null,null,{"$f":"IF(AND(EBP_Matrix!T31=1,Prob_Alc!C71>0),1,0)","v":0},{"$f":"IF(AND(EBP_Matrix!T31=1,Prob_Alc!C71>0),1,0)","v":0},{"$f":"IF(AND(EBP_Matrix!T31=1,Prob_Alc!C71>0),1,0)","v":0},{"$f":"IF(AND(EBP_Matrix!T31=1,Prob_Alc!C71>0),1,0)","v":0},{"$f":"IF(AND(EBP_Matrix!T31=1,Prob_Alc!C71>0),1,0)","v":0},{"$f":"IF(AND(EBP_Matrix!T31=1,Prob_Alc!C71>0),1,0)","v":0},{"$f":"IF(AND(EBP_Matrix!T31=1,Prob_Alc!C71>0),1,0)","v":0},{"$f":"IF(AND(EBP_Matrix!T31=1,Prob_Alc!C71>0),1,0)","v":0},{"$f":"IF(AND(EBP_Matrix!U31=1,Prob_Marj!C71>0),1,0)","v":0},{"$f":"IF(AND(EBP_Matrix!U31=1,Prob_Marj!C71>0),1,0)","v":0},{"$f":"IF(AND(EBP_Matrix!U31=1,Prob_Marj!C71>0),1,0)","v":0},{"$f":"IF(AND(EBP_Matrix!U31=1,Prob_Marj!C71>0),1,0)","v":0},{"$f":"IF(AND(EBP_Matrix!V31=1,Prob_Tob!C71>0),1,0)","v":0},{"$f":"IF(AND(EBP_Matrix!V31=1,Prob_Tob!C71>0),1,0)","v":0},{"$f":"IF(AND(EBP_Matrix!V31=1,Prob_Tob!C71>0),1,0)","v":0},{"$f":"IF(AND(EBP_Matrix!V31=1,Prob_Tob!C71>0),1,0)","v":0},{"$f":"IF(AND(EBP_Matrix!V31=1,Prob_Tob!C71>0),1,0)","v":0},{"$f":"IF(AND(EBP_Matrix!V31=1,Prob_Tob!C71>0),1,0)","v":0},{"$f":"IF(AND(EBP_Matrix!W31=1,Prob_RxDrugs!C31>0),1,0)","v":0},{"$f":"IF(AND(EBP_Matrix!W31=1,Prob_RxDrugs!C31>0),1,0)","v":0},null,{"$f":"IF(AND(EBP_Matrix!X31=1,Prob_Other!C21>0),1,0)","v":0},{"$f":"IF(AND(EBP_Matrix!Y31=1,Risk_Alc!$J$259=1),1,0)","v":0},{"$f":"IF(AND(EBP_Matrix!Z31=1,Risk_Marj!$J$224=1),1,0)","v":0},{"$f":"IF(AND(EBP_Matrix!AA31=1,Risk_Tob!$J$217=1),1,0)","v":0},{"$f":"IF(AND(EBP_Matrix!AB31=1,Risk_RxDrugs!$J$217=1),1,0)","v":0},{"$f":"IF(AND(EBP_Matrix!AC31=1,Risk_Other!$J$217=1),1,0)","v":0},{"$f":"IF(AND(EBP_Matrix!AD31=1,Risk_Alc!$J$260=1),1,0)","v":0},{"$f":"IF(AND(EBP_Matrix!AE31=1,Risk_Marj!$J$225=1),1,0)","v":0},{"$f":"IF(AND(EBP_Matrix!AF31=1,Risk_Tob!$J$218=1),1,0)","v":0},{"$f":"IF(AND(EBP_Matrix!AG31=1,Risk_RxDrugs!$J$218=1),1,0)","v":0},{"$f":"IF(AND(EBP_Matrix!AH31=1,Risk_Other!$J$218=1),1,0)","v":0},{"$f":"IF(AND(EBP_Matrix!AI31=1,Risk_Alc!$J$261=1),1,0)","v":0},{"$f":"IF(AND(EBP_Matrix!AJ31=1,Risk_Marj!$J$226=1),1,0)","v":0},{"$f":"IF(AND(EBP_Matrix!AK31=1,Risk_Tob!$J$219=1),1,0)","v":0},{"$f":"IF(AND(EBP_Matrix!AL31=1,Risk_RxDrugs!$J$219=1),1,0)","v":0},{"$f":"IF(AND(EBP_Matrix!AM31=1,Risk_Other!$J$219=1),1,0)","v":0},{"$f":"IF(AND(EBP_Matrix!AN31=1,Risk_Alc!$J$262=1),1,0)","v":0},{"$f":"IF(AND(EBP_Matrix!AO31=1,Risk_Marj!$J$227=1),1,0)","v":0},{"$f":"IF(AND(EBP_Matrix!AP31=1,Risk_Tob!$J$220=1),1,0)","v":0},{"$f":"IF(AND(EBP_Matrix!AQ31=1,Risk_RxDrugs!$J$220=1),1,0)","v":0},{"$f":"IF(AND(EBP_Matrix!AR31=1,Risk_Other!$J$220=1),1,0)","v":0},{"$f":"IF(AND(EBP_Matrix!AS31=1,Risk_Alc!$J$263=1),1,0)","v":0},{"$f":"IF(AND(EBP_Matrix!AT31=1,Risk_Marj!$J$228=1),1,0)","v":0},{"$f":"IF(AND(EBP_Matrix!AU31=1,Risk_Tob!$J$221=1),1,0)","v":0},{"$f":"IF(AND(EBP_Matrix!AV31=1,Risk_RxDrugs!$J$221=1),1,0)","v":0},{"$f":"IF(AND(EBP_Matrix!AW31=1,Risk_Other!$J$221=1),1,0)","v":0},{"$f":"IF(AND(EBP_Matrix!AX31=1,Risk_Alc!$J$264=1),1,0)","v":0},{"$f":"IF(AND(EBP_Matrix!AY31=1,Risk_Marj!$J$229=1),1,0)","v":0},{"$f":"IF(AND(EBP_Matrix!AZ31=1,Risk_Tob!$J$222=1),1,0)","v":0},{"$f":"IF(AND(EBP_Matrix!BA31=1,Risk_RxDrugs!$J$222=1),1,0)","v":0},{"$f":"IF(AND(EBP_Matrix!BB31=1,Risk_Other!$J$222=1),1,0)","v":0},{"$f":"IF(AND(EBP_Matrix!BC31=1,Risk_Alc!$J$265=1),1,0)","v":0},{"$f":"IF(AND(EBP_Matrix!BD31=1,Risk_Marj!$J$230=1),1,0)","v":0},{"$f":"IF(AND(EBP_Matrix!BE31=1,Risk_Tob!$J$223=1),1,0)","v":0},{"$f":"IF(AND(EBP_Matrix!BF31=1,Risk_RxDrugs!$J$223=1),1,0)","v":0},{"$f":"IF(AND(EBP_Matrix!BG31=1,Risk_Other!$J$223=1),1,0)","v":0},{"$f":"IF(AND(EBP_Matrix!BH31=1,Risk_Alc!$J$266=1),1,0)","v":0},{"$f":"IF(AND(EBP_Matrix!BI31=1,Risk_Marj!$J$231=1),1,0)","v":0},{"$f":"IF(AND(EBP_Matrix!BJ31=1,Risk_Tob!$J$224=1),1,0)","v":0},{"$f":"IF(AND(EBP_Matrix!BK31=1,Risk_RxDrugs!$J$224=1),1,0)","v":0},{"$f":"IF(AND(EBP_Matrix!BL31=1,Risk_Other!$J$224=1),1,0)","v":0},{"$f":"IF(AND(EBP_Matrix!BM31=1,Risk_Alc!$J$267=1),1,0)","v":0},{"$f":"IF(AND(EBP_Matrix!BN31=1,Risk_Marj!$J$232=1),1,0)","v":0},{"$f":"IF(AND(EBP_Matrix!BO31=1,Risk_Tob!$J$225=1),1,0)","v":0},{"$f":"IF(AND(EBP_Matrix!BP31=1,Risk_RxDrugs!$J$225=1),1,0)","v":0},{"$f":"IF(AND(EBP_Matrix!BQ31=1,Risk_Other!$J$225=1),1,0)","v":0},{"$f":"IF(AND(EBP_Matrix!BR31=1,Risk_Alc!$J$268=1),1,0)","v":0},{"$f":"IF(AND(EBP_Matrix!BS31=1,Risk_Marj!$J$233=1),1,0)","v":0},{"$f":"IF(AND(EBP_Matrix!BT31=1,Risk_Tob!$J$226=1),1,0)","v":0},{"$f":"IF(AND(EBP_Matrix!BU31=1,Risk_RxDrugs!$J$226=1),1,0)","v":0},{"$f":"IF(AND(EBP_Matrix!BV31=1,Risk_Other!$J$226=1),1,0)","v":0},{"$f":"IF(AND(EBP_Matrix!BW31=1,Risk_Alc!$J$269=1),1,0)","v":0},{"$f":"IF(AND(EBP_Matrix!BX31=1,Risk_Marj!$J$234=1),1,0)","v":0},{"$f":"IF(AND(EBP_Matrix!BY31=1,Risk_Tob!$J$227=1),1,0)","v":0},{"$f":"IF(AND(EBP_Matrix!BZ31=1,Risk_RxDrugs!$J$227=1),1,0)","v":0},{"$f":"IF(AND(EBP_Matrix!CA31=1,Risk_Other!$J$227=1),1,0)","v":0},{"$f":"IF(AND(EBP_Matrix!CB31=1,Risk_Alc!$J$270=1),1,0)","v":0},{"$f":"IF(AND(EBP_Matrix!CC31=1,Risk_Marj!$J$235=1),1,0)","v":0},{"$f":"IF(AND(EBP_Matrix!CD31=1,Risk_Tob!$J$228=1),1,0)","v":0},{"$f":"IF(AND(EBP_Matrix!CE31=1,Risk_RxDrugs!$J$228=1),1,0)","v":0},{"$f":"IF(AND(EBP_Matrix!CF31=1,Risk_Other!$J$228=1),1,0)","v":0},{"$f":"IF(AND(EBP_Matrix!CG31=1,Risk_Alc!$J$271=1),1,0)","v":0},{"$f":"IF(AND(EBP_Matrix!CH31=1,Risk_Marj!$J$236=1),1,0)","v":0},{"$f":"IF(AND(EBP_Matrix!CI31=1,Risk_Tob!$J$229=1),1,0)","v":0},{"$f":"IF(AND(EBP_Matrix!CJ31=1,Risk_RxDrugs!$J$229=1),1,0)","v":0},{"$f":"IF(AND(EBP_Matrix!CK31=1,Risk_Other!$J$229=1),1,0)","v":0},{"$f":"IF(AND(EBP_Matrix!CL31=1,Risk_Alc!$J$272=1),1,0)","v":0},{"$f":"IF(AND(EBP_Matrix!CM31=1,Risk_Marj!$J$237=1),1,0)","v":0},{"$f":"IF(AND(EBP_Matrix!CN31=1,Risk_Tob!$J$230=1),1,0)","v":0},{"$f":"IF(AND(EBP_Matrix!CO31=1,Risk_RxDrugs!$J$230=1),1,0)","v":0},{"$f":"IF(AND(EBP_Matrix!CP31=1,Risk_Other!$J$230=1),1,0)","v":0},0,0,0,0,0,0,0]
[{"$f":"EBP_Matrix!A32","v":"Naloxone Distribution"},null,null,0,null,null,null,{"$f":"IF(AND(EBP_Matrix!T32=1,Prob_Alc!C71>0),1,0)","v":0},{"$f":"IF(AND(EBP_Matrix!T32=1,Prob_Alc!C71>0),1,0)","v":0},{"$f":"IF(AND(EBP_Matrix!T32=1,Prob_Alc!C71>0),1,0)","v":0},{"$f":"IF(AND(EBP_Matrix!T32=1,Prob_Alc!C71>0),1,0)","v":0},{"$f":"IF(AND(EBP_Matrix!T32=1,Prob_Alc!C71>0),1,0)","v":0},{"$f":"IF(AND(EBP_Matrix!T32=1,Prob_Alc!C71>0),1,0)","v":0},{"$f":"IF(AND(EBP_Matrix!T32=1,Prob_Alc!C71>0),1,0)","v":0},{"$f":"IF(AND(EBP_Matrix!T32=1,Prob_Alc!C71>0),1,0)","v":0},{"$f":"IF(AND(EBP_Matrix!U32=1,Prob_Marj!C71>0),1,0)","v":0},{"$f":"IF(AND(EBP_Matrix!U32=1,Prob_Marj!C71>0),1,0)","v":0},{"$f":"IF(AND(EBP_Matrix!U32=1,Prob_Marj!C71>0),1,0)","v":0},{"$f":"IF(AND(EBP_Matrix!U32=1,Prob_Marj!C71>0),1,0)","v":0},{"$f":"IF(AND(EBP_Matrix!V32=1,Prob_Tob!C71>0),1,0)","v":0},{"$f":"IF(AND(EBP_Matrix!V32=1,Prob_Tob!C71>0),1,0)","v":0},{"$f":"IF(AND(EBP_Matrix!V32=1,Prob_Tob!C71>0),1,0)","v":0},{"$f":"IF(AND(EBP_Matrix!V32=1,Prob_Tob!C71>0),1,0)","v":0},{"$f":"IF(AND(EBP_Matrix!V32=1,Prob_Tob!C71>0),1,0)","v":0},{"$f":"IF(AND(EBP_Matrix!V32=1,Prob_Tob!C71>0),1,0)","v":0},{"$f":"IF(AND(EBP_Matrix!W32=1,Prob_RxDrugs!C31>0),1,0)","v":0},{"$f":"IF(AND(EBP_Matrix!W32=1,Prob_RxDrugs!C31>0),1,0)","v":0},null,{"$f":"IF(AND(EBP_Matrix!X32=1,Prob_Other!C21>0),1,0)","v":0},{"$f":"IF(AND(EBP_Matrix!Y32=1,Risk_Alc!$J$259=1),1,0)","v":0},{"$f":"IF(AND(EBP_Matrix!Z32=1,Risk_Marj!$J$224=1),1,0)","v":0},{"$f":"IF(AND(EBP_Matrix!AA32=1,Risk_Tob!$J$217=1),1,0)","v":0},{"$f":"IF(AND(EBP_Matrix!AB32=1,Risk_RxDrugs!$J$217=1),1,0)","v":0},{"$f":"IF(AND(EBP_Matrix!AC32=1,Risk_Other!$J$217=1),1,0)","v":0},{"$f":"IF(AND(EBP_Matrix!AD32=1,Risk_Alc!$J$260=1),1,0)","v":0},{"$f":"IF(AND(EBP_Matrix!AE32=1,Risk_Marj!$J$225=1),1,0)","v":0},{"$f":"IF(AND(EBP_Matrix!AF32=1,Risk_Tob!$J$218=1),1,0)","v":0},{"$f":"IF(AND(EBP_Matrix!AG32=1,Risk_RxDrugs!$J$218=1),1,0)","v":0},{"$f":"IF(AND(EBP_Matrix!AH32=1,Risk_Other!$J$218=1),1,0)","v":0},{"$f":"IF(AND(EBP_Matrix!AI32=1,Risk_Alc!$J$261=1),1,0)","v":0},{"$f":"IF(AND(EBP_Matrix!AJ32=1,Risk_Marj!$J$226=1),1,0)","v":0},{"$f":"IF(AND(EBP_Matrix!AK32=1,Risk_Tob!$J$219=1),1,0)","v":0},{"$f":"IF(AND(EBP_Matrix!AL32=1,Risk_RxDrugs!$J$219=1),1,0)","v":0},{"$f":"IF(AND(EBP_Matrix!AM32=1,Risk_Other!$J$219=1),1,0)","v":0},{"$f":"IF(AND(EBP_Matrix!AN32=1,Risk_Alc!$J$262=1),1,0)","v":0},{"$f":"IF(AND(EBP_Matrix!AO32=1,Risk_Marj!$J$227=1),1,0)","v":0},{"$f":"IF(AND(EBP_Matrix!AP32=1,Risk_Tob!$J$220=1),1,0)","v":0},{"$f":"IF(AND(EBP_Matrix!AQ32=1,Risk_RxDrugs!$J$220=1),1,0)","v":0},{"$f":"IF(AND(EBP_Matrix!AR32=1,Risk_Other!$J$220=1),1,0)","v":0},{"$f":"IF(AND(EBP_Matrix!AS32=1,Risk_Alc!$J$263=1),1,0)","v":0},{"$f":"IF(AND(EBP_Matrix!AT32=1,Risk_Marj!$J$228=1),1,0)","v":0},{"$f":"IF(AND(EBP_Matrix!AU32=1,Risk_Tob!$J$221=1),1,0)","v":0},{"$f":"IF(AND(EBP_Matrix!AV32=1,Risk_RxDrugs!$J$221=1),1,0)","v":0},{"$f":"IF(AND(EBP_Matrix!AW32=1,Risk_Other!$J$221=1),1,0)","v":0},{"$f":"IF(AND(EBP_Matrix!AX32=1,Risk_Alc!$J$264=1),1,0)","v":0},{"$f":"IF(AND(EBP_Matrix!AY32=1,Risk_Marj!$J$229=1),1,0)","v":0},{"$f":"IF(AND(EBP_Matrix!AZ32=1,Risk_Tob!$J$222=1),1,0)","v":0},{"$f":"IF(AND(EBP_Matrix!BA32=1,Risk_RxDrugs!$J$222=1),1,0)","v":0},{"$f":"IF(AND(EBP_Matrix!BB32=1,Risk_Other!$J$222=1),1,0)","v":0},{"$f":"IF(AND(EBP_Matrix!BC32=1,Risk_Alc!$J$265=1),1,0)","v":0},{"$f":"IF(AND(EBP_Matrix!BD32=1,Risk_Marj!$J$230=1),1,0)","v":0},{"$f":"IF(AND(EBP_Matrix!BE32=1,Risk_Tob!$J$223=1),1,0)","v":0},{"$f":"IF(AND(EBP_Matrix!BF32=1,Risk_RxDrugs!$J$223=1),1,0)","v":0},{"$f":"IF(AND(EBP_Matrix!BG32=1,Risk_Other!$J$223=1),1,0)","v":0},{"$f":"IF(AND(EBP_Matrix!BH32=1,Risk_Alc!$J$266=1),1,0)","v":0},{"$f":"IF(AND(EBP_Matrix!BI32=1,Risk_Marj!$J$231=1),1,0)","v":0},{"$f":"IF(AND(EBP_Matrix!BJ32=1,Risk_Tob!$J$224=1),1,0)","v":0},{"$f":"IF(AND(EBP_Matrix!BK32=1,Risk_RxDrugs!$J$224=1),1,0)","v":0},{"$f":"IF(AND(EBP_Matrix!BL32=1,Risk_Other!$J$224=1),1,0)","v":0},{"$f":"IF(AND(EBP_Matrix!BM32=1,Risk_Alc!$J$267=1),1,0)","v":0},{"$f":"IF(AND(EBP_Matrix!BN32=1,Risk_Marj!$J$232=1),1,0)","v":0},{"$f":"IF(AND(EBP_Matrix!BO32=1,Risk_Tob!$J$225=1),1,0)","v":0},{"$f":"IF(AND(EBP_Matrix!BP32=1,Risk_RxDrugs!$J$225=1),1,0)","v":0},{"$f":"IF(AND(EBP_Matrix!BQ32=1,Risk_Other!$J$225=1),1,0)","v":0},{"$f":"IF(AND(EBP_Matrix!BR32=1,Risk_Alc!$J$268=1),1,0)","v":0},{"$f":"IF(AND(EBP_Matrix!BS32=1,Risk_Marj!$J$233=1),1,0)","v":0},{"$f":"IF(AND(EBP_Matrix!BT32=1,Risk_Tob!$J$226=1),1,0)","v":0},{"$f":"IF(AND(EBP_Matrix!BU32=1,Risk_RxDrugs!$J$226=1),1,0)","v":0},{"$f":"IF(AND(EBP_Matrix!BV32=1,Risk_Other!$J$226=1),1,0)","v":0},{"$f":"IF(AND(EBP_Matrix!BW32=1,Risk_Alc!$J$269=1),1,0)","v":0},{"$f":"IF(AND(EBP_Matrix!BX32=1,Risk_Marj!$J$234=1),1,0)","v":0},{"$f":"IF(AND(EBP_Matrix!BY32=1,Risk_Tob!$J$227=1),1,0)","v":0},{"$f":"IF(AND(EBP_Matrix!BZ32=1,Risk_RxDrugs!$J$227=1),1,0)","v":0},{"$f":"IF(AND(EBP_Matrix!CA32=1,Risk_Other!$J$227=1),1,0)","v":0},{"$f":"IF(AND(EBP_Matrix!CB32=1,Risk_Alc!$J$270=1),1,0)","v":0},{"$f":"IF(AND(EBP_Matrix!CC32=1,Risk_Marj!$J$235=1),1,0)","v":0},{"$f":"IF(AND(EBP_Matrix!CD32=1,Risk_Tob!$J$228=1),1,0)","v":0},{"$f":"IF(AND(EBP_Matrix!CE32=1,Risk_RxDrugs!$J$228=1),1,0)","v":0},{"$f":"IF(AND(EBP_Matrix!CF32=1,Risk_Other!$J$228=1),1,0)","v":0},{"$f":"IF(AND(EBP_Matrix!CG32=1,Risk_Alc!$J$271=1),1,0)","v":0},{"$f":"IF(AND(EBP_Matrix!CH32=1,Risk_Marj!$J$236=1),1,0)","v":0},{"$f":"IF(AND(EBP_Matrix!CI32=1,Risk_Tob!$J$229=1),1,0)","v":0},{"$f":"IF(AND(EBP_Matrix!CJ32=1,Risk_RxDrugs!$J$229=1),1,0)","v":0},{"$f":"IF(AND(EBP_Matrix!CK32=1,Risk_Other!$J$229=1),1,0)","v":0},{"$f":"IF(AND(EBP_Matrix!CL32=1,Risk_Alc!$J$272=1),1,0)","v":0},{"$f":"IF(AND(EBP_Matrix!CM32=1,Risk_Marj!$J$237=1),1,0)","v":0},{"$f":"IF(AND(EBP_Matrix!CN32=1,Risk_Tob!$J$230=1),1,0)","v":0},{"$f":"IF(AND(EBP_Matrix!CO32=1,Risk_RxDrugs!$J$230=1),1,0)","v":0},{"$f":"IF(AND(EBP_Matrix!CP32=1,Risk_Other!$J$230=1),1,0)","v":0},0,0,0,0,0,0,0]
[{"$f":"EBP_Matrix!A33","v":"Normative Re-education"},null,null,0,null,null,null,{"$f":"IF(AND(EBP_Matrix!T33=1,Prob_Alc!C71>0),1,0)","v":0},{"$f":"IF(AND(EBP_Matrix!T33=1,Prob_Alc!C71>0),1,0)","v":0},{"$f":"IF(AND(EBP_Matrix!T33=1,Prob_Alc!C71>0),1,0)","v":0},{"$f":"IF(AND(EBP_Matrix!T33=1,Prob_Alc!C71>0),1,0)","v":0},{"$f":"IF(AND(EBP_Matrix!T33=1,Prob_Alc!C71>0),1,0)","v":0},{"$f":"IF(AND(EBP_Matrix!T33=1,Prob_Alc!C71>0),1,0)","v":0},{"$f":"IF(AND(EBP_Matrix!T33=1,Prob_Alc!C71>0),1,0)","v":0},{"$f":"IF(AND(EBP_Matrix!T33=1,Prob_Alc!C71>0),1,0)","v":0},{"$f":"IF(AND(EBP_Matrix!U33=1,Prob_Marj!C71>0),1,0)","v":0},{"$f":"IF(AND(EBP_Matrix!U33=1,Prob_Marj!C71>0),1,0)","v":0},{"$f":"IF(AND(EBP_Matrix!U33=1,Prob_Marj!C71>0),1,0)","v":0},{"$f":"IF(AND(EBP_Matrix!U33=1,Prob_Marj!C71>0),1,0)","v":0},{"$f":"IF(AND(EBP_Matrix!V33=1,Prob_Tob!C71>0),1,0)","v":0},{"$f":"IF(AND(EBP_Matrix!V33=1,Prob_Tob!C71>0),1,0)","v":0},{"$f":"IF(AND(EBP_Matrix!V33=1,Prob_Tob!C71>0),1,0)","v":0},{"$f":"IF(AND(EBP_Matrix!V33=1,Prob_Tob!C71>0),1,0)","v":0},{"$f":"IF(AND(EBP_Matrix!V33=1,Prob_Tob!C71>0),1,0)","v":0},{"$f":"IF(AND(EBP_Matrix!V33=1,Prob_Tob!C71>0),1,0)","v":0},{"$f":"IF(AND(EBP_Matrix!W33=1,Prob_RxDrugs!C31>0),1,0)","v":0},{"$f":"IF(AND(EBP_Matrix!W33=1,Prob_RxDrugs!C31>0),1,0)","v":0},null,{"$f":"IF(AND(EBP_Matrix!X33=1,Prob_Other!C21>0),1,0)","v":0},{"$f":"IF(AND(EBP_Matrix!Y33=1,Risk_Alc!$J$259=1),1,0)","v":0},{"$f":"IF(AND(EBP_Matrix!Z33=1,Risk_Marj!$J$224=1),1,0)","v":0},{"$f":"IF(AND(EBP_Matrix!AA33=1,Risk_Tob!$J$217=1),1,0)","v":0},{"$f":"IF(AND(EBP_Matrix!AB33=1,Risk_RxDrugs!$J$217=1),1,0)","v":0},{"$f":"IF(AND(EBP_Matrix!AC33=1,Risk_Other!$J$217=1),1,0)","v":0},{"$f":"IF(AND(EBP_Matrix!AD33=1,Risk_Alc!$J$260=1),1,0)","v":0},{"$f":"IF(AND(EBP_Matrix!AE33=1,Risk_Marj!$J$225=1),1,0)","v":0},{"$f":"IF(AND(EBP_Matrix!AF33=1,Risk_Tob!$J$218=1),1,0)","v":0},{"$f":"IF(AND(EBP_Matrix!AG33=1,Risk_RxDrugs!$J$218=1),1,0)","v":0},{"$f":"IF(AND(EBP_Matrix!AH33=1,Risk_Other!$J$218=1),1,0)","v":0},{"$f":"IF(AND(EBP_Matrix!AI33=1,Risk_Alc!$J$261=1),1,0)","v":0},{"$f":"IF(AND(EBP_Matrix!AJ33=1,Risk_Marj!$J$226=1),1,0)","v":0},{"$f":"IF(AND(EBP_Matrix!AK33=1,Risk_Tob!$J$219=1),1,0)","v":0},{"$f":"IF(AND(EBP_Matrix!AL33=1,Risk_RxDrugs!$J$219=1),1,0)","v":0},{"$f":"IF(AND(EBP_Matrix!AM33=1,Risk_Other!$J$219=1),1,0)","v":0},{"$f":"IF(AND(EBP_Matrix!AN33=1,Risk_Alc!$J$262=1),1,0)","v":0},{"$f":"IF(AND(EBP_Matrix!AO33=1,Risk_Marj!$J$227=1),1,0)","v":0},{"$f":"IF(AND(EBP_Matrix!AP33=1,Risk_Tob!$J$220=1),1,0)","v":0},{"$f":"IF(AND(EBP_Matrix!AQ33=1,Risk_RxDrugs!$J$220=1),1,0)","v":0},{"$f":"IF(AND(EBP_Matrix!AR33=1,Risk_Other!$J$220=1),1,0)","v":0},{"$f":"IF(AND(EBP_Matrix!AS33=1,Risk_Alc!$J$263=1),1,0)","v":0},{"$f":"IF(AND(EBP_Matrix!AT33=1,Risk_Marj!$J$228=1),1,0)","v":0},{"$f":"IF(AND(EBP_Matrix!AU33=1,Risk_Tob!$J$221=1),1,0)","v":0},{"$f":"IF(AND(EBP_Matrix!AV33=1,Risk_RxDrugs!$J$221=1),1,0)","v":0},{"$f":"IF(AND(EBP_Matrix!AW33=1,Risk_Other!$J$221=1),1,0)","v":0},{"$f":"IF(AND(EBP_Matrix!AX33=1,Risk_Alc!$J$264=1),1,0)","v":0},{"$f":"IF(AND(EBP_Matrix!AY33=1,Risk_Marj!$J$229=1),1,0)","v":0},{"$f":"IF(AND(EBP_Matrix!AZ33=1,Risk_Tob!$J$222=1),1,0)","v":0},{"$f":"IF(AND(EBP_Matrix!BA33=1,Risk_RxDrugs!$J$222=1),1,0)","v":0},{"$f":"IF(AND(EBP_Matrix!BB33=1,Risk_Other!$J$222=1),1,0)","v":0},{"$f":"IF(AND(EBP_Matrix!BC33=1,Risk_Alc!$J$265=1),1,0)","v":0},{"$f":"IF(AND(EBP_Matrix!BD33=1,Risk_Marj!$J$230=1),1,0)","v":0},{"$f":"IF(AND(EBP_Matrix!BE33=1,Risk_Tob!$J$223=1),1,0)","v":0},{"$f":"IF(AND(EBP_Matrix!BF33=1,Risk_RxDrugs!$J$223=1),1,0)","v":0},{"$f":"IF(AND(EBP_Matrix!BG33=1,Risk_Other!$J$223=1),1,0)","v":0},{"$f":"IF(AND(EBP_Matrix!BH33=1,Risk_Alc!$J$266=1),1,0)","v":0},{"$f":"IF(AND(EBP_Matrix!BI33=1,Risk_Marj!$J$231=1),1,0)","v":0},{"$f":"IF(AND(EBP_Matrix!BJ33=1,Risk_Tob!$J$224=1),1,0)","v":0},{"$f":"IF(AND(EBP_Matrix!BK33=1,Risk_RxDrugs!$J$224=1),1,0)","v":0},{"$f":"IF(AND(EBP_Matrix!BL33=1,Risk_Other!$J$224=1),1,0)","v":0},{"$f":"IF(AND(EBP_Matrix!BM33=1,Risk_Alc!$J$267=1),1,0)","v":0},{"$f":"IF(AND(EBP_Matrix!BN33=1,Risk_Marj!$J$232=1),1,0)","v":0},{"$f":"IF(AND(EBP_Matrix!BO33=1,Risk_Tob!$J$225=1),1,0)","v":0},{"$f":"IF(AND(EBP_Matrix!BP33=1,Risk_RxDrugs!$J$225=1),1,0)","v":0},{"$f":"IF(AND(EBP_Matrix!BQ33=1,Risk_Other!$J$225=1),1,0)","v":0},{"$f":"IF(AND(EBP_Matrix!BR33=1,Risk_Alc!$J$268=1),1,0)","v":0},{"$f":"IF(AND(EBP_Matrix!BS33=1,Risk_Marj!$J$233=1),1,0)","v":0},{"$f":"IF(AND(EBP_Matrix!BT33=1,Risk_Tob!$J$226=1),1,0)","v":0},{"$f":"IF(AND(EBP_Matrix!BU33=1,Risk_RxDrugs!$J$226=1),1,0)","v":0},{"$f":"IF(AND(EBP_Matrix!BV33=1,Risk_Other!$J$226=1),1,0)","v":0},{"$f":"IF(AND(EBP_Matrix!BW33=1,Risk_Alc!$J$269=1),1,0)","v":0},{"$f":"IF(AND(EBP_Matrix!BX33=1,Risk_Marj!$J$234=1),1,0)","v":0},{"$f":"IF(AND(EBP_Matrix!BY33=1,Risk_Tob!$J$227=1),1,0)","v":0},{"$f":"IF(AND(EBP_Matrix!BZ33=1,Risk_RxDrugs!$J$227=1),1,0)","v":0},{"$f":"IF(AND(EBP_Matrix!CA33=1,Risk_Other!$J$227=1),1,0)","v":0},{"$f":"IF(AND(EBP_Matrix!CB33=1,Risk_Alc!$J$270=1),1,0)","v":0},{"$f":"IF(AND(EBP_Matrix!CC33=1,Risk_Marj!$J$235=1),1,0)","v":0},{"$f":"IF(AND(EBP_Matrix!CD33=1,Risk_Tob!$J$228=1),1,0)","v":0},{"$f":"IF(AND(EBP_Matrix!CE33=1,Risk_RxDrugs!$J$228=1),1,0)","v":0},{"$f":"IF(AND(EBP_Matrix!CF33=1,Risk_Other!$J$228=1),1,0)","v":0},{"$f":"IF(AND(EBP_Matrix!CG33=1,Risk_Alc!$J$271=1),1,0)","v":0},{"$f":"IF(AND(EBP_Matrix!CH33=1,Risk_Marj!$J$236=1),1,0)","v":0},{"$f":"IF(AND(EBP_Matrix!CI33=1,Risk_Tob!$J$229=1),1,0)","v":0},{"$f":"IF(AND(EBP_Matrix!CJ33=1,Risk_RxDrugs!$J$229=1),1,0)","v":0},{"$f":"IF(AND(EBP_Matrix!CK33=1,Risk_Other!$J$229=1),1,0)","v":0},{"$f":"IF(AND(EBP_Matrix!CL33=1,Risk_Alc!$J$272=1),1,0)","v":0},{"$f":"IF(AND(EBP_Matrix!CM33=1,Risk_Marj!$J$237=1),1,0)","v":0},{"$f":"IF(AND(EBP_Matrix!CN33=1,Risk_Tob!$J$230=1),1,0)","v":0},{"$f":"IF(AND(EBP_Matrix!CO33=1,Risk_RxDrugs!$J$230=1),1,0)","v":0},{"$f":"IF(AND(EBP_Matrix!CP33=1,Risk_Other!$J$230=1),1,0)","v":0},0,0,0,0,0,0,0]
[{"$f":"EBP_Matrix!A34","v":"Party Patrol"},null,null,0,null,null,null,{"$f":"IF(AND(EBP_Matrix!T34=1,Prob_Alc!C71>0),1,0)","v":0},{"$f":"IF(AND(EBP_Matrix!T34=1,Prob_Alc!C71>0),1,0)","v":0},{"$f":"IF(AND(EBP_Matrix!T34=1,Prob_Alc!C71>0),1,0)","v":0},{"$f":"IF(AND(EBP_Matrix!T34=1,Prob_Alc!C71>0),1,0)","v":0},{"$f":"IF(AND(EBP_Matrix!T34=1,Prob_Alc!C71>0),1,0)","v":0},{"$f":"IF(AND(EBP_Matrix!T34=1,Prob_Alc!C71>0),1,0)","v":0},{"$f":"IF(AND(EBP_Matrix!T34=1,Prob_Alc!C71>0),1,0)","v":0},{"$f":"IF(AND(EBP_Matrix!T34=1,Prob_Alc!C71>0),1,0)","v":0},{"$f":"IF(AND(EBP_Matrix!U34=1,Prob_Marj!C71>0),1,0)","v":0},{"$f":"IF(AND(EBP_Matrix!U34=1,Prob_Marj!C71>0),1,0)","v":0},{"$f":"IF(AND(EBP_Matrix!U34=1,Prob_Marj!C71>0),1,0)","v":0},{"$f":"IF(AND(EBP_Matrix!U34=1,Prob_Marj!C71>0),1,0)","v":0},{"$f":"IF(AND(EBP_Matrix!V34=1,Prob_Tob!C71>0),1,0)","v":0},{"$f":"IF(AND(EBP_Matrix!V34=1,Prob_Tob!C71>0),1,0)","v":0},{"$f":"IF(AND(EBP_Matrix!V34=1,Prob_Tob!C71>0),1,0)","v":0},{"$f":"IF(AND(EBP_Matrix!V34=1,Prob_Tob!C71>0),1,0)","v":0},{"$f":"IF(AND(EBP_Matrix!V34=1,Prob_Tob!C71>0),1,0)","v":0},{"$f":"IF(AND(EBP_Matrix!V34=1,Prob_Tob!C71>0),1,0)","v":0},{"$f":"IF(AND(EBP_Matrix!W34=1,Prob_RxDrugs!C31>0),1,0)","v":0},{"$f":"IF(AND(EBP_Matrix!W34=1,Prob_RxDrugs!C31>0),1,0)","v":0},null,{"$f":"IF(AND(EBP_Matrix!X34=1,Prob_Other!C21>0),1,0)","v":0},{"$f":"IF(AND(EBP_Matrix!Y34=1,Risk_Alc!$J$259=1),1,0)","v":0},{"$f":"IF(AND(EBP_Matrix!Z34=1,Risk_Marj!$J$224=1),1,0)","v":0},{"$f":"IF(AND(EBP_Matrix!AA34=1,Risk_Tob!$J$217=1),1,0)","v":0},{"$f":"IF(AND(EBP_Matrix!AB34=1,Risk_RxDrugs!$J$217=1),1,0)","v":0},{"$f":"IF(AND(EBP_Matrix!AC34=1,Risk_Other!$J$217=1),1,0)","v":0},{"$f":"IF(AND(EBP_Matrix!AD34=1,Risk_Alc!$J$260=1),1,0)","v":0},{"$f":"IF(AND(EBP_Matrix!AE34=1,Risk_Marj!$J$225=1),1,0)","v":0},{"$f":"IF(AND(EBP_Matrix!AF34=1,Risk_Tob!$J$218=1),1,0)","v":0},{"$f":"IF(AND(EBP_Matrix!AG34=1,Risk_RxDrugs!$J$218=1),1,0)","v":0},{"$f":"IF(AND(EBP_Matrix!AH34=1,Risk_Other!$J$218=1),1,0)","v":0},{"$f":"IF(AND(EBP_Matrix!AI34=1,Risk_Alc!$J$261=1),1,0)","v":0},{"$f":"IF(AND(EBP_Matrix!AJ34=1,Risk_Marj!$J$226=1),1,0)","v":0},{"$f":"IF(AND(EBP_Matrix!AK34=1,Risk_Tob!$J$219=1),1,0)","v":0},{"$f":"IF(AND(EBP_Matrix!AL34=1,Risk_RxDrugs!$J$219=1),1,0)","v":0},{"$f":"IF(AND(EBP_Matrix!AM34=1,Risk_Other!$J$219=1),1,0)","v":0},{"$f":"IF(AND(EBP_Matrix!AN34=1,Risk_Alc!$J$262=1),1,0)","v":0},{"$f":"IF(AND(EBP_Matrix!AO34=1,Risk_Marj!$J$227=1),1,0)","v":0},{"$f":"IF(AND(EBP_Matrix!AP34=1,Risk_Tob!$J$220=1),1,0)","v":0},{"$f":"IF(AND(EBP_Matrix!AQ34=1,Risk_RxDrugs!$J$220=1),1,0)","v":0},{"$f":"IF(AND(EBP_Matrix!AR34=1,Risk_Other!$J$220=1),1,0)","v":0},{"$f":"IF(AND(EBP_Matrix!AS34=1,Risk_Alc!$J$263=1),1,0)","v":0},{"$f":"IF(AND(EBP_Matrix!AT34=1,Risk_Marj!$J$228=1),1,0)","v":0},{"$f":"IF(AND(EBP_Matrix!AU34=1,Risk_Tob!$J$221=1),1,0)","v":0},{"$f":"IF(AND(EBP_Matrix!AV34=1,Risk_RxDrugs!$J$221=1),1,0)","v":0},{"$f":"IF(AND(EBP_Matrix!AW34=1,Risk_Other!$J$221=1),1,0)","v":0},{"$f":"IF(AND(EBP_Matrix!AX34=1,Risk_Alc!$J$264=1),1,0)","v":0},{"$f":"IF(AND(EBP_Matrix!AY34=1,Risk_Marj!$J$229=1),1,0)","v":0},{"$f":"IF(AND(EBP_Matrix!AZ34=1,Risk_Tob!$J$222=1),1,0)","v":0},{"$f":"IF(AND(EBP_Matrix!BA34=1,Risk_RxDrugs!$J$222=1),1,0)","v":0},{"$f":"IF(AND(EBP_Matrix!BB34=1,Risk_Other!$J$222=1),1,0)","v":0},{"$f":"IF(AND(EBP_Matrix!BC34=1,Risk_Alc!$J$265=1),1,0)","v":0},{"$f":"IF(AND(EBP_Matrix!BD34=1,Risk_Marj!$J$230=1),1,0)","v":0},{"$f":"IF(AND(EBP_Matrix!BE34=1,Risk_Tob!$J$223=1),1,0)","v":0},{"$f":"IF(AND(EBP_Matrix!BF34=1,Risk_RxDrugs!$J$223=1),1,0)","v":0},{"$f":"IF(AND(EBP_Matrix!BG34=1,Risk_Other!$J$223=1),1,0)","v":0},{"$f":"IF(AND(EBP_Matrix!BH34=1,Risk_Alc!$J$266=1),1,0)","v":0},{"$f":"IF(AND(EBP_Matrix!BI34=1,Risk_Marj!$J$231=1),1,0)","v":0},{"$f":"IF(AND(EBP_Matrix!BJ34=1,Risk_Tob!$J$224=1),1,0)","v":0},{"$f":"IF(AND(EBP_Matrix!BK34=1,Risk_RxDrugs!$J$224=1),1,0)","v":0},{"$f":"IF(AND(EBP_Matrix!BL34=1,Risk_Other!$J$224=1),1,0)","v":0},{"$f":"IF(AND(EBP_Matrix!BM34=1,Risk_Alc!$J$267=1),1,0)","v":0},{"$f":"IF(AND(EBP_Matrix!BN34=1,Risk_Marj!$J$232=1),1,0)","v":0},{"$f":"IF(AND(EBP_Matrix!BO34=1,Risk_Tob!$J$225=1),1,0)","v":0},{"$f":"IF(AND(EBP_Matrix!BP34=1,Risk_RxDrugs!$J$225=1),1,0)","v":0},{"$f":"IF(AND(EBP_Matrix!BQ34=1,Risk_Other!$J$225=1),1,0)","v":0},{"$f":"IF(AND(EBP_Matrix!BR34=1,Risk_Alc!$J$268=1),1,0)","v":0},{"$f":"IF(AND(EBP_Matrix!BS34=1,Risk_Marj!$J$233=1),1,0)","v":0},{"$f":"IF(AND(EBP_Matrix!BT34=1,Risk_Tob!$J$226=1),1,0)","v":0},{"$f":"IF(AND(EBP_Matrix!BU34=1,Risk_RxDrugs!$J$226=1),1,0)","v":0},{"$f":"IF(AND(EBP_Matrix!BV34=1,Risk_Other!$J$226=1),1,0)","v":0},{"$f":"IF(AND(EBP_Matrix!BW34=1,Risk_Alc!$J$269=1),1,0)","v":0},{"$f":"IF(AND(EBP_Matrix!BX34=1,Risk_Marj!$J$234=1),1,0)","v":0},{"$f":"IF(AND(EBP_Matrix!BY34=1,Risk_Tob!$J$227=1),1,0)","v":0},{"$f":"IF(AND(EBP_Matrix!BZ34=1,Risk_RxDrugs!$J$227=1),1,0)","v":0},{"$f":"IF(AND(EBP_Matrix!CA34=1,Risk_Other!$J$227=1),1,0)","v":0},{"$f":"IF(AND(EBP_Matrix!CB34=1,Risk_Alc!$J$270=1),1,0)","v":0},{"$f":"IF(AND(EBP_Matrix!CC34=1,Risk_Marj!$J$235=1),1,0)","v":0},{"$f":"IF(AND(EBP_Matrix!CD34=1,Risk_Tob!$J$228=1),1,0)","v":0},{"$f":"IF(AND(EBP_Matrix!CE34=1,Risk_RxDrugs!$J$228=1),1,0)","v":0},{"$f":"IF(AND(EBP_Matrix!CF34=1,Risk_Other!$J$228=1),1,0)","v":0},{"$f":"IF(AND(EBP_Matrix!CG34=1,Risk_Alc!$J$271=1),1,0)","v":0},{"$f":"IF(AND(EBP_Matrix!CH34=1,Risk_Marj!$J$236=1),1,0)","v":0},{"$f":"IF(AND(EBP_Matrix!CI34=1,Risk_Tob!$J$229=1),1,0)","v":0},{"$f":"IF(AND(EBP_Matrix!CJ34=1,Risk_RxDrugs!$J$229=1),1,0)","v":0},{"$f":"IF(AND(EBP_Matrix!CK34=1,Risk_Other!$J$229=1),1,0)","v":0},{"$f":"IF(AND(EBP_Matrix!CL34=1,Risk_Alc!$J$272=1),1,0)","v":0},{"$f":"IF(AND(EBP_Matrix!CM34=1,Risk_Marj!$J$237=1),1,0)","v":0},{"$f":"IF(AND(EBP_Matrix!CN34=1,Risk_Tob!$J$230=1),1,0)","v":0},{"$f":"IF(AND(EBP_Matrix!CO34=1,Risk_RxDrugs!$J$230=1),1,0)","v":0},{"$f":"IF(AND(EBP_Matrix!CP34=1,Risk_Other!$J$230=1),1,0)","v":0},0,0,0,0,0,0,0]
[{"$f":"EBP_Matrix!A35","v":"Policy Development"},null,null,0,null,null,null,{"$f":"IF(AND(EBP_Matrix!T35=1,Prob_Alc!C71>0),1,0)","v":0},{"$f":"IF(AND(EBP_Matrix!T35=1,Prob_Alc!C71>0),1,0)","v":0},{"$f":"IF(AND(EBP_Matrix!T35=1,Prob_Alc!C71>0),1,0)","v":0},{"$f":"IF(AND(EBP_Matrix!T35=1,Prob_Alc!C71>0),1,0)","v":0},{"$f":"IF(AND(EBP_Matrix!T35=1,Prob_Alc!C71>0),1,0)","v":0},{"$f":"IF(AND(EBP_Matrix!T35=1,Prob_Alc!C71>0),1,0)","v":0},{"$f":"IF(AND(EBP_Matrix!T35=1,Prob_Alc!C71>0),1,0)","v":0},{"$f":"IF(AND(EBP_Matrix!T35=1,Prob_Alc!C71>0),1,0)","v":0},{"$f":"IF(AND(EBP_Matrix!U35=1,Prob_Marj!C71>0),1,0)","v":0},{"$f":"IF(AND(EBP_Matrix!U35=1,Prob_Marj!C71>0),1,0)","v":0},{"$f":"IF(AND(EBP_Matrix!U35=1,Prob_Marj!C71>0),1,0)","v":0},{"$f":"IF(AND(EBP_Matrix!U35=1,Prob_Marj!C71>0),1,0)","v":0},{"$f":"IF(AND(EBP_Matrix!V35=1,Prob_Tob!C71>0),1,0)","v":0},{"$f":"IF(AND(EBP_Matrix!V35=1,Prob_Tob!C71>0),1,0)","v":0},{"$f":"IF(AND(EBP_Matrix!V35=1,Prob_Tob!C71>0),1,0)","v":0},{"$f":"IF(AND(EBP_Matrix!V35=1,Prob_Tob!C71>0),1,0)","v":0},{"$f":"IF(AND(EBP_Matrix!V35=1,Prob_Tob!C71>0),1,0)","v":0},{"$f":"IF(AND(EBP_Matrix!V35=1,Prob_Tob!C71>0),1,0)","v":0},{"$f":"IF(AND(EBP_Matrix!W35=1,Prob_RxDrugs!C31>0),1,0)","v":0},{"$f":"IF(AND(EBP_Matrix!W35=1,Prob_RxDrugs!C31>0),1,0)","v":0},null,{"$f":"IF(AND(EBP_Matrix!X35=1,Prob_Other!C21>0),1,0)","v":0},{"$f":"IF(AND(EBP_Matrix!Y35=1,Risk_Alc!$J$259=1),1,0)","v":0},{"$f":"IF(AND(EBP_Matrix!Z35=1,Risk_Marj!$J$224=1),1,0)","v":0},{"$f":"IF(AND(EBP_Matrix!AA35=1,Risk_Tob!$J$217=1),1,0)","v":0},{"$f":"IF(AND(EBP_Matrix!AB35=1,Risk_RxDrugs!$J$217=1),1,0)","v":0},{"$f":"IF(AND(EBP_Matrix!AC35=1,Risk_Other!$J$217=1),1,0)","v":0},{"$f":"IF(AND(EBP_Matrix!AD35=1,Risk_Alc!$J$260=1),1,0)","v":0},{"$f":"IF(AND(EBP_Matrix!AE35=1,Risk_Marj!$J$225=1),1,0)","v":0},{"$f":"IF(AND(EBP_Matrix!AF35=1,Risk_Tob!$J$218=1),1,0)","v":0},{"$f":"IF(AND(EBP_Matrix!AG35=1,Risk_RxDrugs!$J$218=1),1,0)","v":0},{"$f":"IF(AND(EBP_Matrix!AH35=1,Risk_Other!$J$218=1),1,0)","v":0},{"$f":"IF(AND(EBP_Matrix!AI35=1,Risk_Alc!$J$261=1),1,0)","v":0},{"$f":"IF(AND(EBP_Matrix!AJ35=1,Risk_Marj!$J$226=1),1,0)","v":0},{"$f":"IF(AND(EBP_Matrix!AK35=1,Risk_Tob!$J$219=1),1,0)","v":0},{"$f":"IF(AND(EBP_Matrix!AL35=1,Risk_RxDrugs!$J$219=1),1,0)","v":0},{"$f":"IF(AND(EBP_Matrix!AM35=1,Risk_Other!$J$219=1),1,0)","v":0},{"$f":"IF(AND(EBP_Matrix!AN35=1,Risk_Alc!$J$262=1),1,0)","v":0},{"$f":"IF(AND(EBP_Matrix!AO35=1,Risk_Marj!$J$227=1),1,0)","v":0},{"$f":"IF(AND(EBP_Matrix!AP35=1,Risk_Tob!$J$220=1),1,0)","v":0},{"$f":"IF(AND(EBP_Matrix!AQ35=1,Risk_RxDrugs!$J$220=1),1,0)","v":0},{"$f":"IF(AND(EBP_Matrix!AR35=1,Risk_Other!$J$220=1),1,0)","v":0},{"$f":"IF(AND(EBP_Matrix!AS35=1,Risk_Alc!$J$263=1),1,0)","v":0},{"$f":"IF(AND(EBP_Matrix!AT35=1,Risk_Marj!$J$228=1),1,0)","v":0},{"$f":"IF(AND(EBP_Matrix!AU35=1,Risk_Tob!$J$221=1),1,0)","v":0},{"$f":"IF(AND(EBP_Matrix!AV35=1,Risk_RxDrugs!$J$221=1),1,0)","v":0},{"$f":"IF(AND(EBP_Matrix!AW35=1,Risk_Other!$J$221=1),1,0)","v":0},{"$f":"IF(AND(EBP_Matrix!AX35=1,Risk_Alc!$J$264=1),1,0)","v":0},{"$f":"IF(AND(EBP_Matrix!AY35=1,Risk_Marj!$J$229=1),1,0)","v":0},{"$f":"IF(AND(EBP_Matrix!AZ35=1,Risk_Tob!$J$222=1),1,0)","v":0},{"$f":"IF(AND(EBP_Matrix!BA35=1,Risk_RxDrugs!$J$222=1),1,0)","v":0},{"$f":"IF(AND(EBP_Matrix!BB35=1,Risk_Other!$J$222=1),1,0)","v":0},{"$f":"IF(AND(EBP_Matrix!BC35=1,Risk_Alc!$J$265=1),1,0)","v":0},{"$f":"IF(AND(EBP_Matrix!BD35=1,Risk_Marj!$J$230=1),1,0)","v":0},{"$f":"IF(AND(EBP_Matrix!BE35=1,Risk_Tob!$J$223=1),1,0)","v":0},{"$f":"IF(AND(EBP_Matrix!BF35=1,Risk_RxDrugs!$J$223=1),1,0)","v":0},{"$f":"IF(AND(EBP_Matrix!BG35=1,Risk_Other!$J$223=1),1,0)","v":0},{"$f":"IF(AND(EBP_Matrix!BH35=1,Risk_Alc!$J$266=1),1,0)","v":0},{"$f":"IF(AND(EBP_Matrix!BI35=1,Risk_Marj!$J$231=1),1,0)","v":0},{"$f":"IF(AND(EBP_Matrix!BJ35=1,Risk_Tob!$J$224=1),1,0)","v":0},{"$f":"IF(AND(EBP_Matrix!BK35=1,Risk_RxDrugs!$J$224=1),1,0)","v":0},{"$f":"IF(AND(EBP_Matrix!BL35=1,Risk_Other!$J$224=1),1,0)","v":0},{"$f":"IF(AND(EBP_Matrix!BM35=1,Risk_Alc!$J$267=1),1,0)","v":0},{"$f":"IF(AND(EBP_Matrix!BN35=1,Risk_Marj!$J$232=1),1,0)","v":0},{"$f":"IF(AND(EBP_Matrix!BO35=1,Risk_Tob!$J$225=1),1,0)","v":0},{"$f":"IF(AND(EBP_Matrix!BP35=1,Risk_RxDrugs!$J$225=1),1,0)","v":0},{"$f":"IF(AND(EBP_Matrix!BQ35=1,Risk_Other!$J$225=1),1,0)","v":0},{"$f":"IF(AND(EBP_Matrix!BR35=1,Risk_Alc!$J$268=1),1,0)","v":0},{"$f":"IF(AND(EBP_Matrix!BS35=1,Risk_Marj!$J$233=1),1,0)","v":0},{"$f":"IF(AND(EBP_Matrix!BT35=1,Risk_Tob!$J$226=1),1,0)","v":0},{"$f":"IF(AND(EBP_Matrix!BU35=1,Risk_RxDrugs!$J$226=1),1,0)","v":0},{"$f":"IF(AND(EBP_Matrix!BV35=1,Risk_Other!$J$226=1),1,0)","v":0},{"$f":"IF(AND(EBP_Matrix!BW35=1,Risk_Alc!$J$269=1),1,0)","v":0},{"$f":"IF(AND(EBP_Matrix!BX35=1,Risk_Marj!$J$234=1),1,0)","v":0},{"$f":"IF(AND(EBP_Matrix!BY35=1,Risk_Tob!$J$227=1),1,0)","v":0},{"$f":"IF(AND(EBP_Matrix!BZ35=1,Risk_RxDrugs!$J$227=1),1,0)","v":0},{"$f":"IF(AND(EBP_Matrix!CA35=1,Risk_Other!$J$227=1),1,0)","v":0},{"$f":"IF(AND(EBP_Matrix!CB35=1,Risk_Alc!$J$270=1),1,0)","v":0},{"$f":"IF(AND(EBP_Matrix!CC35=1,Risk_Marj!$J$235=1),1,0)","v":0},{"$f":"IF(AND(EBP_Matrix!CD35=1,Risk_Tob!$J$228=1),1,0)","v":0},{"$f":"IF(AND(EBP_Matrix!CE35=1,Risk_RxDrugs!$J$228=1),1,0)","v":0},{"$f":"IF(AND(EBP_Matrix!CF35=1,Risk_Other!$J$228=1),1,0)","v":0},{"$f":"IF(AND(EBP_Matrix!CG35=1,Risk_Alc!$J$271=1),1,0)","v":0},{"$f":"IF(AND(EBP_Matrix!CH35=1,Risk_Marj!$J$236=1),1,0)","v":0},{"$f":"IF(AND(EBP_Matrix!CI35=1,Risk_Tob!$J$229=1),1,0)","v":0},{"$f":"IF(AND(EBP_Matrix!CJ35=1,Risk_RxDrugs!$J$229=1),1,0)","v":0},{"$f":"IF(AND(EBP_Matrix!CK35=1,Risk_Other!$J$229=1),1,0)","v":0},{"$f":"IF(AND(EBP_Matrix!CL35=1,Risk_Alc!$J$272=1),1,0)","v":0},{"$f":"IF(AND(EBP_Matrix!CM35=1,Risk_Marj!$J$237=1),1,0)","v":0},{"$f":"IF(AND(EBP_Matrix!CN35=1,Risk_Tob!$J$230=1),1,0)","v":0},{"$f":"IF(AND(EBP_Matrix!CO35=1,Risk_RxDrugs!$J$230=1),1,0)","v":0},{"$f":"IF(AND(EBP_Matrix!CP35=1,Risk_Other!$J$230=1),1,0)","v":0},0,0,0,0,0,0,0]
[{"$f":"EBP_Matrix!A36","v":"Positive Action"},null,null,0,null,null,null,{"$f":"IF(AND(EBP_Matrix!T36=1,Prob_Alc!C71>0),1,0)","v":0},{"$f":"IF(AND(EBP_Matrix!T36=1,Prob_Alc!C71>0),1,0)","v":0},{"$f":"IF(AND(EBP_Matrix!T36=1,Prob_Alc!C71>0),1,0)","v":0},{"$f":"IF(AND(EBP_Matrix!T36=1,Prob_Alc!C71>0),1,0)","v":0},{"$f":"IF(AND(EBP_Matrix!T36=1,Prob_Alc!C71>0),1,0)","v":0},{"$f":"IF(AND(EBP_Matrix!T36=1,Prob_Alc!C71>0),1,0)","v":0},{"$f":"IF(AND(EBP_Matrix!T36=1,Prob_Alc!C71>0),1,0)","v":0},{"$f":"IF(AND(EBP_Matrix!T36=1,Prob_Alc!C71>0),1,0)","v":0},{"$f":"IF(AND(EBP_Matrix!U36=1,Prob_Marj!C71>0),1,0)","v":0},{"$f":"IF(AND(EBP_Matrix!U36=1,Prob_Marj!C71>0),1,0)","v":0},{"$f":"IF(AND(EBP_Matrix!U36=1,Prob_Marj!C71>0),1,0)","v":0},{"$f":"IF(AND(EBP_Matrix!U36=1,Prob_Marj!C71>0),1,0)","v":0},{"$f":"IF(AND(EBP_Matrix!V36=1,Prob_Tob!C71>0),1,0)","v":0},{"$f":"IF(AND(EBP_Matrix!V36=1,Prob_Tob!C71>0),1,0)","v":0},{"$f":"IF(AND(EBP_Matrix!V36=1,Prob_Tob!C71>0),1,0)","v":0},{"$f":"IF(AND(EBP_Matrix!V36=1,Prob_Tob!C71>0),1,0)","v":0},{"$f":"IF(AND(EBP_Matrix!V36=1,Prob_Tob!C71>0),1,0)","v":0},{"$f":"IF(AND(EBP_Matrix!V36=1,Prob_Tob!C71>0),1,0)","v":0},{"$f":"IF(AND(EBP_Matrix!W36=1,Prob_RxDrugs!C31>0),1,0)","v":0},{"$f":"IF(AND(EBP_Matrix!W36=1,Prob_RxDrugs!C31>0),1,0)","v":0},null,{"$f":"IF(AND(EBP_Matrix!X36=1,Prob_Other!C21>0),1,0)","v":0},{"$f":"IF(AND(EBP_Matrix!Y36=1,Risk_Alc!$J$259=1),1,0)","v":0},{"$f":"IF(AND(EBP_Matrix!Z36=1,Risk_Marj!$J$224=1),1,0)","v":0},{"$f":"IF(AND(EBP_Matrix!AA36=1,Risk_Tob!$J$217=1),1,0)","v":0},{"$f":"IF(AND(EBP_Matrix!AB36=1,Risk_RxDrugs!$J$217=1),1,0)","v":0},{"$f":"IF(AND(EBP_Matrix!AC36=1,Risk_Other!$J$217=1),1,0)","v":0},{"$f":"IF(AND(EBP_Matrix!AD36=1,Risk_Alc!$J$260=1),1,0)","v":0},{"$f":"IF(AND(EBP_Matrix!AE36=1,Risk_Marj!$J$225=1),1,0)","v":0},{"$f":"IF(AND(EBP_Matrix!AF36=1,Risk_Tob!$J$218=1),1,0)","v":0},{"$f":"IF(AND(EBP_Matrix!AG36=1,Risk_RxDrugs!$J$218=1),1,0)","v":0},{"$f":"IF(AND(EBP_Matrix!AH36=1,Risk_Other!$J$218=1),1,0)","v":0},{"$f":"IF(AND(EBP_Matrix!AI36=1,Risk_Alc!$J$261=1),1,0)","v":0},{"$f":"IF(AND(EBP_Matrix!AJ36=1,Risk_Marj!$J$226=1),1,0)","v":0},{"$f":"IF(AND(EBP_Matrix!AK36=1,Risk_Tob!$J$219=1),1,0)","v":0},{"$f":"IF(AND(EBP_Matrix!AL36=1,Risk_RxDrugs!$J$219=1),1,0)","v":0},{"$f":"IF(AND(EBP_Matrix!AM36=1,Risk_Other!$J$219=1),1,0)","v":0},{"$f":"IF(AND(EBP_Matrix!AN36=1,Risk_Alc!$J$262=1),1,0)","v":0},{"$f":"IF(AND(EBP_Matrix!AO36=1,Risk_Marj!$J$227=1),1,0)","v":0},{"$f":"IF(AND(EBP_Matrix!AP36=1,Risk_Tob!$J$220=1),1,0)","v":0},{"$f":"IF(AND(EBP_Matrix!AQ36=1,Risk_RxDrugs!$J$220=1),1,0)","v":0},{"$f":"IF(AND(EBP_Matrix!AR36=1,Risk_Other!$J$220=1),1,0)","v":0},{"$f":"IF(AND(EBP_Matrix!AS36=1,Risk_Alc!$J$263=1),1,0)","v":0},{"$f":"IF(AND(EBP_Matrix!AT36=1,Risk_Marj!$J$228=1),1,0)","v":0},{"$f":"IF(AND(EBP_Matrix!AU36=1,Risk_Tob!$J$221=1),1,0)","v":0},{"$f":"IF(AND(EBP_Matrix!AV36=1,Risk_RxDrugs!$J$221=1),1,0)","v":0},{"$f":"IF(AND(EBP_Matrix!AW36=1,Risk_Other!$J$221=1),1,0)","v":0},{"$f":"IF(AND(EBP_Matrix!AX36=1,Risk_Alc!$J$264=1),1,0)","v":0},{"$f":"IF(AND(EBP_Matrix!AY36=1,Risk_Marj!$J$229=1),1,0)","v":0},{"$f":"IF(AND(EBP_Matrix!AZ36=1,Risk_Tob!$J$222=1),1,0)","v":0},{"$f":"IF(AND(EBP_Matrix!BA36=1,Risk_RxDrugs!$J$222=1),1,0)","v":0},{"$f":"IF(AND(EBP_Matrix!BB36=1,Risk_Other!$J$222=1),1,0)","v":0},{"$f":"IF(AND(EBP_Matrix!BC36=1,Risk_Alc!$J$265=1),1,0)","v":0},{"$f":"IF(AND(EBP_Matrix!BD36=1,Risk_Marj!$J$230=1),1,0)","v":0},{"$f":"IF(AND(EBP_Matrix!BE36=1,Risk_Tob!$J$223=1),1,0)","v":0},{"$f":"IF(AND(EBP_Matrix!BF36=1,Risk_RxDrugs!$J$223=1),1,0)","v":0},{"$f":"IF(AND(EBP_Matrix!BG36=1,Risk_Other!$J$223=1),1,0)","v":0},{"$f":"IF(AND(EBP_Matrix!BH36=1,Risk_Alc!$J$266=1),1,0)","v":0},{"$f":"IF(AND(EBP_Matrix!BI36=1,Risk_Marj!$J$231=1),1,0)","v":0},{"$f":"IF(AND(EBP_Matrix!BJ36=1,Risk_Tob!$J$224=1),1,0)","v":0},{"$f":"IF(AND(EBP_Matrix!BK36=1,Risk_RxDrugs!$J$224=1),1,0)","v":0},{"$f":"IF(AND(EBP_Matrix!BL36=1,Risk_Other!$J$224=1),1,0)","v":0},{"$f":"IF(AND(EBP_Matrix!BM36=1,Risk_Alc!$J$267=1),1,0)","v":0},{"$f":"IF(AND(EBP_Matrix!BN36=1,Risk_Marj!$J$232=1),1,0)","v":0},{"$f":"IF(AND(EBP_Matrix!BO36=1,Risk_Tob!$J$225=1),1,0)","v":0},{"$f":"IF(AND(EBP_Matrix!BP36=1,Risk_RxDrugs!$J$225=1),1,0)","v":0},{"$f":"IF(AND(EBP_Matrix!BQ36=1,Risk_Other!$J$225=1),1,0)","v":0},{"$f":"IF(AND(EBP_Matrix!BR36=1,Risk_Alc!$J$268=1),1,0)","v":0},{"$f":"IF(AND(EBP_Matrix!BS36=1,Risk_Marj!$J$233=1),1,0)","v":0},{"$f":"IF(AND(EBP_Matrix!BT36=1,Risk_Tob!$J$226=1),1,0)","v":0},{"$f":"IF(AND(EBP_Matrix!BU36=1,Risk_RxDrugs!$J$226=1),1,0)","v":0},{"$f":"IF(AND(EBP_Matrix!BV36=1,Risk_Other!$J$226=1),1,0)","v":0},{"$f":"IF(AND(EBP_Matrix!BW36=1,Risk_Alc!$J$269=1),1,0)","v":0},{"$f":"IF(AND(EBP_Matrix!BX36=1,Risk_Marj!$J$234=1),1,0)","v":0},{"$f":"IF(AND(EBP_Matrix!BY36=1,Risk_Tob!$J$227=1),1,0)","v":0},{"$f":"IF(AND(EBP_Matrix!BZ36=1,Risk_RxDrugs!$J$227=1),1,0)","v":0},{"$f":"IF(AND(EBP_Matrix!CA36=1,Risk_Other!$J$227=1),1,0)","v":0},{"$f":"IF(AND(EBP_Matrix!CB36=1,Risk_Alc!$J$270=1),1,0)","v":0},{"$f":"IF(AND(EBP_Matrix!CC36=1,Risk_Marj!$J$235=1),1,0)","v":0},{"$f":"IF(AND(EBP_Matrix!CD36=1,Risk_Tob!$J$228=1),1,0)","v":0},{"$f":"IF(AND(EBP_Matrix!CE36=1,Risk_RxDrugs!$J$228=1),1,0)","v":0},{"$f":"IF(AND(EBP_Matrix!CF36=1,Risk_Other!$J$228=1),1,0)","v":0},{"$f":"IF(AND(EBP_Matrix!CG36=1,Risk_Alc!$J$271=1),1,0)","v":0},{"$f":"IF(AND(EBP_Matrix!CH36=1,Risk_Marj!$J$236=1),1,0)","v":0},{"$f":"IF(AND(EBP_Matrix!CI36=1,Risk_Tob!$J$229=1),1,0)","v":0},{"$f":"IF(AND(EBP_Matrix!CJ36=1,Risk_RxDrugs!$J$229=1),1,0)","v":0},{"$f":"IF(AND(EBP_Matrix!CK36=1,Risk_Other!$J$229=1),1,0)","v":0},{"$f":"IF(AND(EBP_Matrix!CL36=1,Risk_Alc!$J$272=1),1,0)","v":0},{"$f":"IF(AND(EBP_Matrix!CM36=1,Risk_Marj!$J$237=1),1,0)","v":0},{"$f":"IF(AND(EBP_Matrix!CN36=1,Risk_Tob!$J$230=1),1,0)","v":0},{"$f":"IF(AND(EBP_Matrix!CO36=1,Risk_RxDrugs!$J$230=1),1,0)","v":0},{"$f":"IF(AND(EBP_Matrix!CP36=1,Risk_Other!$J$230=1),1,0)","v":0},0,0,0,0,0,0,0]
[{"$f":"EBP_Matrix!A37","v":"Prescription Drug Safe Disposal"},null,null,0,null,null,null,{"$f":"IF(AND(EBP_Matrix!T37=1,Prob_Alc!C71>0),1,0)","v":0},{"$f":"IF(AND(EBP_Matrix!T37=1,Prob_Alc!C71>0),1,0)","v":0},{"$f":"IF(AND(EBP_Matrix!T37=1,Prob_Alc!C71>0),1,0)","v":0},{"$f":"IF(AND(EBP_Matrix!T37=1,Prob_Alc!C71>0),1,0)","v":0},{"$f":"IF(AND(EBP_Matrix!T37=1,Prob_Alc!C71>0),1,0)","v":0},{"$f":"IF(AND(EBP_Matrix!T37=1,Prob_Alc!C71>0),1,0)","v":0},{"$f":"IF(AND(EBP_Matrix!T37=1,Prob_Alc!C71>0),1,0)","v":0},{"$f":"IF(AND(EBP_Matrix!T37=1,Prob_Alc!C71>0),1,0)","v":0},{"$f":"IF(AND(EBP_Matrix!U37=1,Prob_Marj!C71>0),1,0)","v":0},{"$f":"IF(AND(EBP_Matrix!U37=1,Prob_Marj!C71>0),1,0)","v":0},{"$f":"IF(AND(EBP_Matrix!U37=1,Prob_Marj!C71>0),1,0)","v":0},{"$f":"IF(AND(EBP_Matrix!U37=1,Prob_Marj!C71>0),1,0)","v":0},{"$f":"IF(AND(EBP_Matrix!V37=1,Prob_Tob!C71>0),1,0)","v":0},{"$f":"IF(AND(EBP_Matrix!V37=1,Prob_Tob!C71>0),1,0)","v":0},{"$f":"IF(AND(EBP_Matrix!V37=1,Prob_Tob!C71>0),1,0)","v":0},{"$f":"IF(AND(EBP_Matrix!V37=1,Prob_Tob!C71>0),1,0)","v":0},{"$f":"IF(AND(EBP_Matrix!V37=1,Prob_Tob!C71>0),1,0)","v":0},{"$f":"IF(AND(EBP_Matrix!V37=1,Prob_Tob!C71>0),1,0)","v":0},{"$f":"IF(AND(EBP_Matrix!W37=1,Prob_RxDrugs!C31>0),1,0)","v":0},{"$f":"IF(AND(EBP_Matrix!W37=1,Prob_RxDrugs!C31>0),1,0)","v":0},null,{"$f":"IF(AND(EBP_Matrix!X37=1,Prob_Other!C21>0),1,0)","v":0},{"$f":"IF(AND(EBP_Matrix!Y37=1,Risk_Alc!$J$259=1),1,0)","v":0},{"$f":"IF(AND(EBP_Matrix!Z37=1,Risk_Marj!$J$224=1),1,0)","v":0},{"$f":"IF(AND(EBP_Matrix!AA37=1,Risk_Tob!$J$217=1),1,0)","v":0},{"$f":"IF(AND(EBP_Matrix!AB37=1,Risk_RxDrugs!$J$217=1),1,0)","v":0},{"$f":"IF(AND(EBP_Matrix!AC37=1,Risk_Other!$J$217=1),1,0)","v":0},{"$f":"IF(AND(EBP_Matrix!AD37=1,Risk_Alc!$J$260=1),1,0)","v":0},{"$f":"IF(AND(EBP_Matrix!AE37=1,Risk_Marj!$J$225=1),1,0)","v":0},{"$f":"IF(AND(EBP_Matrix!AF37=1,Risk_Tob!$J$218=1),1,0)","v":0},{"$f":"IF(AND(EBP_Matrix!AG37=1,Risk_RxDrugs!$J$218=1),1,0)","v":0},{"$f":"IF(AND(EBP_Matrix!AH37=1,Risk_Other!$J$218=1),1,0)","v":0},{"$f":"IF(AND(EBP_Matrix!AI37=1,Risk_Alc!$J$261=1),1,0)","v":0},{"$f":"IF(AND(EBP_Matrix!AJ37=1,Risk_Marj!$J$226=1),1,0)","v":0},{"$f":"IF(AND(EBP_Matrix!AK37=1,Risk_Tob!$J$219=1),1,0)","v":0},{"$f":"IF(AND(EBP_Matrix!AL37=1,Risk_RxDrugs!$J$219=1),1,0)","v":0},{"$f":"IF(AND(EBP_Matrix!AM37=1,Risk_Other!$J$219=1),1,0)","v":0},{"$f":"IF(AND(EBP_Matrix!AN37=1,Risk_Alc!$J$262=1),1,0)","v":0},{"$f":"IF(AND(EBP_Matrix!AO37=1,Risk_Marj!$J$227=1),1,0)","v":0},{"$f":"IF(AND(EBP_Matrix!AP37=1,Risk_Tob!$J$220=1),1,0)","v":0},{"$f":"IF(AND(EBP_Matrix!AQ37=1,Risk_RxDrugs!$J$220=1),1,0)","v":0},{"$f":"IF(AND(EBP_Matrix!AR37=1,Risk_Other!$J$220=1),1,0)","v":0},{"$f":"IF(AND(EBP_Matrix!AS37=1,Risk_Alc!$J$263=1),1,0)","v":0},{"$f":"IF(AND(EBP_Matrix!AT37=1,Risk_Marj!$J$228=1),1,0)","v":0},{"$f":"IF(AND(EBP_Matrix!AU37=1,Risk_Tob!$J$221=1),1,0)","v":0},{"$f":"IF(AND(EBP_Matrix!AV37=1,Risk_RxDrugs!$J$221=1),1,0)","v":0},{"$f":"IF(AND(EBP_Matrix!AW37=1,Risk_Other!$J$221=1),1,0)","v":0},{"$f":"IF(AND(EBP_Matrix!AX37=1,Risk_Alc!$J$264=1),1,0)","v":0},{"$f":"IF(AND(EBP_Matrix!AY37=1,Risk_Marj!$J$229=1),1,0)","v":0},{"$f":"IF(AND(EBP_Matrix!AZ37=1,Risk_Tob!$J$222=1),1,0)","v":0},{"$f":"IF(AND(EBP_Matrix!BA37=1,Risk_RxDrugs!$J$222=1),1,0)","v":0},{"$f":"IF(AND(EBP_Matrix!BB37=1,Risk_Other!$J$222=1),1,0)","v":0},{"$f":"IF(AND(EBP_Matrix!BC37=1,Risk_Alc!$J$265=1),1,0)","v":0},{"$f":"IF(AND(EBP_Matrix!BD37=1,Risk_Marj!$J$230=1),1,0)","v":0},{"$f":"IF(AND(EBP_Matrix!BE37=1,Risk_Tob!$J$223=1),1,0)","v":0},{"$f":"IF(AND(EBP_Matrix!BF37=1,Risk_RxDrugs!$J$223=1),1,0)","v":0},{"$f":"IF(AND(EBP_Matrix!BG37=1,Risk_Other!$J$223=1),1,0)","v":0},{"$f":"IF(AND(EBP_Matrix!BH37=1,Risk_Alc!$J$266=1),1,0)","v":0},{"$f":"IF(AND(EBP_Matrix!BI37=1,Risk_Marj!$J$231=1),1,0)","v":0},{"$f":"IF(AND(EBP_Matrix!BJ37=1,Risk_Tob!$J$224=1),1,0)","v":0},{"$f":"IF(AND(EBP_Matrix!BK37=1,Risk_RxDrugs!$J$224=1),1,0)","v":0},{"$f":"IF(AND(EBP_Matrix!BL37=1,Risk_Other!$J$224=1),1,0)","v":0},{"$f":"IF(AND(EBP_Matrix!BM37=1,Risk_Alc!$J$267=1),1,0)","v":0},{"$f":"IF(AND(EBP_Matrix!BN37=1,Risk_Marj!$J$232=1),1,0)","v":0},{"$f":"IF(AND(EBP_Matrix!BO37=1,Risk_Tob!$J$225=1),1,0)","v":0},{"$f":"IF(AND(EBP_Matrix!BP37=1,Risk_RxDrugs!$J$225=1),1,0)","v":0},{"$f":"IF(AND(EBP_Matrix!BQ37=1,Risk_Other!$J$225=1),1,0)","v":0},{"$f":"IF(AND(EBP_Matrix!BR37=1,Risk_Alc!$J$268=1),1,0)","v":0},{"$f":"IF(AND(EBP_Matrix!BS37=1,Risk_Marj!$J$233=1),1,0)","v":0},{"$f":"IF(AND(EBP_Matrix!BT37=1,Risk_Tob!$J$226=1),1,0)","v":0},{"$f":"IF(AND(EBP_Matrix!BU37=1,Risk_RxDrugs!$J$226=1),1,0)","v":0},{"$f":"IF(AND(EBP_Matrix!BV37=1,Risk_Other!$J$226=1),1,0)","v":0},{"$f":"IF(AND(EBP_Matrix!BW37=1,Risk_Alc!$J$269=1),1,0)","v":0},{"$f":"IF(AND(EBP_Matrix!BX37=1,Risk_Marj!$J$234=1),1,0)","v":0},{"$f":"IF(AND(EBP_Matrix!BY37=1,Risk_Tob!$J$227=1),1,0)","v":0},{"$f":"IF(AND(EBP_Matrix!BZ37=1,Risk_RxDrugs!$J$227=1),1,0)","v":0},{"$f":"IF(AND(EBP_Matrix!CA37=1,Risk_Other!$J$227=1),1,0)","v":0},{"$f":"IF(AND(EBP_Matrix!CB37=1,Risk_Alc!$J$270=1),1,0)","v":0},{"$f":"IF(AND(EBP_Matrix!CC37=1,Risk_Marj!$J$235=1),1,0)","v":0},{"$f":"IF(AND(EBP_Matrix!CD37=1,Risk_Tob!$J$228=1),1,0)","v":0},{"$f":"IF(AND(EBP_Matrix!CE37=1,Risk_RxDrugs!$J$228=1),1,0)","v":0},{"$f":"IF(AND(EBP_Matrix!CF37=1,Risk_Other!$J$228=1),1,0)","v":0},{"$f":"IF(AND(EBP_Matrix!CG37=1,Risk_Alc!$J$271=1),1,0)","v":0},{"$f":"IF(AND(EBP_Matrix!CH37=1,Risk_Marj!$J$236=1),1,0)","v":0},{"$f":"IF(AND(EBP_Matrix!CI37=1,Risk_Tob!$J$229=1),1,0)","v":0},{"$f":"IF(AND(EBP_Matrix!CJ37=1,Risk_RxDrugs!$J$229=1),1,0)","v":0},{"$f":"IF(AND(EBP_Matrix!CK37=1,Risk_Other!$J$229=1),1,0)","v":0},{"$f":"IF(AND(EBP_Matrix!CL37=1,Risk_Alc!$J$272=1),1,0)","v":0},{"$f":"IF(AND(EBP_Matrix!CM37=1,Risk_Marj!$J$237=1),1,0)","v":0},{"$f":"IF(AND(EBP_Matrix!CN37=1,Risk_Tob!$J$230=1),1,0)","v":0},{"$f":"IF(AND(EBP_Matrix!CO37=1,Risk_RxDrugs!$J$230=1),1,0)","v":0},{"$f":"IF(AND(EBP_Matrix!CP37=1,Risk_Other!$J$230=1),1,0)","v":0},0,0,0,0,0,0,0]
[{"$f":"EBP_Matrix!A38","v":"Prescription Drug Safe Storage/Lockboxes"},null,null,0,null,null,null,{"$f":"IF(AND(EBP_Matrix!T38=1,Prob_Alc!C71>0),1,0)","v":0},{"$f":"IF(AND(EBP_Matrix!T38=1,Prob_Alc!C71>0),1,0)","v":0},{"$f":"IF(AND(EBP_Matrix!T38=1,Prob_Alc!C71>0),1,0)","v":0},{"$f":"IF(AND(EBP_Matrix!T38=1,Prob_Alc!C71>0),1,0)","v":0},{"$f":"IF(AND(EBP_Matrix!T38=1,Prob_Alc!C71>0),1,0)","v":0},{"$f":"IF(AND(EBP_Matrix!T38=1,Prob_Alc!C71>0),1,0)","v":0},{"$f":"IF(AND(EBP_Matrix!T38=1,Prob_Alc!C71>0),1,0)","v":0},{"$f":"IF(AND(EBP_Matrix!T38=1,Prob_Alc!C71>0),1,0)","v":0},{"$f":"IF(AND(EBP_Matrix!U38=1,Prob_Marj!C71>0),1,0)","v":0},{"$f":"IF(AND(EBP_Matrix!U38=1,Prob_Marj!C71>0),1,0)","v":0},{"$f":"IF(AND(EBP_Matrix!U38=1,Prob_Marj!C71>0),1,0)","v":0},{"$f":"IF(AND(EBP_Matrix!U38=1,Prob_Marj!C71>0),1,0)","v":0},{"$f":"IF(AND(EBP_Matrix!V38=1,Prob_Tob!C71>0),1,0)","v":0},{"$f":"IF(AND(EBP_Matrix!V38=1,Prob_Tob!C71>0),1,0)","v":0},{"$f":"IF(AND(EBP_Matrix!V38=1,Prob_Tob!C71>0),1,0)","v":0},{"$f":"IF(AND(EBP_Matrix!V38=1,Prob_Tob!C71>0),1,0)","v":0},{"$f":"IF(AND(EBP_Matrix!V38=1,Prob_Tob!C71>0),1,0)","v":0},{"$f":"IF(AND(EBP_Matrix!V38=1,Prob_Tob!C71>0),1,0)","v":0},{"$f":"IF(AND(EBP_Matrix!W38=1,Prob_RxDrugs!C31>0),1,0)","v":0},{"$f":"IF(AND(EBP_Matrix!W38=1,Prob_RxDrugs!C31>0),1,0)","v":0},null,{"$f":"IF(AND(EBP_Matrix!X38=1,Prob_Other!C21>0),1,0)","v":0},{"$f":"IF(AND(EBP_Matrix!Y38=1,Risk_Alc!$J$259=1),1,0)","v":0},{"$f":"IF(AND(EBP_Matrix!Z38=1,Risk_Marj!$J$224=1),1,0)","v":0},{"$f":"IF(AND(EBP_Matrix!AA38=1,Risk_Tob!$J$217=1),1,0)","v":0},{"$f":"IF(AND(EBP_Matrix!AB38=1,Risk_RxDrugs!$J$217=1),1,0)","v":0},{"$f":"IF(AND(EBP_Matrix!AC38=1,Risk_Other!$J$217=1),1,0)","v":0},{"$f":"IF(AND(EBP_Matrix!AD38=1,Risk_Alc!$J$260=1),1,0)","v":0},{"$f":"IF(AND(EBP_Matrix!AE38=1,Risk_Marj!$J$225=1),1,0)","v":0},{"$f":"IF(AND(EBP_Matrix!AF38=1,Risk_Tob!$J$218=1),1,0)","v":0},{"$f":"IF(AND(EBP_Matrix!AG38=1,Risk_RxDrugs!$J$218=1),1,0)","v":0},{"$f":"IF(AND(EBP_Matrix!AH38=1,Risk_Other!$J$218=1),1,0)","v":0},{"$f":"IF(AND(EBP_Matrix!AI38=1,Risk_Alc!$J$261=1),1,0)","v":0},{"$f":"IF(AND(EBP_Matrix!AJ38=1,Risk_Marj!$J$226=1),1,0)","v":0},{"$f":"IF(AND(EBP_Matrix!AK38=1,Risk_Tob!$J$219=1),1,0)","v":0},{"$f":"IF(AND(EBP_Matrix!AL38=1,Risk_RxDrugs!$J$219=1),1,0)","v":0},{"$f":"IF(AND(EBP_Matrix!AM38=1,Risk_Other!$J$219=1),1,0)","v":0},{"$f":"IF(AND(EBP_Matrix!AN38=1,Risk_Alc!$J$262=1),1,0)","v":0},{"$f":"IF(AND(EBP_Matrix!AO38=1,Risk_Marj!$J$227=1),1,0)","v":0},{"$f":"IF(AND(EBP_Matrix!AP38=1,Risk_Tob!$J$220=1),1,0)","v":0},{"$f":"IF(AND(EBP_Matrix!AQ38=1,Risk_RxDrugs!$J$220=1),1,0)","v":0},{"$f":"IF(AND(EBP_Matrix!AR38=1,Risk_Other!$J$220=1),1,0)","v":0},{"$f":"IF(AND(EBP_Matrix!AS38=1,Risk_Alc!$J$263=1),1,0)","v":0},{"$f":"IF(AND(EBP_Matrix!AT38=1,Risk_Marj!$J$228=1),1,0)","v":0},{"$f":"IF(AND(EBP_Matrix!AU38=1,Risk_Tob!$J$221=1),1,0)","v":0},{"$f":"IF(AND(EBP_Matrix!AV38=1,Risk_RxDrugs!$J$221=1),1,0)","v":0},{"$f":"IF(AND(EBP_Matrix!AW38=1,Risk_Other!$J$221=1),1,0)","v":0},{"$f":"IF(AND(EBP_Matrix!AX38=1,Risk_Alc!$J$264=1),1,0)","v":0},{"$f":"IF(AND(EBP_Matrix!AY38=1,Risk_Marj!$J$229=1),1,0)","v":0},{"$f":"IF(AND(EBP_Matrix!AZ38=1,Risk_Tob!$J$222=1),1,0)","v":0},{"$f":"IF(AND(EBP_Matrix!BA38=1,Risk_RxDrugs!$J$222=1),1,0)","v":0},{"$f":"IF(AND(EBP_Matrix!BB38=1,Risk_Other!$J$222=1),1,0)","v":0},{"$f":"IF(AND(EBP_Matrix!BC38=1,Risk_Alc!$J$265=1),1,0)","v":0},{"$f":"IF(AND(EBP_Matrix!BD38=1,Risk_Marj!$J$230=1),1,0)","v":0},{"$f":"IF(AND(EBP_Matrix!BE38=1,Risk_Tob!$J$223=1),1,0)","v":0},{"$f":"IF(AND(EBP_Matrix!BF38=1,Risk_RxDrugs!$J$223=1),1,0)","v":0},{"$f":"IF(AND(EBP_Matrix!BG38=1,Risk_Other!$J$223=1),1,0)","v":0},{"$f":"IF(AND(EBP_Matrix!BH38=1,Risk_Alc!$J$266=1),1,0)","v":0},{"$f":"IF(AND(EBP_Matrix!BI38=1,Risk_Marj!$J$231=1),1,0)","v":0},{"$f":"IF(AND(EBP_Matrix!BJ38=1,Risk_Tob!$J$224=1),1,0)","v":0},{"$f":"IF(AND(EBP_Matrix!BK38=1,Risk_RxDrugs!$J$224=1),1,0)","v":0},{"$f":"IF(AND(EBP_Matrix!BL38=1,Risk_Other!$J$224=1),1,0)","v":0},{"$f":"IF(AND(EBP_Matrix!BM38=1,Risk_Alc!$J$267=1),1,0)","v":0},{"$f":"IF(AND(EBP_Matrix!BN38=1,Risk_Marj!$J$232=1),1,0)","v":0},{"$f":"IF(AND(EBP_Matrix!BO38=1,Risk_Tob!$J$225=1),1,0)","v":0},{"$f":"IF(AND(EBP_Matrix!BP38=1,Risk_RxDrugs!$J$225=1),1,0)","v":0},{"$f":"IF(AND(EBP_Matrix!BQ38=1,Risk_Other!$J$225=1),1,0)","v":0},{"$f":"IF(AND(EBP_Matrix!BR38=1,Risk_Alc!$J$268=1),1,0)","v":0},{"$f":"IF(AND(EBP_Matrix!BS38=1,Risk_Marj!$J$233=1),1,0)","v":0},{"$f":"IF(AND(EBP_Matrix!BT38=1,Risk_Tob!$J$226=1),1,0)","v":0},{"$f":"IF(AND(EBP_Matrix!BU38=1,Risk_RxDrugs!$J$226=1),1,0)","v":0},{"$f":"IF(AND(EBP_Matrix!BV38=1,Risk_Other!$J$226=1),1,0)","v":0},{"$f":"IF(AND(EBP_Matrix!BW38=1,Risk_Alc!$J$269=1),1,0)","v":0},{"$f":"IF(AND(EBP_Matrix!BX38=1,Risk_Marj!$J$234=1),1,0)","v":0},{"$f":"IF(AND(EBP_Matrix!BY38=1,Risk_Tob!$J$227=1),1,0)","v":0},{"$f":"IF(AND(EBP_Matrix!BZ38=1,Risk_RxDrugs!$J$227=1),1,0)","v":0},{"$f":"IF(AND(EBP_Matrix!CA38=1,Risk_Other!$J$227=1),1,0)","v":0},{"$f":"IF(AND(EBP_Matrix!CB38=1,Risk_Alc!$J$270=1),1,0)","v":0},{"$f":"IF(AND(EBP_Matrix!CC38=1,Risk_Marj!$J$235=1),1,0)","v":0},{"$f":"IF(AND(EBP_Matrix!CD38=1,Risk_Tob!$J$228=1),1,0)","v":0},{"$f":"IF(AND(EBP_Matrix!CE38=1,Risk_RxDrugs!$J$228=1),1,0)","v":0},{"$f":"IF(AND(EBP_Matrix!CF38=1,Risk_Other!$J$228=1),1,0)","v":0},{"$f":"IF(AND(EBP_Matrix!CG38=1,Risk_Alc!$J$271=1),1,0)","v":0},{"$f":"IF(AND(EBP_Matrix!CH38=1,Risk_Marj!$J$236=1),1,0)","v":0},{"$f":"IF(AND(EBP_Matrix!CI38=1,Risk_Tob!$J$229=1),1,0)","v":0},{"$f":"IF(AND(EBP_Matrix!CJ38=1,Risk_RxDrugs!$J$229=1),1,0)","v":0},{"$f":"IF(AND(EBP_Matrix!CK38=1,Risk_Other!$J$229=1),1,0)","v":0},{"$f":"IF(AND(EBP_Matrix!CL38=1,Risk_Alc!$J$272=1),1,0)","v":0},{"$f":"IF(AND(EBP_Matrix!CM38=1,Risk_Marj!$J$237=1),1,0)","v":0},{"$f":"IF(AND(EBP_Matrix!CN38=1,Risk_Tob!$J$230=1),1,0)","v":0},{"$f":"IF(AND(EBP_Matrix!CO38=1,Risk_RxDrugs!$J$230=1),1,0)","v":0},{"$f":"IF(AND(EBP_Matrix!CP38=1,Risk_Other!$J$230=1),1,0)","v":0},0,0,0,0,0,0,0]
[{"$f":"EBP_Matrix!A39","v":"PRIME For Life"},null,null,0,null,null,null,{"$f":"IF(AND(EBP_Matrix!T39=1,Prob_Alc!C71>0),1,0)","v":0},{"$f":"IF(AND(EBP_Matrix!T39=1,Prob_Alc!C71>0),1,0)","v":0},{"$f":"IF(AND(EBP_Matrix!T39=1,Prob_Alc!C71>0),1,0)","v":0},{"$f":"IF(AND(EBP_Matrix!T39=1,Prob_Alc!C71>0),1,0)","v":0},{"$f":"IF(AND(EBP_Matrix!T39=1,Prob_Alc!C71>0),1,0)","v":0},{"$f":"IF(AND(EBP_Matrix!T39=1,Prob_Alc!C71>0),1,0)","v":0},{"$f":"IF(AND(EBP_Matrix!T39=1,Prob_Alc!C71>0),1,0)","v":0},{"$f":"IF(AND(EBP_Matrix!T39=1,Prob_Alc!C71>0),1,0)","v":0},{"$f":"IF(AND(EBP_Matrix!U39=1,Prob_Marj!C71>0),1,0)","v":0},{"$f":"IF(AND(EBP_Matrix!U39=1,Prob_Marj!C71>0),1,0)","v":0},{"$f":"IF(AND(EBP_Matrix!U39=1,Prob_Marj!C71>0),1,0)","v":0},{"$f":"IF(AND(EBP_Matrix!U39=1,Prob_Marj!C71>0),1,0)","v":0},{"$f":"IF(AND(EBP_Matrix!V39=1,Prob_Tob!C71>0),1,0)","v":0},{"$f":"IF(AND(EBP_Matrix!V39=1,Prob_Tob!C71>0),1,0)","v":0},{"$f":"IF(AND(EBP_Matrix!V39=1,Prob_Tob!C71>0),1,0)","v":0},{"$f":"IF(AND(EBP_Matrix!V39=1,Prob_Tob!C71>0),1,0)","v":0},{"$f":"IF(AND(EBP_Matrix!V39=1,Prob_Tob!C71>0),1,0)","v":0},{"$f":"IF(AND(EBP_Matrix!V39=1,Prob_Tob!C71>0),1,0)","v":0},{"$f":"IF(AND(EBP_Matrix!W39=1,Prob_RxDrugs!C31>0),1,0)","v":0},{"$f":"IF(AND(EBP_Matrix!W39=1,Prob_RxDrugs!C31>0),1,0)","v":0},null,{"$f":"IF(AND(EBP_Matrix!X39=1,Prob_Other!C21>0),1,0)","v":0},{"$f":"IF(AND(EBP_Matrix!Y39=1,Risk_Alc!$J$259=1),1,0)","v":0},{"$f":"IF(AND(EBP_Matrix!Z39=1,Risk_Marj!$J$224=1),1,0)","v":0},{"$f":"IF(AND(EBP_Matrix!AA39=1,Risk_Tob!$J$217=1),1,0)","v":0},{"$f":"IF(AND(EBP_Matrix!AB39=1,Risk_RxDrugs!$J$217=1),1,0)","v":0},{"$f":"IF(AND(EBP_Matrix!AC39=1,Risk_Other!$J$217=1),1,0)","v":0},{"$f":"IF(AND(EBP_Matrix!AD39=1,Risk_Alc!$J$260=1),1,0)","v":0},{"$f":"IF(AND(EBP_Matrix!AE39=1,Risk_Marj!$J$225=1),1,0)","v":0},{"$f":"IF(AND(EBP_Matrix!AF39=1,Risk_Tob!$J$218=1),1,0)","v":0},{"$f":"IF(AND(EBP_Matrix!AG39=1,Risk_RxDrugs!$J$218=1),1,0)","v":0},{"$f":"IF(AND(EBP_Matrix!AH39=1,Risk_Other!$J$218=1),1,0)","v":0},{"$f":"IF(AND(EBP_Matrix!AI39=1,Risk_Alc!$J$261=1),1,0)","v":0},{"$f":"IF(AND(EBP_Matrix!AJ39=1,Risk_Marj!$J$226=1),1,0)","v":0},{"$f":"IF(AND(EBP_Matrix!AK39=1,Risk_Tob!$J$219=1),1,0)","v":0},{"$f":"IF(AND(EBP_Matrix!AL39=1,Risk_RxDrugs!$J$219=1),1,0)","v":0},{"$f":"IF(AND(EBP_Matrix!AM39=1,Risk_Other!$J$219=1),1,0)","v":0},{"$f":"IF(AND(EBP_Matrix!AN39=1,Risk_Alc!$J$262=1),1,0)","v":0},{"$f":"IF(AND(EBP_Matrix!AO39=1,Risk_Marj!$J$227=1),1,0)","v":0},{"$f":"IF(AND(EBP_Matrix!AP39=1,Risk_Tob!$J$220=1),1,0)","v":0},{"$f":"IF(AND(EBP_Matrix!AQ39=1,Risk_RxDrugs!$J$220=1),1,0)","v":0},{"$f":"IF(AND(EBP_Matrix!AR39=1,Risk_Other!$J$220=1),1,0)","v":0},{"$f":"IF(AND(EBP_Matrix!AS39=1,Risk_Alc!$J$263=1),1,0)","v":0},{"$f":"IF(AND(EBP_Matrix!AT39=1,Risk_Marj!$J$228=1),1,0)","v":0},{"$f":"IF(AND(EBP_Matrix!AU39=1,Risk_Tob!$J$221=1),1,0)","v":0},{"$f":"IF(AND(EBP_Matrix!AV39=1,Risk_RxDrugs!$J$221=1),1,0)","v":0},{"$f":"IF(AND(EBP_Matrix!AW39=1,Risk_Other!$J$221=1),1,0)","v":0},{"$f":"IF(AND(EBP_Matrix!AX39=1,Risk_Alc!$J$264=1),1,0)","v":0},{"$f":"IF(AND(EBP_Matrix!AY39=1,Risk_Marj!$J$229=1),1,0)","v":0},{"$f":"IF(AND(EBP_Matrix!AZ39=1,Risk_Tob!$J$222=1),1,0)","v":0},{"$f":"IF(AND(EBP_Matrix!BA39=1,Risk_RxDrugs!$J$222=1),1,0)","v":0},{"$f":"IF(AND(EBP_Matrix!BB39=1,Risk_Other!$J$222=1),1,0)","v":0},{"$f":"IF(AND(EBP_Matrix!BC39=1,Risk_Alc!$J$265=1),1,0)","v":0},{"$f":"IF(AND(EBP_Matrix!BD39=1,Risk_Marj!$J$230=1),1,0)","v":0},{"$f":"IF(AND(EBP_Matrix!BE39=1,Risk_Tob!$J$223=1),1,0)","v":0},{"$f":"IF(AND(EBP_Matrix!BF39=1,Risk_RxDrugs!$J$223=1),1,0)","v":0},{"$f":"IF(AND(EBP_Matrix!BG39=1,Risk_Other!$J$223=1),1,0)","v":0},{"$f":"IF(AND(EBP_Matrix!BH39=1,Risk_Alc!$J$266=1),1,0)","v":0},{"$f":"IF(AND(EBP_Matrix!BI39=1,Risk_Marj!$J$231=1),1,0)","v":0},{"$f":"IF(AND(EBP_Matrix!BJ39=1,Risk_Tob!$J$224=1),1,0)","v":0},{"$f":"IF(AND(EBP_Matrix!BK39=1,Risk_RxDrugs!$J$224=1),1,0)","v":0},{"$f":"IF(AND(EBP_Matrix!BL39=1,Risk_Other!$J$224=1),1,0)","v":0},{"$f":"IF(AND(EBP_Matrix!BM39=1,Risk_Alc!$J$267=1),1,0)","v":0},{"$f":"IF(AND(EBP_Matrix!BN39=1,Risk_Marj!$J$232=1),1,0)","v":0},{"$f":"IF(AND(EBP_Matrix!BO39=1,Risk_Tob!$J$225=1),1,0)","v":0},{"$f":"IF(AND(EBP_Matrix!BP39=1,Risk_RxDrugs!$J$225=1),1,0)","v":0},{"$f":"IF(AND(EBP_Matrix!BQ39=1,Risk_Other!$J$225=1),1,0)","v":0},{"$f":"IF(AND(EBP_Matrix!BR39=1,Risk_Alc!$J$268=1),1,0)","v":0},{"$f":"IF(AND(EBP_Matrix!BS39=1,Risk_Marj!$J$233=1),1,0)","v":0},{"$f":"IF(AND(EBP_Matrix!BT39=1,Risk_Tob!$J$226=1),1,0)","v":0},{"$f":"IF(AND(EBP_Matrix!BU39=1,Risk_RxDrugs!$J$226=1),1,0)","v":0},{"$f":"IF(AND(EBP_Matrix!BV39=1,Risk_Other!$J$226=1),1,0)","v":0},{"$f":"IF(AND(EBP_Matrix!BW39=1,Risk_Alc!$J$269=1),1,0)","v":0},{"$f":"IF(AND(EBP_Matrix!BX39=1,Risk_Marj!$J$234=1),1,0)","v":0},{"$f":"IF(AND(EBP_Matrix!BY39=1,Risk_Tob!$J$227=1),1,0)","v":0},{"$f":"IF(AND(EBP_Matrix!BZ39=1,Risk_RxDrugs!$J$227=1),1,0)","v":0},{"$f":"IF(AND(EBP_Matrix!CA39=1,Risk_Other!$J$227=1),1,0)","v":0},{"$f":"IF(AND(EBP_Matrix!CB39=1,Risk_Alc!$J$270=1),1,0)","v":0},{"$f":"IF(AND(EBP_Matrix!CC39=1,Risk_Marj!$J$235=1),1,0)","v":0},{"$f":"IF(AND(EBP_Matrix!CD39=1,Risk_Tob!$J$228=1),1,0)","v":0},{"$f":"IF(AND(EBP_Matrix!CE39=1,Risk_RxDrugs!$J$228=1),1,0)","v":0},{"$f":"IF(AND(EBP_Matrix!CF39=1,Risk_Other!$J$228=1),1,0)","v":0},{"$f":"IF(AND(EBP_Matrix!CG39=1,Risk_Alc!$J$271=1),1,0)","v":0},{"$f":"IF(AND(EBP_Matrix!CH39=1,Risk_Marj!$J$236=1),1,0)","v":0},{"$f":"IF(AND(EBP_Matrix!CI39=1,Risk_Tob!$J$229=1),1,0)","v":0},{"$f":"IF(AND(EBP_Matrix!CJ39=1,Risk_RxDrugs!$J$229=1),1,0)","v":0},{"$f":"IF(AND(EBP_Matrix!CK39=1,Risk_Other!$J$229=1),1,0)","v":0},{"$f":"IF(AND(EBP_Matrix!CL39=1,Risk_Alc!$J$272=1),1,0)","v":0},{"$f":"IF(AND(EBP_Matrix!CM39=1,Risk_Marj!$J$237=1),1,0)","v":0},{"$f":"IF(AND(EBP_Matrix!CN39=1,Risk_Tob!$J$230=1),1,0)","v":0},{"$f":"IF(AND(EBP_Matrix!CO39=1,Risk_RxDrugs!$J$230=1),1,0)","v":0},{"$f":"IF(AND(EBP_Matrix!CP39=1,Risk_Other!$J$230=1),1,0)","v":0},0,0,0,0,0,0,0]
[{"$f":"EBP_Matrix!A40","v":"Project Northland"},null,null,0,null,null,null,{"$f":"IF(AND(EBP_Matrix!T40=1,Prob_Alc!C71>0),1,0)","v":0},{"$f":"IF(AND(EBP_Matrix!T40=1,Prob_Alc!C71>0),1,0)","v":0},{"$f":"IF(AND(EBP_Matrix!T40=1,Prob_Alc!C71>0),1,0)","v":0},{"$f":"IF(AND(EBP_Matrix!T40=1,Prob_Alc!C71>0),1,0)","v":0},{"$f":"IF(AND(EBP_Matrix!T40=1,Prob_Alc!C71>0),1,0)","v":0},{"$f":"IF(AND(EBP_Matrix!T40=1,Prob_Alc!C71>0),1,0)","v":0},{"$f":"IF(AND(EBP_Matrix!T40=1,Prob_Alc!C71>0),1,0)","v":0},{"$f":"IF(AND(EBP_Matrix!T40=1,Prob_Alc!C71>0),1,0)","v":0},{"$f":"IF(AND(EBP_Matrix!U40=1,Prob_Marj!C71>0),1,0)","v":0},{"$f":"IF(AND(EBP_Matrix!U40=1,Prob_Marj!C71>0),1,0)","v":0},{"$f":"IF(AND(EBP_Matrix!U40=1,Prob_Marj!C71>0),1,0)","v":0},{"$f":"IF(AND(EBP_Matrix!U40=1,Prob_Marj!C71>0),1,0)","v":0},{"$f":"IF(AND(EBP_Matrix!V40=1,Prob_Tob!C71>0),1,0)","v":0},{"$f":"IF(AND(EBP_Matrix!V40=1,Prob_Tob!C71>0),1,0)","v":0},{"$f":"IF(AND(EBP_Matrix!V40=1,Prob_Tob!C71>0),1,0)","v":0},{"$f":"IF(AND(EBP_Matrix!V40=1,Prob_Tob!C71>0),1,0)","v":0},{"$f":"IF(AND(EBP_Matrix!V40=1,Prob_Tob!C71>0),1,0)","v":0},{"$f":"IF(AND(EBP_Matrix!V40=1,Prob_Tob!C71>0),1,0)","v":0},{"$f":"IF(AND(EBP_Matrix!W40=1,Prob_RxDrugs!C31>0),1,0)","v":0},{"$f":"IF(AND(EBP_Matrix!W40=1,Prob_RxDrugs!C31>0),1,0)","v":0},null,{"$f":"IF(AND(EBP_Matrix!X40=1,Prob_Other!C21>0),1,0)","v":0},{"$f":"IF(AND(EBP_Matrix!Y40=1,Risk_Alc!$J$259=1),1,0)","v":0},{"$f":"IF(AND(EBP_Matrix!Z40=1,Risk_Marj!$J$224=1),1,0)","v":0},{"$f":"IF(AND(EBP_Matrix!AA40=1,Risk_Tob!$J$217=1),1,0)","v":0},{"$f":"IF(AND(EBP_Matrix!AB40=1,Risk_RxDrugs!$J$217=1),1,0)","v":0},{"$f":"IF(AND(EBP_Matrix!AC40=1,Risk_Other!$J$217=1),1,0)","v":0},{"$f":"IF(AND(EBP_Matrix!AD40=1,Risk_Alc!$J$260=1),1,0)","v":0},{"$f":"IF(AND(EBP_Matrix!AE40=1,Risk_Marj!$J$225=1),1,0)","v":0},{"$f":"IF(AND(EBP_Matrix!AF40=1,Risk_Tob!$J$218=1),1,0)","v":0},{"$f":"IF(AND(EBP_Matrix!AG40=1,Risk_RxDrugs!$J$218=1),1,0)","v":0},{"$f":"IF(AND(EBP_Matrix!AH40=1,Risk_Other!$J$218=1),1,0)","v":0},{"$f":"IF(AND(EBP_Matrix!AI40=1,Risk_Alc!$J$261=1),1,0)","v":0},{"$f":"IF(AND(EBP_Matrix!AJ40=1,Risk_Marj!$J$226=1),1,0)","v":0},{"$f":"IF(AND(EBP_Matrix!AK40=1,Risk_Tob!$J$219=1),1,0)","v":0},{"$f":"IF(AND(EBP_Matrix!AL40=1,Risk_RxDrugs!$J$219=1),1,0)","v":0},{"$f":"IF(AND(EBP_Matrix!AM40=1,Risk_Other!$J$219=1),1,0)","v":0},{"$f":"IF(AND(EBP_Matrix!AN40=1,Risk_Alc!$J$262=1),1,0)","v":0},{"$f":"IF(AND(EBP_Matrix!AO40=1,Risk_Marj!$J$227=1),1,0)","v":0},{"$f":"IF(AND(EBP_Matrix!AP40=1,Risk_Tob!$J$220=1),1,0)","v":0},{"$f":"IF(AND(EBP_Matrix!AQ40=1,Risk_RxDrugs!$J$220=1),1,0)","v":0},{"$f":"IF(AND(EBP_Matrix!AR40=1,Risk_Other!$J$220=1),1,0)","v":0},{"$f":"IF(AND(EBP_Matrix!AS40=1,Risk_Alc!$J$263=1),1,0)","v":0},{"$f":"IF(AND(EBP_Matrix!AT40=1,Risk_Marj!$J$228=1),1,0)","v":0},{"$f":"IF(AND(EBP_Matrix!AU40=1,Risk_Tob!$J$221=1),1,0)","v":0},{"$f":"IF(AND(EBP_Matrix!AV40=1,Risk_RxDrugs!$J$221=1),1,0)","v":0},{"$f":"IF(AND(EBP_Matrix!AW40=1,Risk_Other!$J$221=1),1,0)","v":0},{"$f":"IF(AND(EBP_Matrix!AX40=1,Risk_Alc!$J$264=1),1,0)","v":0},{"$f":"IF(AND(EBP_Matrix!AY40=1,Risk_Marj!$J$229=1),1,0)","v":0},{"$f":"IF(AND(EBP_Matrix!AZ40=1,Risk_Tob!$J$222=1),1,0)","v":0},{"$f":"IF(AND(EBP_Matrix!BA40=1,Risk_RxDrugs!$J$222=1),1,0)","v":0},{"$f":"IF(AND(EBP_Matrix!BB40=1,Risk_Other!$J$222=1),1,0)","v":0},{"$f":"IF(AND(EBP_Matrix!BC40=1,Risk_Alc!$J$265=1),1,0)","v":0},{"$f":"IF(AND(EBP_Matrix!BD40=1,Risk_Marj!$J$230=1),1,0)","v":0},{"$f":"IF(AND(EBP_Matrix!BE40=1,Risk_Tob!$J$223=1),1,0)","v":0},{"$f":"IF(AND(EBP_Matrix!BF40=1,Risk_RxDrugs!$J$223=1),1,0)","v":0},{"$f":"IF(AND(EBP_Matrix!BG40=1,Risk_Other!$J$223=1),1,0)","v":0},{"$f":"IF(AND(EBP_Matrix!BH40=1,Risk_Alc!$J$266=1),1,0)","v":0},{"$f":"IF(AND(EBP_Matrix!BI40=1,Risk_Marj!$J$231=1),1,0)","v":0},{"$f":"IF(AND(EBP_Matrix!BJ40=1,Risk_Tob!$J$224=1),1,0)","v":0},{"$f":"IF(AND(EBP_Matrix!BK40=1,Risk_RxDrugs!$J$224=1),1,0)","v":0},{"$f":"IF(AND(EBP_Matrix!BL40=1,Risk_Other!$J$224=1),1,0)","v":0},{"$f":"IF(AND(EBP_Matrix!BM40=1,Risk_Alc!$J$267=1),1,0)","v":0},{"$f":"IF(AND(EBP_Matrix!BN40=1,Risk_Marj!$J$232=1),1,0)","v":0},{"$f":"IF(AND(EBP_Matrix!BO40=1,Risk_Tob!$J$225=1),1,0)","v":0},{"$f":"IF(AND(EBP_Matrix!BP40=1,Risk_RxDrugs!$J$225=1),1,0)","v":0},{"$f":"IF(AND(EBP_Matrix!BQ40=1,Risk_Other!$J$225=1),1,0)","v":0},{"$f":"IF(AND(EBP_Matrix!BR40=1,Risk_Alc!$J$268=1),1,0)","v":0},{"$f":"IF(AND(EBP_Matrix!BS40=1,Risk_Marj!$J$233=1),1,0)","v":0},{"$f":"IF(AND(EBP_Matrix!BT40=1,Risk_Tob!$J$226=1),1,0)","v":0},{"$f":"IF(AND(EBP_Matrix!BU40=1,Risk_RxDrugs!$J$226=1),1,0)","v":0},{"$f":"IF(AND(EBP_Matrix!BV40=1,Risk_Other!$J$226=1),1,0)","v":0},{"$f":"IF(AND(EBP_Matrix!BW40=1,Risk_Alc!$J$269=1),1,0)","v":0},{"$f":"IF(AND(EBP_Matrix!BX40=1,Risk_Marj!$J$234=1),1,0)","v":0},{"$f":"IF(AND(EBP_Matrix!BY40=1,Risk_Tob!$J$227=1),1,0)","v":0},{"$f":"IF(AND(EBP_Matrix!BZ40=1,Risk_RxDrugs!$J$227=1),1,0)","v":0},{"$f":"IF(AND(EBP_Matrix!CA40=1,Risk_Other!$J$227=1),1,0)","v":0},{"$f":"IF(AND(EBP_Matrix!CB40=1,Risk_Alc!$J$270=1),1,0)","v":0},{"$f":"IF(AND(EBP_Matrix!CC40=1,Risk_Marj!$J$235=1),1,0)","v":0},{"$f":"IF(AND(EBP_Matrix!CD40=1,Risk_Tob!$J$228=1),1,0)","v":0},{"$f":"IF(AND(EBP_Matrix!CE40=1,Risk_RxDrugs!$J$228=1),1,0)","v":0},{"$f":"IF(AND(EBP_Matrix!CF40=1,Risk_Other!$J$228=1),1,0)","v":0},{"$f":"IF(AND(EBP_Matrix!CG40=1,Risk_Alc!$J$271=1),1,0)","v":0},{"$f":"IF(AND(EBP_Matrix!CH40=1,Risk_Marj!$J$236=1),1,0)","v":0},{"$f":"IF(AND(EBP_Matrix!CI40=1,Risk_Tob!$J$229=1),1,0)","v":0},{"$f":"IF(AND(EBP_Matrix!CJ40=1,Risk_RxDrugs!$J$229=1),1,0)","v":0},{"$f":"IF(AND(EBP_Matrix!CK40=1,Risk_Other!$J$229=1),1,0)","v":0},{"$f":"IF(AND(EBP_Matrix!CL40=1,Risk_Alc!$J$272=1),1,0)","v":0},{"$f":"IF(AND(EBP_Matrix!CM40=1,Risk_Marj!$J$237=1),1,0)","v":0},{"$f":"IF(AND(EBP_Matrix!CN40=1,Risk_Tob!$J$230=1),1,0)","v":0},{"$f":"IF(AND(EBP_Matrix!CO40=1,Risk_RxDrugs!$J$230=1),1,0)","v":0},{"$f":"IF(AND(EBP_Matrix!CP40=1,Risk_Other!$J$230=1),1,0)","v":0},0,0,0,0,0,0,0]
[{"$f":"EBP_Matrix!A41","v":"QPR"},null,null,0,null,null,null,{"$f":"IF(AND(EBP_Matrix!T41=1,Prob_Alc!C71>0),1,0)","v":0},{"$f":"IF(AND(EBP_Matrix!T41=1,Prob_Alc!C71>0),1,0)","v":0},{"$f":"IF(AND(EBP_Matrix!T41=1,Prob_Alc!C71>0),1,0)","v":0},{"$f":"IF(AND(EBP_Matrix!T41=1,Prob_Alc!C71>0),1,0)","v":0},{"$f":"IF(AND(EBP_Matrix!T41=1,Prob_Alc!C71>0),1,0)","v":0},{"$f":"IF(AND(EBP_Matrix!T41=1,Prob_Alc!C71>0),1,0)","v":0},{"$f":"IF(AND(EBP_Matrix!T41=1,Prob_Alc!C71>0),1,0)","v":0},{"$f":"IF(AND(EBP_Matrix!T41=1,Prob_Alc!C71>0),1,0)","v":0},{"$f":"IF(AND(EBP_Matrix!U41=1,Prob_Marj!C71>0),1,0)","v":0},{"$f":"IF(AND(EBP_Matrix!U41=1,Prob_Marj!C71>0),1,0)","v":0},{"$f":"IF(AND(EBP_Matrix!U41=1,Prob_Marj!C71>0),1,0)","v":0},{"$f":"IF(AND(EBP_Matrix!U41=1,Prob_Marj!C71>0),1,0)","v":0},{"$f":"IF(AND(EBP_Matrix!V41=1,Prob_Tob!C71>0),1,0)","v":0},{"$f":"IF(AND(EBP_Matrix!V41=1,Prob_Tob!C71>0),1,0)","v":0},{"$f":"IF(AND(EBP_Matrix!V41=1,Prob_Tob!C71>0),1,0)","v":0},{"$f":"IF(AND(EBP_Matrix!V41=1,Prob_Tob!C71>0),1,0)","v":0},{"$f":"IF(AND(EBP_Matrix!V41=1,Prob_Tob!C71>0),1,0)","v":0},{"$f":"IF(AND(EBP_Matrix!V41=1,Prob_Tob!C71>0),1,0)","v":0},{"$f":"IF(AND(EBP_Matrix!W41=1,Prob_RxDrugs!C31>0),1,0)","v":0},{"$f":"IF(AND(EBP_Matrix!W41=1,Prob_RxDrugs!C31>0),1,0)","v":0},null,{"$f":"IF(AND(EBP_Matrix!X41=1,Prob_Other!C21>0),1,0)","v":0},{"$f":"IF(AND(EBP_Matrix!Y41=1,Risk_Alc!$J$259=1),1,0)","v":0},{"$f":"IF(AND(EBP_Matrix!Z41=1,Risk_Marj!$J$224=1),1,0)","v":0},{"$f":"IF(AND(EBP_Matrix!AA41=1,Risk_Tob!$J$217=1),1,0)","v":0},{"$f":"IF(AND(EBP_Matrix!AB41=1,Risk_RxDrugs!$J$217=1),1,0)","v":0},{"$f":"IF(AND(EBP_Matrix!AC41=1,Risk_Other!$J$217=1),1,0)","v":0},{"$f":"IF(AND(EBP_Matrix!AD41=1,Risk_Alc!$J$260=1),1,0)","v":0},{"$f":"IF(AND(EBP_Matrix!AE41=1,Risk_Marj!$J$225=1),1,0)","v":0},{"$f":"IF(AND(EBP_Matrix!AF41=1,Risk_Tob!$J$218=1),1,0)","v":0},{"$f":"IF(AND(EBP_Matrix!AG41=1,Risk_RxDrugs!$J$218=1),1,0)","v":0},{"$f":"IF(AND(EBP_Matrix!AH41=1,Risk_Other!$J$218=1),1,0)","v":0},{"$f":"IF(AND(EBP_Matrix!AI41=1,Risk_Alc!$J$261=1),1,0)","v":0},{"$f":"IF(AND(EBP_Matrix!AJ41=1,Risk_Marj!$J$226=1),1,0)","v":0},{"$f":"IF(AND(EBP_Matrix!AK41=1,Risk_Tob!$J$219=1),1,0)","v":0},{"$f":"IF(AND(EBP_Matrix!AL41=1,Risk_RxDrugs!$J$219=1),1,0)","v":0},{"$f":"IF(AND(EBP_Matrix!AM41=1,Risk_Other!$J$219=1),1,0)","v":0},{"$f":"IF(AND(EBP_Matrix!AN41=1,Risk_Alc!$J$262=1),1,0)","v":0},{"$f":"IF(AND(EBP_Matrix!AO41=1,Risk_Marj!$J$227=1),1,0)","v":0},{"$f":"IF(AND(EBP_Matrix!AP41=1,Risk_Tob!$J$220=1),1,0)","v":0},{"$f":"IF(AND(EBP_Matrix!AQ41=1,Risk_RxDrugs!$J$220=1),1,0)","v":0},{"$f":"IF(AND(EBP_Matrix!AR41=1,Risk_Other!$J$220=1),1,0)","v":0},{"$f":"IF(AND(EBP_Matrix!AS41=1,Risk_Alc!$J$263=1),1,0)","v":0},{"$f":"IF(AND(EBP_Matrix!AT41=1,Risk_Marj!$J$228=1),1,0)","v":0},{"$f":"IF(AND(EBP_Matrix!AU41=1,Risk_Tob!$J$221=1),1,0)","v":0},{"$f":"IF(AND(EBP_Matrix!AV41=1,Risk_RxDrugs!$J$221=1),1,0)","v":0},{"$f":"IF(AND(EBP_Matrix!AW41=1,Risk_Other!$J$221=1),1,0)","v":0},{"$f":"IF(AND(EBP_Matrix!AX41=1,Risk_Alc!$J$264=1),1,0)","v":0},{"$f":"IF(AND(EBP_Matrix!AY41=1,Risk_Marj!$J$229=1),1,0)","v":0},{"$f":"IF(AND(EBP_Matrix!AZ41=1,Risk_Tob!$J$222=1),1,0)","v":0},{"$f":"IF(AND(EBP_Matrix!BA41=1,Risk_RxDrugs!$J$222=1),1,0)","v":0},{"$f":"IF(AND(EBP_Matrix!BB41=1,Risk_Other!$J$222=1),1,0)","v":0},{"$f":"IF(AND(EBP_Matrix!BC41=1,Risk_Alc!$J$265=1),1,0)","v":0},{"$f":"IF(AND(EBP_Matrix!BD41=1,Risk_Marj!$J$230=1),1,0)","v":0},{"$f":"IF(AND(EBP_Matrix!BE41=1,Risk_Tob!$J$223=1),1,0)","v":0},{"$f":"IF(AND(EBP_Matrix!BF41=1,Risk_RxDrugs!$J$223=1),1,0)","v":0},{"$f":"IF(AND(EBP_Matrix!BG41=1,Risk_Other!$J$223=1),1,0)","v":0},{"$f":"IF(AND(EBP_Matrix!BH41=1,Risk_Alc!$J$266=1),1,0)","v":0},{"$f":"IF(AND(EBP_Matrix!BI41=1,Risk_Marj!$J$231=1),1,0)","v":0},{"$f":"IF(AND(EBP_Matrix!BJ41=1,Risk_Tob!$J$224=1),1,0)","v":0},{"$f":"IF(AND(EBP_Matrix!BK41=1,Risk_RxDrugs!$J$224=1),1,0)","v":0},{"$f":"IF(AND(EBP_Matrix!BL41=1,Risk_Other!$J$224=1),1,0)","v":0},{"$f":"IF(AND(EBP_Matrix!BM41=1,Risk_Alc!$J$267=1),1,0)","v":0},{"$f":"IF(AND(EBP_Matrix!BN41=1,Risk_Marj!$J$232=1),1,0)","v":0},{"$f":"IF(AND(EBP_Matrix!BO41=1,Risk_Tob!$J$225=1),1,0)","v":0},{"$f":"IF(AND(EBP_Matrix!BP41=1,Risk_RxDrugs!$J$225=1),1,0)","v":0},{"$f":"IF(AND(EBP_Matrix!BQ41=1,Risk_Other!$J$225=1),1,0)","v":0},{"$f":"IF(AND(EBP_Matrix!BR41=1,Risk_Alc!$J$268=1),1,0)","v":0},{"$f":"IF(AND(EBP_Matrix!BS41=1,Risk_Marj!$J$233=1),1,0)","v":0},{"$f":"IF(AND(EBP_Matrix!BT41=1,Risk_Tob!$J$226=1),1,0)","v":0},{"$f":"IF(AND(EBP_Matrix!BU41=1,Risk_RxDrugs!$J$226=1),1,0)","v":0},{"$f":"IF(AND(EBP_Matrix!BV41=1,Risk_Other!$J$226=1),1,0)","v":0},{"$f":"IF(AND(EBP_Matrix!BW41=1,Risk_Alc!$J$269=1),1,0)","v":0},{"$f":"IF(AND(EBP_Matrix!BX41=1,Risk_Marj!$J$234=1),1,0)","v":0},{"$f":"IF(AND(EBP_Matrix!BY41=1,Risk_Tob!$J$227=1),1,0)","v":0},{"$f":"IF(AND(EBP_Matrix!BZ41=1,Risk_RxDrugs!$J$227=1),1,0)","v":0},{"$f":"IF(AND(EBP_Matrix!CA41=1,Risk_Other!$J$227=1),1,0)","v":0},{"$f":"IF(AND(EBP_Matrix!CB41=1,Risk_Alc!$J$270=1),1,0)","v":0},{"$f":"IF(AND(EBP_Matrix!CC41=1,Risk_Marj!$J$235=1),1,0)","v":0},{"$f":"IF(AND(EBP_Matrix!CD41=1,Risk_Tob!$J$228=1),1,0)","v":0},{"$f":"IF(AND(EBP_Matrix!CE41=1,Risk_RxDrugs!$J$228=1),1,0)","v":0},{"$f":"IF(AND(EBP_Matrix!CF41=1,Risk_Other!$J$228=1),1,0)","v":0},{"$f":"IF(AND(EBP_Matrix!CG41=1,Risk_Alc!$J$271=1),1,0)","v":0},{"$f":"IF(AND(EBP_Matrix!CH41=1,Risk_Marj!$J$236=1),1,0)","v":0},{"$f":"IF(AND(EBP_Matrix!CI41=1,Risk_Tob!$J$229=1),1,0)","v":0},{"$f":"IF(AND(EBP_Matrix!CJ41=1,Risk_RxDrugs!$J$229=1),1,0)","v":0},{"$f":"IF(AND(EBP_Matrix!CK41=1,Risk_Other!$J$229=1),1,0)","v":0},{"$f":"IF(AND(EBP_Matrix!CL41=1,Risk_Alc!$J$272=1),1,0)","v":0},{"$f":"IF(AND(EBP_Matrix!CM41=1,Risk_Marj!$J$237=1),1,0)","v":0},{"$f":"IF(AND(EBP_Matrix!CN41=1,Risk_Tob!$J$230=1),1,0)","v":0},{"$f":"IF(AND(EBP_Matrix!CO41=1,Risk_RxDrugs!$J$230=1),1,0)","v":0},{"$f":"IF(AND(EBP_Matrix!CP41=1,Risk_Other!$J$230=1),1,0)","v":0},0,0,0,0,0,0,0]
[{"$f":"EBP_Matrix!A42","v":"Responsible Beverage Service Training"},null,null,0,null,null,null,{"$f":"IF(AND(EBP_Matrix!T42=1,Prob_Alc!C71>0),1,0)","v":0},{"$f":"IF(AND(EBP_Matrix!T42=1,Prob_Alc!C71>0),1,0)","v":0},{"$f":"IF(AND(EBP_Matrix!T42=1,Prob_Alc!C71>0),1,0)","v":0},{"$f":"IF(AND(EBP_Matrix!T42=1,Prob_Alc!C71>0),1,0)","v":0},{"$f":"IF(AND(EBP_Matrix!T42=1,Prob_Alc!C71>0),1,0)","v":0},{"$f":"IF(AND(EBP_Matrix!T42=1,Prob_Alc!C71>0),1,0)","v":0},{"$f":"IF(AND(EBP_Matrix!T42=1,Prob_Alc!C71>0),1,0)","v":0},{"$f":"IF(AND(EBP_Matrix!T42=1,Prob_Alc!C71>0),1,0)","v":0},{"$f":"IF(AND(EBP_Matrix!U42=1,Prob_Marj!C71>0),1,0)","v":0},{"$f":"IF(AND(EBP_Matrix!U42=1,Prob_Marj!C71>0),1,0)","v":0},{"$f":"IF(AND(EBP_Matrix!U42=1,Prob_Marj!C71>0),1,0)","v":0},{"$f":"IF(AND(EBP_Matrix!U42=1,Prob_Marj!C71>0),1,0)","v":0},{"$f":"IF(AND(EBP_Matrix!V42=1,Prob_Tob!C71>0),1,0)","v":0},{"$f":"IF(AND(EBP_Matrix!V42=1,Prob_Tob!C71>0),1,0)","v":0},{"$f":"IF(AND(EBP_Matrix!V42=1,Prob_Tob!C71>0),1,0)","v":0},{"$f":"IF(AND(EBP_Matrix!V42=1,Prob_Tob!C71>0),1,0)","v":0},{"$f":"IF(AND(EBP_Matrix!V42=1,Prob_Tob!C71>0),1,0)","v":0},{"$f":"IF(AND(EBP_Matrix!V42=1,Prob_Tob!C71>0),1,0)","v":0},{"$f":"IF(AND(EBP_Matrix!W42=1,Prob_RxDrugs!C31>0),1,0)","v":0},{"$f":"IF(AND(EBP_Matrix!W42=1,Prob_RxDrugs!C31>0),1,0)","v":0},null,{"$f":"IF(AND(EBP_Matrix!X42=1,Prob_Other!C21>0),1,0)","v":0},{"$f":"IF(AND(EBP_Matrix!Y42=1,Risk_Alc!$J$259=1),1,0)","v":0},{"$f":"IF(AND(EBP_Matrix!Z42=1,Risk_Marj!$J$224=1),1,0)","v":0},{"$f":"IF(AND(EBP_Matrix!AA42=1,Risk_Tob!$J$217=1),1,0)","v":0},{"$f":"IF(AND(EBP_Matrix!AB42=1,Risk_RxDrugs!$J$217=1),1,0)","v":0},{"$f":"IF(AND(EBP_Matrix!AC42=1,Risk_Other!$J$217=1),1,0)","v":0},{"$f":"IF(AND(EBP_Matrix!AD42=1,Risk_Alc!$J$260=1),1,0)","v":0},{"$f":"IF(AND(EBP_Matrix!AE42=1,Risk_Marj!$J$225=1),1,0)","v":0},{"$f":"IF(AND(EBP_Matrix!AF42=1,Risk_Tob!$J$218=1),1,0)","v":0},{"$f":"IF(AND(EBP_Matrix!AG42=1,Risk_RxDrugs!$J$218=1),1,0)","v":0},{"$f":"IF(AND(EBP_Matrix!AH42=1,Risk_Other!$J$218=1),1,0)","v":0},{"$f":"IF(AND(EBP_Matrix!AI42=1,Risk_Alc!$J$261=1),1,0)","v":0},{"$f":"IF(AND(EBP_Matrix!AJ42=1,Risk_Marj!$J$226=1),1,0)","v":0},{"$f":"IF(AND(EBP_Matrix!AK42=1,Risk_Tob!$J$219=1),1,0)","v":0},{"$f":"IF(AND(EBP_Matrix!AL42=1,Risk_RxDrugs!$J$219=1),1,0)","v":0},{"$f":"IF(AND(EBP_Matrix!AM42=1,Risk_Other!$J$219=1),1,0)","v":0},{"$f":"IF(AND(EBP_Matrix!AN42=1,Risk_Alc!$J$262=1),1,0)","v":0},{"$f":"IF(AND(EBP_Matrix!AO42=1,Risk_Marj!$J$227=1),1,0)","v":0},{"$f":"IF(AND(EBP_Matrix!AP42=1,Risk_Tob!$J$220=1),1,0)","v":0},{"$f":"IF(AND(EBP_Matrix!AQ42=1,Risk_RxDrugs!$J$220=1),1,0)","v":0},{"$f":"IF(AND(EBP_Matrix!AR42=1,Risk_Other!$J$220=1),1,0)","v":0},{"$f":"IF(AND(EBP_Matrix!AS42=1,Risk_Alc!$J$263=1),1,0)","v":0},{"$f":"IF(AND(EBP_Matrix!AT42=1,Risk_Marj!$J$228=1),1,0)","v":0},{"$f":"IF(AND(EBP_Matrix!AU42=1,Risk_Tob!$J$221=1),1,0)","v":0},{"$f":"IF(AND(EBP_Matrix!AV42=1,Risk_RxDrugs!$J$221=1),1,0)","v":0},{"$f":"IF(AND(EBP_Matrix!AW42=1,Risk_Other!$J$221=1),1,0)","v":0},{"$f":"IF(AND(EBP_Matrix!AX42=1,Risk_Alc!$J$264=1),1,0)","v":0},{"$f":"IF(AND(EBP_Matrix!AY42=1,Risk_Marj!$J$229=1),1,0)","v":0},{"$f":"IF(AND(EBP_Matrix!AZ42=1,Risk_Tob!$J$222=1),1,0)","v":0},{"$f":"IF(AND(EBP_Matrix!BA42=1,Risk_RxDrugs!$J$222=1),1,0)","v":0},{"$f":"IF(AND(EBP_Matrix!BB42=1,Risk_Other!$J$222=1),1,0)","v":0},{"$f":"IF(AND(EBP_Matrix!BC42=1,Risk_Alc!$J$265=1),1,0)","v":0},{"$f":"IF(AND(EBP_Matrix!BD42=1,Risk_Marj!$J$230=1),1,0)","v":0},{"$f":"IF(AND(EBP_Matrix!BE42=1,Risk_Tob!$J$223=1),1,0)","v":0},{"$f":"IF(AND(EBP_Matrix!BF42=1,Risk_RxDrugs!$J$223=1),1,0)","v":0},{"$f":"IF(AND(EBP_Matrix!BG42=1,Risk_Other!$J$223=1),1,0)","v":0},{"$f":"IF(AND(EBP_Matrix!BH42=1,Risk_Alc!$J$266=1),1,0)","v":0},{"$f":"IF(AND(EBP_Matrix!BI42=1,Risk_Marj!$J$231=1),1,0)","v":0},{"$f":"IF(AND(EBP_Matrix!BJ42=1,Risk_Tob!$J$224=1),1,0)","v":0},{"$f":"IF(AND(EBP_Matrix!BK42=1,Risk_RxDrugs!$J$224=1),1,0)","v":0},{"$f":"IF(AND(EBP_Matrix!BL42=1,Risk_Other!$J$224=1),1,0)","v":0},{"$f":"IF(AND(EBP_Matrix!BM42=1,Risk_Alc!$J$267=1),1,0)","v":0},{"$f":"IF(AND(EBP_Matrix!BN42=1,Risk_Marj!$J$232=1),1,0)","v":0},{"$f":"IF(AND(EBP_Matrix!BO42=1,Risk_Tob!$J$225=1),1,0)","v":0},{"$f":"IF(AND(EBP_Matrix!BP42=1,Risk_RxDrugs!$J$225=1),1,0)","v":0},{"$f":"IF(AND(EBP_Matrix!BQ42=1,Risk_Other!$J$225=1),1,0)","v":0},{"$f":"IF(AND(EBP_Matrix!BR42=1,Risk_Alc!$J$268=1),1,0)","v":0},{"$f":"IF(AND(EBP_Matrix!BS42=1,Risk_Marj!$J$233=1),1,0)","v":0},{"$f":"IF(AND(EBP_Matrix!BT42=1,Risk_Tob!$J$226=1),1,0)","v":0},{"$f":"IF(AND(EBP_Matrix!BU42=1,Risk_RxDrugs!$J$226=1),1,0)","v":0},{"$f":"IF(AND(EBP_Matrix!BV42=1,Risk_Other!$J$226=1),1,0)","v":0},{"$f":"IF(AND(EBP_Matrix!BW42=1,Risk_Alc!$J$269=1),1,0)","v":0},{"$f":"IF(AND(EBP_Matrix!BX42=1,Risk_Marj!$J$234=1),1,0)","v":0},{"$f":"IF(AND(EBP_Matrix!BY42=1,Risk_Tob!$J$227=1),1,0)","v":0},{"$f":"IF(AND(EBP_Matrix!BZ42=1,Risk_RxDrugs!$J$227=1),1,0)","v":0},{"$f":"IF(AND(EBP_Matrix!CA42=1,Risk_Other!$J$227=1),1,0)","v":0},{"$f":"IF(AND(EBP_Matrix!CB42=1,Risk_Alc!$J$270=1),1,0)","v":0},{"$f":"IF(AND(EBP_Matrix!CC42=1,Risk_Marj!$J$235=1),1,0)","v":0},{"$f":"IF(AND(EBP_Matrix!CD42=1,Risk_Tob!$J$228=1),1,0)","v":0},{"$f":"IF(AND(EBP_Matrix!CE42=1,Risk_RxDrugs!$J$228=1),1,0)","v":0},{"$f":"IF(AND(EBP_Matrix!CF42=1,Risk_Other!$J$228=1),1,0)","v":0},{"$f":"IF(AND(EBP_Matrix!CG42=1,Risk_Alc!$J$271=1),1,0)","v":0},{"$f":"IF(AND(EBP_Matrix!CH42=1,Risk_Marj!$J$236=1),1,0)","v":0},{"$f":"IF(AND(EBP_Matrix!CI42=1,Risk_Tob!$J$229=1),1,0)","v":0},{"$f":"IF(AND(EBP_Matrix!CJ42=1,Risk_RxDrugs!$J$229=1),1,0)","v":0},{"$f":"IF(AND(EBP_Matrix!CK42=1,Risk_Other!$J$229=1),1,0)","v":0},{"$f":"IF(AND(EBP_Matrix!CL42=1,Risk_Alc!$J$272=1),1,0)","v":0},{"$f":"IF(AND(EBP_Matrix!CM42=1,Risk_Marj!$J$237=1),1,0)","v":0},{"$f":"IF(AND(EBP_Matrix!CN42=1,Risk_Tob!$J$230=1),1,0)","v":0},{"$f":"IF(AND(EBP_Matrix!CO42=1,Risk_RxDrugs!$J$230=1),1,0)","v":0},{"$f":"IF(AND(EBP_Matrix!CP42=1,Risk_Other!$J$230=1),1,0)","v":0},0,0,0,0,0,0,0]
[{"$f":"EBP_Matrix!A43","v":"Retailer Education without Reinforcement"},null,null,0,null,null,null,{"$f":"IF(AND(EBP_Matrix!T43=1,Prob_Alc!C71>0),1,0)","v":0},{"$f":"IF(AND(EBP_Matrix!T43=1,Prob_Alc!C71>0),1,0)","v":0},{"$f":"IF(AND(EBP_Matrix!T43=1,Prob_Alc!C71>0),1,0)","v":0},{"$f":"IF(AND(EBP_Matrix!T43=1,Prob_Alc!C71>0),1,0)","v":0},{"$f":"IF(AND(EBP_Matrix!T43=1,Prob_Alc!C71>0),1,0)","v":0},{"$f":"IF(AND(EBP_Matrix!T43=1,Prob_Alc!C71>0),1,0)","v":0},{"$f":"IF(AND(EBP_Matrix!T43=1,Prob_Alc!C71>0),1,0)","v":0},{"$f":"IF(AND(EBP_Matrix!T43=1,Prob_Alc!C71>0),1,0)","v":0},{"$f":"IF(AND(EBP_Matrix!U43=1,Prob_Marj!C71>0),1,0)","v":0},{"$f":"IF(AND(EBP_Matrix!U43=1,Prob_Marj!C71>0),1,0)","v":0},{"$f":"IF(AND(EBP_Matrix!U43=1,Prob_Marj!C71>0),1,0)","v":0},{"$f":"IF(AND(EBP_Matrix!U43=1,Prob_Marj!C71>0),1,0)","v":0},{"$f":"IF(AND(EBP_Matrix!V43=1,Prob_Tob!C71>0),1,0)","v":0},{"$f":"IF(AND(EBP_Matrix!V43=1,Prob_Tob!C71>0),1,0)","v":0},{"$f":"IF(AND(EBP_Matrix!V43=1,Prob_Tob!C71>0),1,0)","v":0},{"$f":"IF(AND(EBP_Matrix!V43=1,Prob_Tob!C71>0),1,0)","v":0},{"$f":"IF(AND(EBP_Matrix!V43=1,Prob_Tob!C71>0),1,0)","v":0},{"$f":"IF(AND(EBP_Matrix!V43=1,Prob_Tob!C71>0),1,0)","v":0},{"$f":"IF(AND(EBP_Matrix!W43=1,Prob_RxDrugs!C31>0),1,0)","v":0},{"$f":"IF(AND(EBP_Matrix!W43=1,Prob_RxDrugs!C31>0),1,0)","v":0},null,{"$f":"IF(AND(EBP_Matrix!X43=1,Prob_Other!C21>0),1,0)","v":0},{"$f":"IF(AND(EBP_Matrix!Y43=1,Risk_Alc!$J$259=1),1,0)","v":0},{"$f":"IF(AND(EBP_Matrix!Z43=1,Risk_Marj!$J$224=1),1,0)","v":0},{"$f":"IF(AND(EBP_Matrix!AA43=1,Risk_Tob!$J$217=1),1,0)","v":0},{"$f":"IF(AND(EBP_Matrix!AB43=1,Risk_RxDrugs!$J$217=1),1,0)","v":0},{"$f":"IF(AND(EBP_Matrix!AC43=1,Risk_Other!$J$217=1),1,0)","v":0},{"$f":"IF(AND(EBP_Matrix!AD43=1,Risk_Alc!$J$260=1),1,0)","v":0},{"$f":"IF(AND(EBP_Matrix!AE43=1,Risk_Marj!$J$225=1),1,0)","v":0},{"$f":"IF(AND(EBP_Matrix!AF43=1,Risk_Tob!$J$218=1),1,0)","v":0},{"$f":"IF(AND(EBP_Matrix!AG43=1,Risk_RxDrugs!$J$218=1),1,0)","v":0},{"$f":"IF(AND(EBP_Matrix!AH43=1,Risk_Other!$J$218=1),1,0)","v":0},{"$f":"IF(AND(EBP_Matrix!AI43=1,Risk_Alc!$J$261=1),1,0)","v":0},{"$f":"IF(AND(EBP_Matrix!AJ43=1,Risk_Marj!$J$226=1),1,0)","v":0},{"$f":"IF(AND(EBP_Matrix!AK43=1,Risk_Tob!$J$219=1),1,0)","v":0},{"$f":"IF(AND(EBP_Matrix!AL43=1,Risk_RxDrugs!$J$219=1),1,0)","v":0},{"$f":"IF(AND(EBP_Matrix!AM43=1,Risk_Other!$J$219=1),1,0)","v":0},{"$f":"IF(AND(EBP_Matrix!AN43=1,Risk_Alc!$J$262=1),1,0)","v":0},{"$f":"IF(AND(EBP_Matrix!AO43=1,Risk_Marj!$J$227=1),1,0)","v":0},{"$f":"IF(AND(EBP_Matrix!AP43=1,Risk_Tob!$J$220=1),1,0)","v":0},{"$f":"IF(AND(EBP_Matrix!AQ43=1,Risk_RxDrugs!$J$220=1),1,0)","v":0},{"$f":"IF(AND(EBP_Matrix!AR43=1,Risk_Other!$J$220=1),1,0)","v":0},{"$f":"IF(AND(EBP_Matrix!AS43=1,Risk_Alc!$J$263=1),1,0)","v":0},{"$f":"IF(AND(EBP_Matrix!AT43=1,Risk_Marj!$J$228=1),1,0)","v":0},{"$f":"IF(AND(EBP_Matrix!AU43=1,Risk_Tob!$J$221=1),1,0)","v":0},{"$f":"IF(AND(EBP_Matrix!AV43=1,Risk_RxDrugs!$J$221=1),1,0)","v":0},{"$f":"IF(AND(EBP_Matrix!AW43=1,Risk_Other!$J$221=1),1,0)","v":0},{"$f":"IF(AND(EBP_Matrix!AX43=1,Risk_Alc!$J$264=1),1,0)","v":0},{"$f":"IF(AND(EBP_Matrix!AY43=1,Risk_Marj!$J$229=1),1,0)","v":0},{"$f":"IF(AND(EBP_Matrix!AZ43=1,Risk_Tob!$J$222=1),1,0)","v":0},{"$f":"IF(AND(EBP_Matrix!BA43=1,Risk_RxDrugs!$J$222=1),1,0)","v":0},{"$f":"IF(AND(EBP_Matrix!BB43=1,Risk_Other!$J$222=1),1,0)","v":0},{"$f":"IF(AND(EBP_Matrix!BC43=1,Risk_Alc!$J$265=1),1,0)","v":0},{"$f":"IF(AND(EBP_Matrix!BD43=1,Risk_Marj!$J$230=1),1,0)","v":0},{"$f":"IF(AND(EBP_Matrix!BE43=1,Risk_Tob!$J$223=1),1,0)","v":0},{"$f":"IF(AND(EBP_Matrix!BF43=1,Risk_RxDrugs!$J$223=1),1,0)","v":0},{"$f":"IF(AND(EBP_Matrix!BG43=1,Risk_Other!$J$223=1),1,0)","v":0},{"$f":"IF(AND(EBP_Matrix!BH43=1,Risk_Alc!$J$266=1),1,0)","v":0},{"$f":"IF(AND(EBP_Matrix!BI43=1,Risk_Marj!$J$231=1),1,0)","v":0},{"$f":"IF(AND(EBP_Matrix!BJ43=1,Risk_Tob!$J$224=1),1,0)","v":0},{"$f":"IF(AND(EBP_Matrix!BK43=1,Risk_RxDrugs!$J$224=1),1,0)","v":0},{"$f":"IF(AND(EBP_Matrix!BL43=1,Risk_Other!$J$224=1),1,0)","v":0},{"$f":"IF(AND(EBP_Matrix!BM43=1,Risk_Alc!$J$267=1),1,0)","v":0},{"$f":"IF(AND(EBP_Matrix!BN43=1,Risk_Marj!$J$232=1),1,0)","v":0},{"$f":"IF(AND(EBP_Matrix!BO43=1,Risk_Tob!$J$225=1),1,0)","v":0},{"$f":"IF(AND(EBP_Matrix!BP43=1,Risk_RxDrugs!$J$225=1),1,0)","v":0},{"$f":"IF(AND(EBP_Matrix!BQ43=1,Risk_Other!$J$225=1),1,0)","v":0},{"$f":"IF(AND(EBP_Matrix!BR43=1,Risk_Alc!$J$268=1),1,0)","v":0},{"$f":"IF(AND(EBP_Matrix!BS43=1,Risk_Marj!$J$233=1),1,0)","v":0},{"$f":"IF(AND(EBP_Matrix!BT43=1,Risk_Tob!$J$226=1),1,0)","v":0},{"$f":"IF(AND(EBP_Matrix!BU43=1,Risk_RxDrugs!$J$226=1),1,0)","v":0},{"$f":"IF(AND(EBP_Matrix!BV43=1,Risk_Other!$J$226=1),1,0)","v":0},{"$f":"IF(AND(EBP_Matrix!BW43=1,Risk_Alc!$J$269=1),1,0)","v":0},{"$f":"IF(AND(EBP_Matrix!BX43=1,Risk_Marj!$J$234=1),1,0)","v":0},{"$f":"IF(AND(EBP_Matrix!BY43=1,Risk_Tob!$J$227=1),1,0)","v":0},{"$f":"IF(AND(EBP_Matrix!BZ43=1,Risk_RxDrugs!$J$227=1),1,0)","v":0},{"$f":"IF(AND(EBP_Matrix!CA43=1,Risk_Other!$J$227=1),1,0)","v":0},{"$f":"IF(AND(EBP_Matrix!CB43=1,Risk_Alc!$J$270=1),1,0)","v":0},{"$f":"IF(AND(EBP_Matrix!CC43=1,Risk_Marj!$J$235=1),1,0)","v":0},{"$f":"IF(AND(EBP_Matrix!CD43=1,Risk_Tob!$J$228=1),1,0)","v":0},{"$f":"IF(AND(EBP_Matrix!CE43=1,Risk_RxDrugs!$J$228=1),1,0)","v":0},{"$f":"IF(AND(EBP_Matrix!CF43=1,Risk_Other!$J$228=1),1,0)","v":0},{"$f":"IF(AND(EBP_Matrix!CG43=1,Risk_Alc!$J$271=1),1,0)","v":0},{"$f":"IF(AND(EBP_Matrix!CH43=1,Risk_Marj!$J$236=1),1,0)","v":0},{"$f":"IF(AND(EBP_Matrix!CI43=1,Risk_Tob!$J$229=1),1,0)","v":0},{"$f":"IF(AND(EBP_Matrix!CJ43=1,Risk_RxDrugs!$J$229=1),1,0)","v":0},{"$f":"IF(AND(EBP_Matrix!CK43=1,Risk_Other!$J$229=1),1,0)","v":0},{"$f":"IF(AND(EBP_Matrix!CL43=1,Risk_Alc!$J$272=1),1,0)","v":0},{"$f":"IF(AND(EBP_Matrix!CM43=1,Risk_Marj!$J$237=1),1,0)","v":0},{"$f":"IF(AND(EBP_Matrix!CN43=1,Risk_Tob!$J$230=1),1,0)","v":0},{"$f":"IF(AND(EBP_Matrix!CO43=1,Risk_RxDrugs!$J$230=1),1,0)","v":0},{"$f":"IF(AND(EBP_Matrix!CP43=1,Risk_Other!$J$230=1),1,0)","v":0},0,0,0,0,0,0,0]
[{"$f":"EBP_Matrix!A44","v":"Rob Turrisi's Parent Handbook"},null,null,0,null,null,null,{"$f":"IF(AND(EBP_Matrix!T44=1,Prob_Alc!C71>0),1,0)","v":0},{"$f":"IF(AND(EBP_Matrix!T44=1,Prob_Alc!C71>0),1,0)","v":0},{"$f":"IF(AND(EBP_Matrix!T44=1,Prob_Alc!C71>0),1,0)","v":0},{"$f":"IF(AND(EBP_Matrix!T44=1,Prob_Alc!C71>0),1,0)","v":0},{"$f":"IF(AND(EBP_Matrix!T44=1,Prob_Alc!C71>0),1,0)","v":0},{"$f":"IF(AND(EBP_Matrix!T44=1,Prob_Alc!C71>0),1,0)","v":0},{"$f":"IF(AND(EBP_Matrix!T44=1,Prob_Alc!C71>0),1,0)","v":0},{"$f":"IF(AND(EBP_Matrix!T44=1,Prob_Alc!C71>0),1,0)","v":0},{"$f":"IF(AND(EBP_Matrix!U44=1,Prob_Marj!C71>0),1,0)","v":0},{"$f":"IF(AND(EBP_Matrix!U44=1,Prob_Marj!C71>0),1,0)","v":0},{"$f":"IF(AND(EBP_Matrix!U44=1,Prob_Marj!C71>0),1,0)","v":0},{"$f":"IF(AND(EBP_Matrix!U44=1,Prob_Marj!C71>0),1,0)","v":0},{"$f":"IF(AND(EBP_Matrix!V44=1,Prob_Tob!C71>0),1,0)","v":0},{"$f":"IF(AND(EBP_Matrix!V44=1,Prob_Tob!C71>0),1,0)","v":0},{"$f":"IF(AND(EBP_Matrix!V44=1,Prob_Tob!C71>0),1,0)","v":0},{"$f":"IF(AND(EBP_Matrix!V44=1,Prob_Tob!C71>0),1,0)","v":0},{"$f":"IF(AND(EBP_Matrix!V44=1,Prob_Tob!C71>0),1,0)","v":0},{"$f":"IF(AND(EBP_Matrix!V44=1,Prob_Tob!C71>0),1,0)","v":0},{"$f":"IF(AND(EBP_Matrix!W44=1,Prob_RxDrugs!C31>0),1,0)","v":0},{"$f":"IF(AND(EBP_Matrix!W44=1,Prob_RxDrugs!C31>0),1,0)","v":0},null,{"$f":"IF(AND(EBP_Matrix!X44=1,Prob_Other!C21>0),1,0)","v":0},{"$f":"IF(AND(EBP_Matrix!Y44=1,Risk_Alc!$J$259=1),1,0)","v":0},{"$f":"IF(AND(EBP_Matrix!Z44=1,Risk_Marj!$J$224=1),1,0)","v":0},{"$f":"IF(AND(EBP_Matrix!AA44=1,Risk_Tob!$J$217=1),1,0)","v":0},{"$f":"IF(AND(EBP_Matrix!AB44=1,Risk_RxDrugs!$J$217=1),1,0)","v":0},{"$f":"IF(AND(EBP_Matrix!AC44=1,Risk_Other!$J$217=1),1,0)","v":0},{"$f":"IF(AND(EBP_Matrix!AD44=1,Risk_Alc!$J$260=1),1,0)","v":0},{"$f":"IF(AND(EBP_Matrix!AE44=1,Risk_Marj!$J$225=1),1,0)","v":0},{"$f":"IF(AND(EBP_Matrix!AF44=1,Risk_Tob!$J$218=1),1,0)","v":0},{"$f":"IF(AND(EBP_Matrix!AG44=1,Risk_RxDrugs!$J$218=1),1,0)","v":0},{"$f":"IF(AND(EBP_Matrix!AH44=1,Risk_Other!$J$218=1),1,0)","v":0},{"$f":"IF(AND(EBP_Matrix!AI44=1,Risk_Alc!$J$261=1),1,0)","v":0},{"$f":"IF(AND(EBP_Matrix!AJ44=1,Risk_Marj!$J$226=1),1,0)","v":0},{"$f":"IF(AND(EBP_Matrix!AK44=1,Risk_Tob!$J$219=1),1,0)","v":0},{"$f":"IF(AND(EBP_Matrix!AL44=1,Risk_RxDrugs!$J$219=1),1,0)","v":0},{"$f":"IF(AND(EBP_Matrix!AM44=1,Risk_Other!$J$219=1),1,0)","v":0},{"$f":"IF(AND(EBP_Matrix!AN44=1,Risk_Alc!$J$262=1),1,0)","v":0},{"$f":"IF(AND(EBP_Matrix!AO44=1,Risk_Marj!$J$227=1),1,0)","v":0},{"$f":"IF(AND(EBP_Matrix!AP44=1,Risk_Tob!$J$220=1),1,0)","v":0},{"$f":"IF(AND(EBP_Matrix!AQ44=1,Risk_RxDrugs!$J$220=1),1,0)","v":0},{"$f":"IF(AND(EBP_Matrix!AR44=1,Risk_Other!$J$220=1),1,0)","v":0},{"$f":"IF(AND(EBP_Matrix!AS44=1,Risk_Alc!$J$263=1),1,0)","v":0},{"$f":"IF(AND(EBP_Matrix!AT44=1,Risk_Marj!$J$228=1),1,0)","v":0},{"$f":"IF(AND(EBP_Matrix!AU44=1,Risk_Tob!$J$221=1),1,0)","v":0},{"$f":"IF(AND(EBP_Matrix!AV44=1,Risk_RxDrugs!$J$221=1),1,0)","v":0},{"$f":"IF(AND(EBP_Matrix!AW44=1,Risk_Other!$J$221=1),1,0)","v":0},{"$f":"IF(AND(EBP_Matrix!AX44=1,Risk_Alc!$J$264=1),1,0)","v":0},{"$f":"IF(AND(EBP_Matrix!AY44=1,Risk_Marj!$J$229=1),1,0)","v":0},{"$f":"IF(AND(EBP_Matrix!AZ44=1,Risk_Tob!$J$222=1),1,0)","v":0},{"$f":"IF(AND(EBP_Matrix!BA44=1,Risk_RxDrugs!$J$222=1),1,0)","v":0},{"$f":"IF(AND(EBP_Matrix!BB44=1,Risk_Other!$J$222=1),1,0)","v":0},{"$f":"IF(AND(EBP_Matrix!BC44=1,Risk_Alc!$J$265=1),1,0)","v":0},{"$f":"IF(AND(EBP_Matrix!BD44=1,Risk_Marj!$J$230=1),1,0)","v":0},{"$f":"IF(AND(EBP_Matrix!BE44=1,Risk_Tob!$J$223=1),1,0)","v":0},{"$f":"IF(AND(EBP_Matrix!BF44=1,Risk_RxDrugs!$J$223=1),1,0)","v":0},{"$f":"IF(AND(EBP_Matrix!BG44=1,Risk_Other!$J$223=1),1,0)","v":0},{"$f":"IF(AND(EBP_Matrix!BH44=1,Risk_Alc!$J$266=1),1,0)","v":0},{"$f":"IF(AND(EBP_Matrix!BI44=1,Risk_Marj!$J$231=1),1,0)","v":0},{"$f":"IF(AND(EBP_Matrix!BJ44=1,Risk_Tob!$J$224=1),1,0)","v":0},{"$f":"IF(AND(EBP_Matrix!BK44=1,Risk_RxDrugs!$J$224=1),1,0)","v":0},{"$f":"IF(AND(EBP_Matrix!BL44=1,Risk_Other!$J$224=1),1,0)","v":0},{"$f":"IF(AND(EBP_Matrix!BM44=1,Risk_Alc!$J$267=1),1,0)","v":0},{"$f":"IF(AND(EBP_Matrix!BN44=1,Risk_Marj!$J$232=1),1,0)","v":0},{"$f":"IF(AND(EBP_Matrix!BO44=1,Risk_Tob!$J$225=1),1,0)","v":0},{"$f":"IF(AND(EBP_Matrix!BP44=1,Risk_RxDrugs!$J$225=1),1,0)","v":0},{"$f":"IF(AND(EBP_Matrix!BQ44=1,Risk_Other!$J$225=1),1,0)","v":0},{"$f":"IF(AND(EBP_Matrix!BR44=1,Risk_Alc!$J$268=1),1,0)","v":0},{"$f":"IF(AND(EBP_Matrix!BS44=1,Risk_Marj!$J$233=1),1,0)","v":0},{"$f":"IF(AND(EBP_Matrix!BT44=1,Risk_Tob!$J$226=1),1,0)","v":0},{"$f":"IF(AND(EBP_Matrix!BU44=1,Risk_RxDrugs!$J$226=1),1,0)","v":0},{"$f":"IF(AND(EBP_Matrix!BV44=1,Risk_Other!$J$226=1),1,0)","v":0},{"$f":"IF(AND(EBP_Matrix!BW44=1,Risk_Alc!$J$269=1),1,0)","v":0},{"$f":"IF(AND(EBP_Matrix!BX44=1,Risk_Marj!$J$234=1),1,0)","v":0},{"$f":"IF(AND(EBP_Matrix!BY44=1,Risk_Tob!$J$227=1),1,0)","v":0},{"$f":"IF(AND(EBP_Matrix!BZ44=1,Risk_RxDrugs!$J$227=1),1,0)","v":0},{"$f":"IF(AND(EBP_Matrix!CA44=1,Risk_Other!$J$227=1),1,0)","v":0},{"$f":"IF(AND(EBP_Matrix!CB44=1,Risk_Alc!$J$270=1),1,0)","v":0},{"$f":"IF(AND(EBP_Matrix!CC44=1,Risk_Marj!$J$235=1),1,0)","v":0},{"$f":"IF(AND(EBP_Matrix!CD44=1,Risk_Tob!$J$228=1),1,0)","v":0},{"$f":"IF(AND(EBP_Matrix!CE44=1,Risk_RxDrugs!$J$228=1),1,0)","v":0},{"$f":"IF(AND(EBP_Matrix!CF44=1,Risk_Other!$J$228=1),1,0)","v":0},{"$f":"IF(AND(EBP_Matrix!CG44=1,Risk_Alc!$J$271=1),1,0)","v":0},{"$f":"IF(AND(EBP_Matrix!CH44=1,Risk_Marj!$J$236=1),1,0)","v":0},{"$f":"IF(AND(EBP_Matrix!CI44=1,Risk_Tob!$J$229=1),1,0)","v":0},{"$f":"IF(AND(EBP_Matrix!CJ44=1,Risk_RxDrugs!$J$229=1),1,0)","v":0},{"$f":"IF(AND(EBP_Matrix!CK44=1,Risk_Other!$J$229=1),1,0)","v":0},{"$f":"IF(AND(EBP_Matrix!CL44=1,Risk_Alc!$J$272=1),1,0)","v":0},{"$f":"IF(AND(EBP_Matrix!CM44=1,Risk_Marj!$J$237=1),1,0)","v":0},{"$f":"IF(AND(EBP_Matrix!CN44=1,Risk_Tob!$J$230=1),1,0)","v":0},{"$f":"IF(AND(EBP_Matrix!CO44=1,Risk_RxDrugs!$J$230=1),1,0)","v":0},{"$f":"IF(AND(EBP_Matrix!CP44=1,Risk_Other!$J$230=1),1,0)","v":0},0,0,0,0,0,0,0]
[{"$f":"EBP_Matrix!A45","v":"Screening, Brief Intervention, and Referral to Treatment (SBIRT)"},null,null,0,null,null,null,{"$f":"IF(AND(EBP_Matrix!T45=1,Prob_Alc!C71>0),1,0)","v":0},{"$f":"IF(AND(EBP_Matrix!T45=1,Prob_Alc!C71>0),1,0)","v":0},{"$f":"IF(AND(EBP_Matrix!T45=1,Prob_Alc!C71>0),1,0)","v":0},{"$f":"IF(AND(EBP_Matrix!T45=1,Prob_Alc!C71>0),1,0)","v":0},{"$f":"IF(AND(EBP_Matrix!T45=1,Prob_Alc!C71>0),1,0)","v":0},{"$f":"IF(AND(EBP_Matrix!T45=1,Prob_Alc!C71>0),1,0)","v":0},{"$f":"IF(AND(EBP_Matrix!T45=1,Prob_Alc!C71>0),1,0)","v":0},{"$f":"IF(AND(EBP_Matrix!T45=1,Prob_Alc!C71>0),1,0)","v":0},{"$f":"IF(AND(EBP_Matrix!U45=1,Prob_Marj!C71>0),1,0)","v":0},{"$f":"IF(AND(EBP_Matrix!U45=1,Prob_Marj!C71>0),1,0)","v":0},{"$f":"IF(AND(EBP_Matrix!U45=1,Prob_Marj!C71>0),1,0)","v":0},{"$f":"IF(AND(EBP_Matrix!U45=1,Prob_Marj!C71>0),1,0)","v":0},{"$f":"IF(AND(EBP_Matrix!V45=1,Prob_Tob!C71>0),1,0)","v":0},{"$f":"IF(AND(EBP_Matrix!V45=1,Prob_Tob!C71>0),1,0)","v":0},{"$f":"IF(AND(EBP_Matrix!V45=1,Prob_Tob!C71>0),1,0)","v":0},{"$f":"IF(AND(EBP_Matrix!V45=1,Prob_Tob!C71>0),1,0)","v":0},{"$f":"IF(AND(EBP_Matrix!V45=1,Prob_Tob!C71>0),1,0)","v":0},{"$f":"IF(AND(EBP_Matrix!V45=1,Prob_Tob!C71>0),1,0)","v":0},{"$f":"IF(AND(EBP_Matrix!W45=1,Prob_RxDrugs!C31>0),1,0)","v":0},{"$f":"IF(AND(EBP_Matrix!W45=1,Prob_RxDrugs!C31>0),1,0)","v":0},null,{"$f":"IF(AND(EBP_Matrix!X45=1,Prob_Other!C21>0),1,0)","v":0},{"$f":"IF(AND(EBP_Matrix!Y45=1,Risk_Alc!$J$259=1),1,0)","v":0},{"$f":"IF(AND(EBP_Matrix!Z45=1,Risk_Marj!$J$224=1),1,0)","v":0},{"$f":"IF(AND(EBP_Matrix!AA45=1,Risk_Tob!$J$217=1),1,0)","v":0},{"$f":"IF(AND(EBP_Matrix!AB45=1,Risk_RxDrugs!$J$217=1),1,0)","v":0},{"$f":"IF(AND(EBP_Matrix!AC45=1,Risk_Other!$J$217=1),1,0)","v":0},{"$f":"IF(AND(EBP_Matrix!AD45=1,Risk_Alc!$J$260=1),1,0)","v":0},{"$f":"IF(AND(EBP_Matrix!AE45=1,Risk_Marj!$J$225=1),1,0)","v":0},{"$f":"IF(AND(EBP_Matrix!AF45=1,Risk_Tob!$J$218=1),1,0)","v":0},{"$f":"IF(AND(EBP_Matrix!AG45=1,Risk_RxDrugs!$J$218=1),1,0)","v":0},{"$f":"IF(AND(EBP_Matrix!AH45=1,Risk_Other!$J$218=1),1,0)","v":0},{"$f":"IF(AND(EBP_Matrix!AI45=1,Risk_Alc!$J$261=1),1,0)","v":0},{"$f":"IF(AND(EBP_Matrix!AJ45=1,Risk_Marj!$J$226=1),1,0)","v":0},{"$f":"IF(AND(EBP_Matrix!AK45=1,Risk_Tob!$J$219=1),1,0)","v":0},{"$f":"IF(AND(EBP_Matrix!AL45=1,Risk_RxDrugs!$J$219=1),1,0)","v":0},{"$f":"IF(AND(EBP_Matrix!AM45=1,Risk_Other!$J$219=1),1,0)","v":0},{"$f":"IF(AND(EBP_Matrix!AN45=1,Risk_Alc!$J$262=1),1,0)","v":0},{"$f":"IF(AND(EBP_Matrix!AO45=1,Risk_Marj!$J$227=1),1,0)","v":0},{"$f":"IF(AND(EBP_Matrix!AP45=1,Risk_Tob!$J$220=1),1,0)","v":0},{"$f":"IF(AND(EBP_Matrix!AQ45=1,Risk_RxDrugs!$J$220=1),1,0)","v":0},{"$f":"IF(AND(EBP_Matrix!AR45=1,Risk_Other!$J$220=1),1,0)","v":0},{"$f":"IF(AND(EBP_Matrix!AS45=1,Risk_Alc!$J$263=1),1,0)","v":0},{"$f":"IF(AND(EBP_Matrix!AT45=1,Risk_Marj!$J$228=1),1,0)","v":0},{"$f":"IF(AND(EBP_Matrix!AU45=1,Risk_Tob!$J$221=1),1,0)","v":0},{"$f":"IF(AND(EBP_Matrix!AV45=1,Risk_RxDrugs!$J$221=1),1,0)","v":0},{"$f":"IF(AND(EBP_Matrix!AW45=1,Risk_Other!$J$221=1),1,0)","v":0},{"$f":"IF(AND(EBP_Matrix!AX45=1,Risk_Alc!$J$264=1),1,0)","v":0},{"$f":"IF(AND(EBP_Matrix!AY45=1,Risk_Marj!$J$229=1),1,0)","v":0},{"$f":"IF(AND(EBP_Matrix!AZ45=1,Risk_Tob!$J$222=1),1,0)","v":0},{"$f":"IF(AND(EBP_Matrix!BA45=1,Risk_RxDrugs!$J$222=1),1,0)","v":0},{"$f":"IF(AND(EBP_Matrix!BB45=1,Risk_Other!$J$222=1),1,0)","v":0},{"$f":"IF(AND(EBP_Matrix!BC45=1,Risk_Alc!$J$265=1),1,0)","v":0},{"$f":"IF(AND(EBP_Matrix!BD45=1,Risk_Marj!$J$230=1),1,0)","v":0},{"$f":"IF(AND(EBP_Matrix!BE45=1,Risk_Tob!$J$223=1),1,0)","v":0},{"$f":"IF(AND(EBP_Matrix!BF45=1,Risk_RxDrugs!$J$223=1),1,0)","v":0},{"$f":"IF(AND(EBP_Matrix!BG45=1,Risk_Other!$J$223=1),1,0)","v":0},{"$f":"IF(AND(EBP_Matrix!BH45=1,Risk_Alc!$J$266=1),1,0)","v":0},{"$f":"IF(AND(EBP_Matrix!BI45=1,Risk_Marj!$J$231=1),1,0)","v":0},{"$f":"IF(AND(EBP_Matrix!BJ45=1,Risk_Tob!$J$224=1),1,0)","v":0},{"$f":"IF(AND(EBP_Matrix!BK45=1,Risk_RxDrugs!$J$224=1),1,0)","v":0},{"$f":"IF(AND(EBP_Matrix!BL45=1,Risk_Other!$J$224=1),1,0)","v":0},{"$f":"IF(AND(EBP_Matrix!BM45=1,Risk_Alc!$J$267=1),1,0)","v":0},{"$f":"IF(AND(EBP_Matrix!BN45=1,Risk_Marj!$J$232=1),1,0)","v":0},{"$f":"IF(AND(EBP_Matrix!BO45=1,Risk_Tob!$J$225=1),1,0)","v":0},{"$f":"IF(AND(EBP_Matrix!BP45=1,Risk_RxDrugs!$J$225=1),1,0)","v":0},{"$f":"IF(AND(EBP_Matrix!BQ45=1,Risk_Other!$J$225=1),1,0)","v":0},{"$f":"IF(AND(EBP_Matrix!BR45=1,Risk_Alc!$J$268=1),1,0)","v":0},{"$f":"IF(AND(EBP_Matrix!BS45=1,Risk_Marj!$J$233=1),1,0)","v":0},{"$f":"IF(AND(EBP_Matrix!BT45=1,Risk_Tob!$J$226=1),1,0)","v":0},{"$f":"IF(AND(EBP_Matrix!BU45=1,Risk_RxDrugs!$J$226=1),1,0)","v":0},{"$f":"IF(AND(EBP_Matrix!BV45=1,Risk_Other!$J$226=1),1,0)","v":0},{"$f":"IF(AND(EBP_Matrix!BW45=1,Risk_Alc!$J$269=1),1,0)","v":0},{"$f":"IF(AND(EBP_Matrix!BX45=1,Risk_Marj!$J$234=1),1,0)","v":0},{"$f":"IF(AND(EBP_Matrix!BY45=1,Risk_Tob!$J$227=1),1,0)","v":0},{"$f":"IF(AND(EBP_Matrix!BZ45=1,Risk_RxDrugs!$J$227=1),1,0)","v":0},{"$f":"IF(AND(EBP_Matrix!CA45=1,Risk_Other!$J$227=1),1,0)","v":0},{"$f":"IF(AND(EBP_Matrix!CB45=1,Risk_Alc!$J$270=1),1,0)","v":0},{"$f":"IF(AND(EBP_Matrix!CC45=1,Risk_Marj!$J$235=1),1,0)","v":0},{"$f":"IF(AND(EBP_Matrix!CD45=1,Risk_Tob!$J$228=1),1,0)","v":0},{"$f":"IF(AND(EBP_Matrix!CE45=1,Risk_RxDrugs!$J$228=1),1,0)","v":0},{"$f":"IF(AND(EBP_Matrix!CF45=1,Risk_Other!$J$228=1),1,0)","v":0},{"$f":"IF(AND(EBP_Matrix!CG45=1,Risk_Alc!$J$271=1),1,0)","v":0},{"$f":"IF(AND(EBP_Matrix!CH45=1,Risk_Marj!$J$236=1),1,0)","v":0},{"$f":"IF(AND(EBP_Matrix!CI45=1,Risk_Tob!$J$229=1),1,0)","v":0},{"$f":"IF(AND(EBP_Matrix!CJ45=1,Risk_RxDrugs!$J$229=1),1,0)","v":0},{"$f":"IF(AND(EBP_Matrix!CK45=1,Risk_Other!$J$229=1),1,0)","v":0},{"$f":"IF(AND(EBP_Matrix!CL45=1,Risk_Alc!$J$272=1),1,0)","v":0},{"$f":"IF(AND(EBP_Matrix!CM45=1,Risk_Marj!$J$237=1),1,0)","v":0},{"$f":"IF(AND(EBP_Matrix!CN45=1,Risk_Tob!$J$230=1),1,0)","v":0},{"$f":"IF(AND(EBP_Matrix!CO45=1,Risk_RxDrugs!$J$230=1),1,0)","v":0},{"$f":"IF(AND(EBP_Matrix!CP45=1,Risk_Other!$J$230=1),1,0)","v":0},0,0,0,0,0,0,0]
[{"$f":"EBP_Matrix!A46","v":"Second Step"},null,null,0,null,null,null,{"$f":"IF(AND(EBP_Matrix!T46=1,Prob_Alc!C71>0),1,0)","v":0},{"$f":"IF(AND(EBP_Matrix!T46=1,Prob_Alc!C71>0),1,0)","v":0},{"$f":"IF(AND(EBP_Matrix!T46=1,Prob_Alc!C71>0),1,0)","v":0},{"$f":"IF(AND(EBP_Matrix!T46=1,Prob_Alc!C71>0),1,0)","v":0},{"$f":"IF(AND(EBP_Matrix!T46=1,Prob_Alc!C71>0),1,0)","v":0},{"$f":"IF(AND(EBP_Matrix!T46=1,Prob_Alc!C71>0),1,0)","v":0},{"$f":"IF(AND(EBP_Matrix!T46=1,Prob_Alc!C71>0),1,0)","v":0},{"$f":"IF(AND(EBP_Matrix!T46=1,Prob_Alc!C71>0),1,0)","v":0},{"$f":"IF(AND(EBP_Matrix!U46=1,Prob_Marj!C71>0),1,0)","v":0},{"$f":"IF(AND(EBP_Matrix!U46=1,Prob_Marj!C71>0),1,0)","v":0},{"$f":"IF(AND(EBP_Matrix!U46=1,Prob_Marj!C71>0),1,0)","v":0},{"$f":"IF(AND(EBP_Matrix!U46=1,Prob_Marj!C71>0),1,0)","v":0},{"$f":"IF(AND(EBP_Matrix!V46=1,Prob_Tob!C71>0),1,0)","v":0},{"$f":"IF(AND(EBP_Matrix!V46=1,Prob_Tob!C71>0),1,0)","v":0},{"$f":"IF(AND(EBP_Matrix!V46=1,Prob_Tob!C71>0),1,0)","v":0},{"$f":"IF(AND(EBP_Matrix!V46=1,Prob_Tob!C71>0),1,0)","v":0},{"$f":"IF(AND(EBP_Matrix!V46=1,Prob_Tob!C71>0),1,0)","v":0},{"$f":"IF(AND(EBP_Matrix!V46=1,Prob_Tob!C71>0),1,0)","v":0},{"$f":"IF(AND(EBP_Matrix!W46=1,Prob_RxDrugs!C31>0),1,0)","v":0},{"$f":"IF(AND(EBP_Matrix!W46=1,Prob_RxDrugs!C31>0),1,0)","v":0},null,{"$f":"IF(AND(EBP_Matrix!X46=1,Prob_Other!C21>0),1,0)","v":0},{"$f":"IF(AND(EBP_Matrix!Y46=1,Risk_Alc!$J$259=1),1,0)","v":0},{"$f":"IF(AND(EBP_Matrix!Z46=1,Risk_Marj!$J$224=1),1,0)","v":0},{"$f":"IF(AND(EBP_Matrix!AA46=1,Risk_Tob!$J$217=1),1,0)","v":0},{"$f":"IF(AND(EBP_Matrix!AB46=1,Risk_RxDrugs!$J$217=1),1,0)","v":0},{"$f":"IF(AND(EBP_Matrix!AC46=1,Risk_Other!$J$217=1),1,0)","v":0},{"$f":"IF(AND(EBP_Matrix!AD46=1,Risk_Alc!$J$260=1),1,0)","v":0},{"$f":"IF(AND(EBP_Matrix!AE46=1,Risk_Marj!$J$225=1),1,0)","v":0},{"$f":"IF(AND(EBP_Matrix!AF46=1,Risk_Tob!$J$218=1),1,0)","v":0},{"$f":"IF(AND(EBP_Matrix!AG46=1,Risk_RxDrugs!$J$218=1),1,0)","v":0},{"$f":"IF(AND(EBP_Matrix!AH46=1,Risk_Other!$J$218=1),1,0)","v":0},{"$f":"IF(AND(EBP_Matrix!AI46=1,Risk_Alc!$J$261=1),1,0)","v":0},{"$f":"IF(AND(EBP_Matrix!AJ46=1,Risk_Marj!$J$226=1),1,0)","v":0},{"$f":"IF(AND(EBP_Matrix!AK46=1,Risk_Tob!$J$219=1),1,0)","v":0},{"$f":"IF(AND(EBP_Matrix!AL46=1,Risk_RxDrugs!$J$219=1),1,0)","v":0},{"$f":"IF(AND(EBP_Matrix!AM46=1,Risk_Other!$J$219=1),1,0)","v":0},{"$f":"IF(AND(EBP_Matrix!AN46=1,Risk_Alc!$J$262=1),1,0)","v":0},{"$f":"IF(AND(EBP_Matrix!AO46=1,Risk_Marj!$J$227=1),1,0)","v":0},{"$f":"IF(AND(EBP_Matrix!AP46=1,Risk_Tob!$J$220=1),1,0)","v":0},{"$f":"IF(AND(EBP_Matrix!AQ46=1,Risk_RxDrugs!$J$220=1),1,0)","v":0},{"$f":"IF(AND(EBP_Matrix!AR46=1,Risk_Other!$J$220=1),1,0)","v":0},{"$f":"IF(AND(EBP_Matrix!AS46=1,Risk_Alc!$J$263=1),1,0)","v":0},{"$f":"IF(AND(EBP_Matrix!AT46=1,Risk_Marj!$J$228=1),1,0)","v":0},{"$f":"IF(AND(EBP_Matrix!AU46=1,Risk_Tob!$J$221=1),1,0)","v":0},{"$f":"IF(AND(EBP_Matrix!AV46=1,Risk_RxDrugs!$J$221=1),1,0)","v":0},{"$f":"IF(AND(EBP_Matrix!AW46=1,Risk_Other!$J$221=1),1,0)","v":0},{"$f":"IF(AND(EBP_Matrix!AX46=1,Risk_Alc!$J$264=1),1,0)","v":0},{"$f":"IF(AND(EBP_Matrix!AY46=1,Risk_Marj!$J$229=1),1,0)","v":0},{"$f":"IF(AND(EBP_Matrix!AZ46=1,Risk_Tob!$J$222=1),1,0)","v":0},{"$f":"IF(AND(EBP_Matrix!BA46=1,Risk_RxDrugs!$J$222=1),1,0)","v":0},{"$f":"IF(AND(EBP_Matrix!BB46=1,Risk_Other!$J$222=1),1,0)","v":0},{"$f":"IF(AND(EBP_Matrix!BC46=1,Risk_Alc!$J$265=1),1,0)","v":0},{"$f":"IF(AND(EBP_Matrix!BD46=1,Risk_Marj!$J$230=1),1,0)","v":0},{"$f":"IF(AND(EBP_Matrix!BE46=1,Risk_Tob!$J$223=1),1,0)","v":0},{"$f":"IF(AND(EBP_Matrix!BF46=1,Risk_RxDrugs!$J$223=1),1,0)","v":0},{"$f":"IF(AND(EBP_Matrix!BG46=1,Risk_Other!$J$223=1),1,0)","v":0},{"$f":"IF(AND(EBP_Matrix!BH46=1,Risk_Alc!$J$266=1),1,0)","v":0},{"$f":"IF(AND(EBP_Matrix!BI46=1,Risk_Marj!$J$231=1),1,0)","v":0},{"$f":"IF(AND(EBP_Matrix!BJ46=1,Risk_Tob!$J$224=1),1,0)","v":0},{"$f":"IF(AND(EBP_Matrix!BK46=1,Risk_RxDrugs!$J$224=1),1,0)","v":0},{"$f":"IF(AND(EBP_Matrix!BL46=1,Risk_Other!$J$224=1),1,0)","v":0},{"$f":"IF(AND(EBP_Matrix!BM46=1,Risk_Alc!$J$267=1),1,0)","v":0},{"$f":"IF(AND(EBP_Matrix!BN46=1,Risk_Marj!$J$232=1),1,0)","v":0},{"$f":"IF(AND(EBP_Matrix!BO46=1,Risk_Tob!$J$225=1),1,0)","v":0},{"$f":"IF(AND(EBP_Matrix!BP46=1,Risk_RxDrugs!$J$225=1),1,0)","v":0},{"$f":"IF(AND(EBP_Matrix!BQ46=1,Risk_Other!$J$225=1),1,0)","v":0},{"$f":"IF(AND(EBP_Matrix!BR46=1,Risk_Alc!$J$268=1),1,0)","v":0},{"$f":"IF(AND(EBP_Matrix!BS46=1,Risk_Marj!$J$233=1),1,0)","v":0},{"$f":"IF(AND(EBP_Matrix!BT46=1,Risk_Tob!$J$226=1),1,0)","v":0},{"$f":"IF(AND(EBP_Matrix!BU46=1,Risk_RxDrugs!$J$226=1),1,0)","v":0},{"$f":"IF(AND(EBP_Matrix!BV46=1,Risk_Other!$J$226=1),1,0)","v":0},{"$f":"IF(AND(EBP_Matrix!BW46=1,Risk_Alc!$J$269=1),1,0)","v":0},{"$f":"IF(AND(EBP_Matrix!BX46=1,Risk_Marj!$J$234=1),1,0)","v":0},{"$f":"IF(AND(EBP_Matrix!BY46=1,Risk_Tob!$J$227=1),1,0)","v":0},{"$f":"IF(AND(EBP_Matrix!BZ46=1,Risk_RxDrugs!$J$227=1),1,0)","v":0},{"$f":"IF(AND(EBP_Matrix!CA46=1,Risk_Other!$J$227=1),1,0)","v":0},{"$f":"IF(AND(EBP_Matrix!CB46=1,Risk_Alc!$J$270=1),1,0)","v":0},{"$f":"IF(AND(EBP_Matrix!CC46=1,Risk_Marj!$J$235=1),1,0)","v":0},{"$f":"IF(AND(EBP_Matrix!CD46=1,Risk_Tob!$J$228=1),1,0)","v":0},{"$f":"IF(AND(EBP_Matrix!CE46=1,Risk_RxDrugs!$J$228=1),1,0)","v":0},{"$f":"IF(AND(EBP_Matrix!CF46=1,Risk_Other!$J$228=1),1,0)","v":0},{"$f":"IF(AND(EBP_Matrix!CG46=1,Risk_Alc!$J$271=1),1,0)","v":0},{"$f":"IF(AND(EBP_Matrix!CH46=1,Risk_Marj!$J$236=1),1,0)","v":0},{"$f":"IF(AND(EBP_Matrix!CI46=1,Risk_Tob!$J$229=1),1,0)","v":0},{"$f":"IF(AND(EBP_Matrix!CJ46=1,Risk_RxDrugs!$J$229=1),1,0)","v":0},{"$f":"IF(AND(EBP_Matrix!CK46=1,Risk_Other!$J$229=1),1,0)","v":0},{"$f":"IF(AND(EBP_Matrix!CL46=1,Risk_Alc!$J$272=1),1,0)","v":0},{"$f":"IF(AND(EBP_Matrix!CM46=1,Risk_Marj!$J$237=1),1,0)","v":0},{"$f":"IF(AND(EBP_Matrix!CN46=1,Risk_Tob!$J$230=1),1,0)","v":0},{"$f":"IF(AND(EBP_Matrix!CO46=1,Risk_RxDrugs!$J$230=1),1,0)","v":0},{"$f":"IF(AND(EBP_Matrix!CP46=1,Risk_Other!$J$230=1),1,0)","v":0},0,0,0,0,0,0,0]
[{"$f":"EBP_Matrix!A47","v":"Seeking Safety"},null,null,0,null,null,null,{"$f":"IF(AND(EBP_Matrix!T47=1,Prob_Alc!C71>0),1,0)","v":0},{"$f":"IF(AND(EBP_Matrix!T47=1,Prob_Alc!C71>0),1,0)","v":0},{"$f":"IF(AND(EBP_Matrix!T47=1,Prob_Alc!C71>0),1,0)","v":0},{"$f":"IF(AND(EBP_Matrix!T47=1,Prob_Alc!C71>0),1,0)","v":0},{"$f":"IF(AND(EBP_Matrix!T47=1,Prob_Alc!C71>0),1,0)","v":0},{"$f":"IF(AND(EBP_Matrix!T47=1,Prob_Alc!C71>0),1,0)","v":0},{"$f":"IF(AND(EBP_Matrix!T47=1,Prob_Alc!C71>0),1,0)","v":0},{"$f":"IF(AND(EBP_Matrix!T47=1,Prob_Alc!C71>0),1,0)","v":0},{"$f":"IF(AND(EBP_Matrix!U47=1,Prob_Marj!C71>0),1,0)","v":0},{"$f":"IF(AND(EBP_Matrix!U47=1,Prob_Marj!C71>0),1,0)","v":0},{"$f":"IF(AND(EBP_Matrix!U47=1,Prob_Marj!C71>0),1,0)","v":0},{"$f":"IF(AND(EBP_Matrix!U47=1,Prob_Marj!C71>0),1,0)","v":0},{"$f":"IF(AND(EBP_Matrix!V47=1,Prob_Tob!C71>0),1,0)","v":0},{"$f":"IF(AND(EBP_Matrix!V47=1,Prob_Tob!C71>0),1,0)","v":0},{"$f":"IF(AND(EBP_Matrix!V47=1,Prob_Tob!C71>0),1,0)","v":0},{"$f":"IF(AND(EBP_Matrix!V47=1,Prob_Tob!C71>0),1,0)","v":0},{"$f":"IF(AND(EBP_Matrix!V47=1,Prob_Tob!C71>0),1,0)","v":0},{"$f":"IF(AND(EBP_Matrix!V47=1,Prob_Tob!C71>0),1,0)","v":0},{"$f":"IF(AND(EBP_Matrix!W47=1,Prob_RxDrugs!C31>0),1,0)","v":0},{"$f":"IF(AND(EBP_Matrix!W47=1,Prob_RxDrugs!C31>0),1,0)","v":0},null,{"$f":"IF(AND(EBP_Matrix!X47=1,Prob_Other!C21>0),1,0)","v":0},{"$f":"IF(AND(EBP_Matrix!Y47=1,Risk_Alc!$J$259=1),1,0)","v":0},{"$f":"IF(AND(EBP_Matrix!Z47=1,Risk_Marj!$J$224=1),1,0)","v":0},{"$f":"IF(AND(EBP_Matrix!AA47=1,Risk_Tob!$J$217=1),1,0)","v":0},{"$f":"IF(AND(EBP_Matrix!AB47=1,Risk_RxDrugs!$J$217=1),1,0)","v":0},{"$f":"IF(AND(EBP_Matrix!AC47=1,Risk_Other!$J$217=1),1,0)","v":0},{"$f":"IF(AND(EBP_Matrix!AD47=1,Risk_Alc!$J$260=1),1,0)","v":0},{"$f":"IF(AND(EBP_Matrix!AE47=1,Risk_Marj!$J$225=1),1,0)","v":0},{"$f":"IF(AND(EBP_Matrix!AF47=1,Risk_Tob!$J$218=1),1,0)","v":0},{"$f":"IF(AND(EBP_Matrix!AG47=1,Risk_RxDrugs!$J$218=1),1,0)","v":0},{"$f":"IF(AND(EBP_Matrix!AH47=1,Risk_Other!$J$218=1),1,0)","v":0},{"$f":"IF(AND(EBP_Matrix!AI47=1,Risk_Alc!$J$261=1),1,0)","v":0},{"$f":"IF(AND(EBP_Matrix!AJ47=1,Risk_Marj!$J$226=1),1,0)","v":0},{"$f":"IF(AND(EBP_Matrix!AK47=1,Risk_Tob!$J$219=1),1,0)","v":0},{"$f":"IF(AND(EBP_Matrix!AL47=1,Risk_RxDrugs!$J$219=1),1,0)","v":0},{"$f":"IF(AND(EBP_Matrix!AM47=1,Risk_Other!$J$219=1),1,0)","v":0},{"$f":"IF(AND(EBP_Matrix!AN47=1,Risk_Alc!$J$262=1),1,0)","v":0},{"$f":"IF(AND(EBP_Matrix!AO47=1,Risk_Marj!$J$227=1),1,0)","v":0},{"$f":"IF(AND(EBP_Matrix!AP47=1,Risk_Tob!$J$220=1),1,0)","v":0},{"$f":"IF(AND(EBP_Matrix!AQ47=1,Risk_RxDrugs!$J$220=1),1,0)","v":0},{"$f":"IF(AND(EBP_Matrix!AR47=1,Risk_Other!$J$220=1),1,0)","v":0},{"$f":"IF(AND(EBP_Matrix!AS47=1,Risk_Alc!$J$263=1),1,0)","v":0},{"$f":"IF(AND(EBP_Matrix!AT47=1,Risk_Marj!$J$228=1),1,0)","v":0},{"$f":"IF(AND(EBP_Matrix!AU47=1,Risk_Tob!$J$221=1),1,0)","v":0},{"$f":"IF(AND(EBP_Matrix!AV47=1,Risk_RxDrugs!$J$221=1),1,0)","v":0},{"$f":"IF(AND(EBP_Matrix!AW47=1,Risk_Other!$J$221=1),1,0)","v":0},{"$f":"IF(AND(EBP_Matrix!AX47=1,Risk_Alc!$J$264=1),1,0)","v":0},{"$f":"IF(AND(EBP_Matrix!AY47=1,Risk_Marj!$J$229=1),1,0)","v":0},{"$f":"IF(AND(EBP_Matrix!AZ47=1,Risk_Tob!$J$222=1),1,0)","v":0},{"$f":"IF(AND(EBP_Matrix!BA47=1,Risk_RxDrugs!$J$222=1),1,0)","v":0},{"$f":"IF(AND(EBP_Matrix!BB47=1,Risk_Other!$J$222=1),1,0)","v":0},{"$f":"IF(AND(EBP_Matrix!BC47=1,Risk_Alc!$J$265=1),1,0)","v":0},{"$f":"IF(AND(EBP_Matrix!BD47=1,Risk_Marj!$J$230=1),1,0)","v":0},{"$f":"IF(AND(EBP_Matrix!BE47=1,Risk_Tob!$J$223=1),1,0)","v":0},{"$f":"IF(AND(EBP_Matrix!BF47=1,Risk_RxDrugs!$J$223=1),1,0)","v":0},{"$f":"IF(AND(EBP_Matrix!BG47=1,Risk_Other!$J$223=1),1,0)","v":0},{"$f":"IF(AND(EBP_Matrix!BH47=1,Risk_Alc!$J$266=1),1,0)","v":0},{"$f":"IF(AND(EBP_Matrix!BI47=1,Risk_Marj!$J$231=1),1,0)","v":0},{"$f":"IF(AND(EBP_Matrix!BJ47=1,Risk_Tob!$J$224=1),1,0)","v":0},{"$f":"IF(AND(EBP_Matrix!BK47=1,Risk_RxDrugs!$J$224=1),1,0)","v":0},{"$f":"IF(AND(EBP_Matrix!BL47=1,Risk_Other!$J$224=1),1,0)","v":0},{"$f":"IF(AND(EBP_Matrix!BM47=1,Risk_Alc!$J$267=1),1,0)","v":0},{"$f":"IF(AND(EBP_Matrix!BN47=1,Risk_Marj!$J$232=1),1,0)","v":0},{"$f":"IF(AND(EBP_Matrix!BO47=1,Risk_Tob!$J$225=1),1,0)","v":0},{"$f":"IF(AND(EBP_Matrix!BP47=1,Risk_RxDrugs!$J$225=1),1,0)","v":0},{"$f":"IF(AND(EBP_Matrix!BQ47=1,Risk_Other!$J$225=1),1,0)","v":0},{"$f":"IF(AND(EBP_Matrix!BR47=1,Risk_Alc!$J$268=1),1,0)","v":0},{"$f":"IF(AND(EBP_Matrix!BS47=1,Risk_Marj!$J$233=1),1,0)","v":0},{"$f":"IF(AND(EBP_Matrix!BT47=1,Risk_Tob!$J$226=1),1,0)","v":0},{"$f":"IF(AND(EBP_Matrix!BU47=1,Risk_RxDrugs!$J$226=1),1,0)","v":0},{"$f":"IF(AND(EBP_Matrix!BV47=1,Risk_Other!$J$226=1),1,0)","v":0},{"$f":"IF(AND(EBP_Matrix!BW47=1,Risk_Alc!$J$269=1),1,0)","v":0},{"$f":"IF(AND(EBP_Matrix!BX47=1,Risk_Marj!$J$234=1),1,0)","v":0},{"$f":"IF(AND(EBP_Matrix!BY47=1,Risk_Tob!$J$227=1),1,0)","v":0},{"$f":"IF(AND(EBP_Matrix!BZ47=1,Risk_RxDrugs!$J$227=1),1,0)","v":0},{"$f":"IF(AND(EBP_Matrix!CA47=1,Risk_Other!$J$227=1),1,0)","v":0},{"$f":"IF(AND(EBP_Matrix!CB47=1,Risk_Alc!$J$270=1),1,0)","v":0},{"$f":"IF(AND(EBP_Matrix!CC47=1,Risk_Marj!$J$235=1),1,0)","v":0},{"$f":"IF(AND(EBP_Matrix!CD47=1,Risk_Tob!$J$228=1),1,0)","v":0},{"$f":"IF(AND(EBP_Matrix!CE47=1,Risk_RxDrugs!$J$228=1),1,0)","v":0},{"$f":"IF(AND(EBP_Matrix!CF47=1,Risk_Other!$J$228=1),1,0)","v":0},{"$f":"IF(AND(EBP_Matrix!CG47=1,Risk_Alc!$J$271=1),1,0)","v":0},{"$f":"IF(AND(EBP_Matrix!CH47=1,Risk_Marj!$J$236=1),1,0)","v":0},{"$f":"IF(AND(EBP_Matrix!CI47=1,Risk_Tob!$J$229=1),1,0)","v":0},{"$f":"IF(AND(EBP_Matrix!CJ47=1,Risk_RxDrugs!$J$229=1),1,0)","v":0},{"$f":"IF(AND(EBP_Matrix!CK47=1,Risk_Other!$J$229=1),1,0)","v":0},{"$f":"IF(AND(EBP_Matrix!CL47=1,Risk_Alc!$J$272=1),1,0)","v":0},{"$f":"IF(AND(EBP_Matrix!CM47=1,Risk_Marj!$J$237=1),1,0)","v":0},{"$f":"IF(AND(EBP_Matrix!CN47=1,Risk_Tob!$J$230=1),1,0)","v":0},{"$f":"IF(AND(EBP_Matrix!CO47=1,Risk_RxDrugs!$J$230=1),1,0)","v":0},{"$f":"IF(AND(EBP_Matrix!CP47=1,Risk_Other!$J$230=1),1,0)","v":0},0,0,0,0,0,0,0]
[{"$f":"EBP_Matrix!A48","v":"Shoulder Tap Program"},null,null,0,null,null,null,{"$f":"IF(AND(EBP_Matrix!T48=1,Prob_Alc!C71>0),1,0)","v":0},{"$f":"IF(AND(EBP_Matrix!T48=1,Prob_Alc!C71>0),1,0)","v":0},{"$f":"IF(AND(EBP_Matrix!T48=1,Prob_Alc!C71>0),1,0)","v":0},{"$f":"IF(AND(EBP_Matrix!T48=1,Prob_Alc!C71>0),1,0)","v":0},{"$f":"IF(AND(EBP_Matrix!T48=1,Prob_Alc!C71>0),1,0)","v":0},{"$f":"IF(AND(EBP_Matrix!T48=1,Prob_Alc!C71>0),1,0)","v":0},{"$f":"IF(AND(EBP_Matrix!T48=1,Prob_Alc!C71>0),1,0)","v":0},{"$f":"IF(AND(EBP_Matrix!T48=1,Prob_Alc!C71>0),1,0)","v":0},{"$f":"IF(AND(EBP_Matrix!U48=1,Prob_Marj!C71>0),1,0)","v":0},{"$f":"IF(AND(EBP_Matrix!U48=1,Prob_Marj!C71>0),1,0)","v":0},{"$f":"IF(AND(EBP_Matrix!U48=1,Prob_Marj!C71>0),1,0)","v":0},{"$f":"IF(AND(EBP_Matrix!U48=1,Prob_Marj!C71>0),1,0)","v":0},{"$f":"IF(AND(EBP_Matrix!V48=1,Prob_Tob!C71>0),1,0)","v":0},{"$f":"IF(AND(EBP_Matrix!V48=1,Prob_Tob!C71>0),1,0)","v":0},{"$f":"IF(AND(EBP_Matrix!V48=1,Prob_Tob!C71>0),1,0)","v":0},{"$f":"IF(AND(EBP_Matrix!V48=1,Prob_Tob!C71>0),1,0)","v":0},{"$f":"IF(AND(EBP_Matrix!V48=1,Prob_Tob!C71>0),1,0)","v":0},{"$f":"IF(AND(EBP_Matrix!V48=1,Prob_Tob!C71>0),1,0)","v":0},{"$f":"IF(AND(EBP_Matrix!W48=1,Prob_RxDrugs!C31>0),1,0)","v":0},{"$f":"IF(AND(EBP_Matrix!W48=1,Prob_RxDrugs!C31>0),1,0)","v":0},null,{"$f":"IF(AND(EBP_Matrix!X48=1,Prob_Other!C21>0),1,0)","v":0},{"$f":"IF(AND(EBP_Matrix!Y48=1,Risk_Alc!$J$259=1),1,0)","v":0},{"$f":"IF(AND(EBP_Matrix!Z48=1,Risk_Marj!$J$224=1),1,0)","v":0},{"$f":"IF(AND(EBP_Matrix!AA48=1,Risk_Tob!$J$217=1),1,0)","v":0},{"$f":"IF(AND(EBP_Matrix!AB48=1,Risk_RxDrugs!$J$217=1),1,0)","v":0},{"$f":"IF(AND(EBP_Matrix!AC48=1,Risk_Other!$J$217=1),1,0)","v":0},{"$f":"IF(AND(EBP_Matrix!AD48=1,Risk_Alc!$J$260=1),1,0)","v":0},{"$f":"IF(AND(EBP_Matrix!AE48=1,Risk_Marj!$J$225=1),1,0)","v":0},{"$f":"IF(AND(EBP_Matrix!AF48=1,Risk_Tob!$J$218=1),1,0)","v":0},{"$f":"IF(AND(EBP_Matrix!AG48=1,Risk_RxDrugs!$J$218=1),1,0)","v":0},{"$f":"IF(AND(EBP_Matrix!AH48=1,Risk_Other!$J$218=1),1,0)","v":0},{"$f":"IF(AND(EBP_Matrix!AI48=1,Risk_Alc!$J$261=1),1,0)","v":0},{"$f":"IF(AND(EBP_Matrix!AJ48=1,Risk_Marj!$J$226=1),1,0)","v":0},{"$f":"IF(AND(EBP_Matrix!AK48=1,Risk_Tob!$J$219=1),1,0)","v":0},{"$f":"IF(AND(EBP_Matrix!AL48=1,Risk_RxDrugs!$J$219=1),1,0)","v":0},{"$f":"IF(AND(EBP_Matrix!AM48=1,Risk_Other!$J$219=1),1,0)","v":0},{"$f":"IF(AND(EBP_Matrix!AN48=1,Risk_Alc!$J$262=1),1,0)","v":0},{"$f":"IF(AND(EBP_Matrix!AO48=1,Risk_Marj!$J$227=1),1,0)","v":0},{"$f":"IF(AND(EBP_Matrix!AP48=1,Risk_Tob!$J$220=1),1,0)","v":0},{"$f":"IF(AND(EBP_Matrix!AQ48=1,Risk_RxDrugs!$J$220=1),1,0)","v":0},{"$f":"IF(AND(EBP_Matrix!AR48=1,Risk_Other!$J$220=1),1,0)","v":0},{"$f":"IF(AND(EBP_Matrix!AS48=1,Risk_Alc!$J$263=1),1,0)","v":0},{"$f":"IF(AND(EBP_Matrix!AT48=1,Risk_Marj!$J$228=1),1,0)","v":0},{"$f":"IF(AND(EBP_Matrix!AU48=1,Risk_Tob!$J$221=1),1,0)","v":0},{"$f":"IF(AND(EBP_Matrix!AV48=1,Risk_RxDrugs!$J$221=1),1,0)","v":0},{"$f":"IF(AND(EBP_Matrix!AW48=1,Risk_Other!$J$221=1),1,0)","v":0},{"$f":"IF(AND(EBP_Matrix!AX48=1,Risk_Alc!$J$264=1),1,0)","v":0},{"$f":"IF(AND(EBP_Matrix!AY48=1,Risk_Marj!$J$229=1),1,0)","v":0},{"$f":"IF(AND(EBP_Matrix!AZ48=1,Risk_Tob!$J$222=1),1,0)","v":0},{"$f":"IF(AND(EBP_Matrix!BA48=1,Risk_RxDrugs!$J$222=1),1,0)","v":0},{"$f":"IF(AND(EBP_Matrix!BB48=1,Risk_Other!$J$222=1),1,0)","v":0},{"$f":"IF(AND(EBP_Matrix!BC48=1,Risk_Alc!$J$265=1),1,0)","v":0},{"$f":"IF(AND(EBP_Matrix!BD48=1,Risk_Marj!$J$230=1),1,0)","v":0},{"$f":"IF(AND(EBP_Matrix!BE48=1,Risk_Tob!$J$223=1),1,0)","v":0},{"$f":"IF(AND(EBP_Matrix!BF48=1,Risk_RxDrugs!$J$223=1),1,0)","v":0},{"$f":"IF(AND(EBP_Matrix!BG48=1,Risk_Other!$J$223=1),1,0)","v":0},{"$f":"IF(AND(EBP_Matrix!BH48=1,Risk_Alc!$J$266=1),1,0)","v":0},{"$f":"IF(AND(EBP_Matrix!BI48=1,Risk_Marj!$J$231=1),1,0)","v":0},{"$f":"IF(AND(EBP_Matrix!BJ48=1,Risk_Tob!$J$224=1),1,0)","v":0},{"$f":"IF(AND(EBP_Matrix!BK48=1,Risk_RxDrugs!$J$224=1),1,0)","v":0},{"$f":"IF(AND(EBP_Matrix!BL48=1,Risk_Other!$J$224=1),1,0)","v":0},{"$f":"IF(AND(EBP_Matrix!BM48=1,Risk_Alc!$J$267=1),1,0)","v":0},{"$f":"IF(AND(EBP_Matrix!BN48=1,Risk_Marj!$J$232=1),1,0)","v":0},{"$f":"IF(AND(EBP_Matrix!BO48=1,Risk_Tob!$J$225=1),1,0)","v":0},{"$f":"IF(AND(EBP_Matrix!BP48=1,Risk_RxDrugs!$J$225=1),1,0)","v":0},{"$f":"IF(AND(EBP_Matrix!BQ48=1,Risk_Other!$J$225=1),1,0)","v":0},{"$f":"IF(AND(EBP_Matrix!BR48=1,Risk_Alc!$J$268=1),1,0)","v":0},{"$f":"IF(AND(EBP_Matrix!BS48=1,Risk_Marj!$J$233=1),1,0)","v":0},{"$f":"IF(AND(EBP_Matrix!BT48=1,Risk_Tob!$J$226=1),1,0)","v":0},{"$f":"IF(AND(EBP_Matrix!BU48=1,Risk_RxDrugs!$J$226=1),1,0)","v":0},{"$f":"IF(AND(EBP_Matrix!BV48=1,Risk_Other!$J$226=1),1,0)","v":0},{"$f":"IF(AND(EBP_Matrix!BW48=1,Risk_Alc!$J$269=1),1,0)","v":0},{"$f":"IF(AND(EBP_Matrix!BX48=1,Risk_Marj!$J$234=1),1,0)","v":0},{"$f":"IF(AND(EBP_Matrix!BY48=1,Risk_Tob!$J$227=1),1,0)","v":0},{"$f":"IF(AND(EBP_Matrix!BZ48=1,Risk_RxDrugs!$J$227=1),1,0)","v":0},{"$f":"IF(AND(EBP_Matrix!CA48=1,Risk_Other!$J$227=1),1,0)","v":0},{"$f":"IF(AND(EBP_Matrix!CB48=1,Risk_Alc!$J$270=1),1,0)","v":0},{"$f":"IF(AND(EBP_Matrix!CC48=1,Risk_Marj!$J$235=1),1,0)","v":0},{"$f":"IF(AND(EBP_Matrix!CD48=1,Risk_Tob!$J$228=1),1,0)","v":0},{"$f":"IF(AND(EBP_Matrix!CE48=1,Risk_RxDrugs!$J$228=1),1,0)","v":0},{"$f":"IF(AND(EBP_Matrix!CF48=1,Risk_Other!$J$228=1),1,0)","v":0},{"$f":"IF(AND(EBP_Matrix!CG48=1,Risk_Alc!$J$271=1),1,0)","v":0},{"$f":"IF(AND(EBP_Matrix!CH48=1,Risk_Marj!$J$236=1),1,0)","v":0},{"$f":"IF(AND(EBP_Matrix!CI48=1,Risk_Tob!$J$229=1),1,0)","v":0},{"$f":"IF(AND(EBP_Matrix!CJ48=1,Risk_RxDrugs!$J$229=1),1,0)","v":0},{"$f":"IF(AND(EBP_Matrix!CK48=1,Risk_Other!$J$229=1),1,0)","v":0},{"$f":"IF(AND(EBP_Matrix!CL48=1,Risk_Alc!$J$272=1),1,0)","v":0},{"$f":"IF(AND(EBP_Matrix!CM48=1,Risk_Marj!$J$237=1),1,0)","v":0},{"$f":"IF(AND(EBP_Matrix!CN48=1,Risk_Tob!$J$230=1),1,0)","v":0},{"$f":"IF(AND(EBP_Matrix!CO48=1,Risk_RxDrugs!$J$230=1),1,0)","v":0},{"$f":"IF(AND(EBP_Matrix!CP48=1,Risk_Other!$J$230=1),1,0)","v":0},0,0,0,0,0,0,0]
[{"$f":"EBP_Matrix!A49","v":"Sobriety Checkpoints"},null,null,0,null,null,null,{"$f":"IF(AND(EBP_Matrix!T49=1,Prob_Alc!C71>0),1,0)","v":0},{"$f":"IF(AND(EBP_Matrix!T49=1,Prob_Alc!C71>0),1,0)","v":0},{"$f":"IF(AND(EBP_Matrix!T49=1,Prob_Alc!C71>0),1,0)","v":0},{"$f":"IF(AND(EBP_Matrix!T49=1,Prob_Alc!C71>0),1,0)","v":0},{"$f":"IF(AND(EBP_Matrix!T49=1,Prob_Alc!C71>0),1,0)","v":0},{"$f":"IF(AND(EBP_Matrix!T49=1,Prob_Alc!C71>0),1,0)","v":0},{"$f":"IF(AND(EBP_Matrix!T49=1,Prob_Alc!C71>0),1,0)","v":0},{"$f":"IF(AND(EBP_Matrix!T49=1,Prob_Alc!C71>0),1,0)","v":0},{"$f":"IF(AND(EBP_Matrix!U49=1,Prob_Marj!C71>0),1,0)","v":0},{"$f":"IF(AND(EBP_Matrix!U49=1,Prob_Marj!C71>0),1,0)","v":0},{"$f":"IF(AND(EBP_Matrix!U49=1,Prob_Marj!C71>0),1,0)","v":0},{"$f":"IF(AND(EBP_Matrix!U49=1,Prob_Marj!C71>0),1,0)","v":0},{"$f":"IF(AND(EBP_Matrix!V49=1,Prob_Tob!C71>0),1,0)","v":0},{"$f":"IF(AND(EBP_Matrix!V49=1,Prob_Tob!C71>0),1,0)","v":0},{"$f":"IF(AND(EBP_Matrix!V49=1,Prob_Tob!C71>0),1,0)","v":0},{"$f":"IF(AND(EBP_Matrix!V49=1,Prob_Tob!C71>0),1,0)","v":0},{"$f":"IF(AND(EBP_Matrix!V49=1,Prob_Tob!C71>0),1,0)","v":0},{"$f":"IF(AND(EBP_Matrix!V49=1,Prob_Tob!C71>0),1,0)","v":0},{"$f":"IF(AND(EBP_Matrix!W49=1,Prob_RxDrugs!C31>0),1,0)","v":0},{"$f":"IF(AND(EBP_Matrix!W49=1,Prob_RxDrugs!C31>0),1,0)","v":0},null,{"$f":"IF(AND(EBP_Matrix!X49=1,Prob_Other!C21>0),1,0)","v":0},{"$f":"IF(AND(EBP_Matrix!Y49=1,Risk_Alc!$J$259=1),1,0)","v":0},{"$f":"IF(AND(EBP_Matrix!Z49=1,Risk_Marj!$J$224=1),1,0)","v":0},{"$f":"IF(AND(EBP_Matrix!AA49=1,Risk_Tob!$J$217=1),1,0)","v":0},{"$f":"IF(AND(EBP_Matrix!AB49=1,Risk_RxDrugs!$J$217=1),1,0)","v":0},{"$f":"IF(AND(EBP_Matrix!AC49=1,Risk_Other!$J$217=1),1,0)","v":0},{"$f":"IF(AND(EBP_Matrix!AD49=1,Risk_Alc!$J$260=1),1,0)","v":0},{"$f":"IF(AND(EBP_Matrix!AE49=1,Risk_Marj!$J$225=1),1,0)","v":0},{"$f":"IF(AND(EBP_Matrix!AF49=1,Risk_Tob!$J$218=1),1,0)","v":0},{"$f":"IF(AND(EBP_Matrix!AG49=1,Risk_RxDrugs!$J$218=1),1,0)","v":0},{"$f":"IF(AND(EBP_Matrix!AH49=1,Risk_Other!$J$218=1),1,0)","v":0},{"$f":"IF(AND(EBP_Matrix!AI49=1,Risk_Alc!$J$261=1),1,0)","v":0},{"$f":"IF(AND(EBP_Matrix!AJ49=1,Risk_Marj!$J$226=1),1,0)","v":0},{"$f":"IF(AND(EBP_Matrix!AK49=1,Risk_Tob!$J$219=1),1,0)","v":0},{"$f":"IF(AND(EBP_Matrix!AL49=1,Risk_RxDrugs!$J$219=1),1,0)","v":0},{"$f":"IF(AND(EBP_Matrix!AM49=1,Risk_Other!$J$219=1),1,0)","v":0},{"$f":"IF(AND(EBP_Matrix!AN49=1,Risk_Alc!$J$262=1),1,0)","v":0},{"$f":"IF(AND(EBP_Matrix!AO49=1,Risk_Marj!$J$227=1),1,0)","v":0},{"$f":"IF(AND(EBP_Matrix!AP49=1,Risk_Tob!$J$220=1),1,0)","v":0},{"$f":"IF(AND(EBP_Matrix!AQ49=1,Risk_RxDrugs!$J$220=1),1,0)","v":0},{"$f":"IF(AND(EBP_Matrix!AR49=1,Risk_Other!$J$220=1),1,0)","v":0},{"$f":"IF(AND(EBP_Matrix!AS49=1,Risk_Alc!$J$263=1),1,0)","v":0},{"$f":"IF(AND(EBP_Matrix!AT49=1,Risk_Marj!$J$228=1),1,0)","v":0},{"$f":"IF(AND(EBP_Matrix!AU49=1,Risk_Tob!$J$221=1),1,0)","v":0},{"$f":"IF(AND(EBP_Matrix!AV49=1,Risk_RxDrugs!$J$221=1),1,0)","v":0},{"$f":"IF(AND(EBP_Matrix!AW49=1,Risk_Other!$J$221=1),1,0)","v":0},{"$f":"IF(AND(EBP_Matrix!AX49=1,Risk_Alc!$J$264=1),1,0)","v":0},{"$f":"IF(AND(EBP_Matrix!AY49=1,Risk_Marj!$J$229=1),1,0)","v":0},{"$f":"IF(AND(EBP_Matrix!AZ49=1,Risk_Tob!$J$222=1),1,0)","v":0},{"$f":"IF(AND(EBP_Matrix!BA49=1,Risk_RxDrugs!$J$222=1),1,0)","v":0},{"$f":"IF(AND(EBP_Matrix!BB49=1,Risk_Other!$J$222=1),1,0)","v":0},{"$f":"IF(AND(EBP_Matrix!BC49=1,Risk_Alc!$J$265=1),1,0)","v":0},{"$f":"IF(AND(EBP_Matrix!BD49=1,Risk_Marj!$J$230=1),1,0)","v":0},{"$f":"IF(AND(EBP_Matrix!BE49=1,Risk_Tob!$J$223=1),1,0)","v":0},{"$f":"IF(AND(EBP_Matrix!BF49=1,Risk_RxDrugs!$J$223=1),1,0)","v":0},{"$f":"IF(AND(EBP_Matrix!BG49=1,Risk_Other!$J$223=1),1,0)","v":0},{"$f":"IF(AND(EBP_Matrix!BH49=1,Risk_Alc!$J$266=1),1,0)","v":0},{"$f":"IF(AND(EBP_Matrix!BI49=1,Risk_Marj!$J$231=1),1,0)","v":0},{"$f":"IF(AND(EBP_Matrix!BJ49=1,Risk_Tob!$J$224=1),1,0)","v":0},{"$f":"IF(AND(EBP_Matrix!BK49=1,Risk_RxDrugs!$J$224=1),1,0)","v":0},{"$f":"IF(AND(EBP_Matrix!BL49=1,Risk_Other!$J$224=1),1,0)","v":0},{"$f":"IF(AND(EBP_Matrix!BM49=1,Risk_Alc!$J$267=1),1,0)","v":0},{"$f":"IF(AND(EBP_Matrix!BN49=1,Risk_Marj!$J$232=1),1,0)","v":0},{"$f":"IF(AND(EBP_Matrix!BO49=1,Risk_Tob!$J$225=1),1,0)","v":0},{"$f":"IF(AND(EBP_Matrix!BP49=1,Risk_RxDrugs!$J$225=1),1,0)","v":0},{"$f":"IF(AND(EBP_Matrix!BQ49=1,Risk_Other!$J$225=1),1,0)","v":0},{"$f":"IF(AND(EBP_Matrix!BR49=1,Risk_Alc!$J$268=1),1,0)","v":0},{"$f":"IF(AND(EBP_Matrix!BS49=1,Risk_Marj!$J$233=1),1,0)","v":0},{"$f":"IF(AND(EBP_Matrix!BT49=1,Risk_Tob!$J$226=1),1,0)","v":0},{"$f":"IF(AND(EBP_Matrix!BU49=1,Risk_RxDrugs!$J$226=1),1,0)","v":0},{"$f":"IF(AND(EBP_Matrix!BV49=1,Risk_Other!$J$226=1),1,0)","v":0},{"$f":"IF(AND(EBP_Matrix!BW49=1,Risk_Alc!$J$269=1),1,0)","v":0},{"$f":"IF(AND(EBP_Matrix!BX49=1,Risk_Marj!$J$234=1),1,0)","v":0},{"$f":"IF(AND(EBP_Matrix!BY49=1,Risk_Tob!$J$227=1),1,0)","v":0},{"$f":"IF(AND(EBP_Matrix!BZ49=1,Risk_RxDrugs!$J$227=1),1,0)","v":0},{"$f":"IF(AND(EBP_Matrix!CA49=1,Risk_Other!$J$227=1),1,0)","v":0},{"$f":"IF(AND(EBP_Matrix!CB49=1,Risk_Alc!$J$270=1),1,0)","v":0},{"$f":"IF(AND(EBP_Matrix!CC49=1,Risk_Marj!$J$235=1),1,0)","v":0},{"$f":"IF(AND(EBP_Matrix!CD49=1,Risk_Tob!$J$228=1),1,0)","v":0},{"$f":"IF(AND(EBP_Matrix!CE49=1,Risk_RxDrugs!$J$228=1),1,0)","v":0},{"$f":"IF(AND(EBP_Matrix!CF49=1,Risk_Other!$J$228=1),1,0)","v":0},{"$f":"IF(AND(EBP_Matrix!CG49=1,Risk_Alc!$J$271=1),1,0)","v":0},{"$f":"IF(AND(EBP_Matrix!CH49=1,Risk_Marj!$J$236=1),1,0)","v":0},{"$f":"IF(AND(EBP_Matrix!CI49=1,Risk_Tob!$J$229=1),1,0)","v":0},{"$f":"IF(AND(EBP_Matrix!CJ49=1,Risk_RxDrugs!$J$229=1),1,0)","v":0},{"$f":"IF(AND(EBP_Matrix!CK49=1,Risk_Other!$J$229=1),1,0)","v":0},{"$f":"IF(AND(EBP_Matrix!CL49=1,Risk_Alc!$J$272=1),1,0)","v":0},{"$f":"IF(AND(EBP_Matrix!CM49=1,Risk_Marj!$J$237=1),1,0)","v":0},{"$f":"IF(AND(EBP_Matrix!CN49=1,Risk_Tob!$J$230=1),1,0)","v":0},{"$f":"IF(AND(EBP_Matrix!CO49=1,Risk_RxDrugs!$J$230=1),1,0)","v":0},{"$f":"IF(AND(EBP_Matrix!CP49=1,Risk_Other!$J$230=1),1,0)","v":0},0,0,0,0,0,0,0]
[{"$f":"EBP_Matrix!A50","v":"Social Norming Campaigns"},null,null,0,null,null,null,{"$f":"IF(AND(EBP_Matrix!T50=1,Prob_Alc!C71>0),1,0)","v":0},{"$f":"IF(AND(EBP_Matrix!T50=1,Prob_Alc!C71>0),1,0)","v":0},{"$f":"IF(AND(EBP_Matrix!T50=1,Prob_Alc!C71>0),1,0)","v":0},{"$f":"IF(AND(EBP_Matrix!T50=1,Prob_Alc!C71>0),1,0)","v":0},{"$f":"IF(AND(EBP_Matrix!T50=1,Prob_Alc!C71>0),1,0)","v":0},{"$f":"IF(AND(EBP_Matrix!T50=1,Prob_Alc!C71>0),1,0)","v":0},{"$f":"IF(AND(EBP_Matrix!T50=1,Prob_Alc!C71>0),1,0)","v":0},{"$f":"IF(AND(EBP_Matrix!T50=1,Prob_Alc!C71>0),1,0)","v":0},{"$f":"IF(AND(EBP_Matrix!U50=1,Prob_Marj!C71>0),1,0)","v":0},{"$f":"IF(AND(EBP_Matrix!U50=1,Prob_Marj!C71>0),1,0)","v":0},{"$f":"IF(AND(EBP_Matrix!U50=1,Prob_Marj!C71>0),1,0)","v":0},{"$f":"IF(AND(EBP_Matrix!U50=1,Prob_Marj!C71>0),1,0)","v":0},{"$f":"IF(AND(EBP_Matrix!V50=1,Prob_Tob!C71>0),1,0)","v":0},{"$f":"IF(AND(EBP_Matrix!V50=1,Prob_Tob!C71>0),1,0)","v":0},{"$f":"IF(AND(EBP_Matrix!V50=1,Prob_Tob!C71>0),1,0)","v":0},{"$f":"IF(AND(EBP_Matrix!V50=1,Prob_Tob!C71>0),1,0)","v":0},{"$f":"IF(AND(EBP_Matrix!V50=1,Prob_Tob!C71>0),1,0)","v":0},{"$f":"IF(AND(EBP_Matrix!V50=1,Prob_Tob!C71>0),1,0)","v":0},{"$f":"IF(AND(EBP_Matrix!W50=1,Prob_RxDrugs!C31>0),1,0)","v":0},{"$f":"IF(AND(EBP_Matrix!W50=1,Prob_RxDrugs!C31>0),1,0)","v":0},null,{"$f":"IF(AND(EBP_Matrix!X50=1,Prob_Other!C21>0),1,0)","v":0},{"$f":"IF(AND(EBP_Matrix!Y50=1,Risk_Alc!$J$259=1),1,0)","v":0},{"$f":"IF(AND(EBP_Matrix!Z50=1,Risk_Marj!$J$224=1),1,0)","v":0},{"$f":"IF(AND(EBP_Matrix!AA50=1,Risk_Tob!$J$217=1),1,0)","v":0},{"$f":"IF(AND(EBP_Matrix!AB50=1,Risk_RxDrugs!$J$217=1),1,0)","v":0},{"$f":"IF(AND(EBP_Matrix!AC50=1,Risk_Other!$J$217=1),1,0)","v":0},{"$f":"IF(AND(EBP_Matrix!AD50=1,Risk_Alc!$J$260=1),1,0)","v":0},{"$f":"IF(AND(EBP_Matrix!AE50=1,Risk_Marj!$J$225=1),1,0)","v":0},{"$f":"IF(AND(EBP_Matrix!AF50=1,Risk_Tob!$J$218=1),1,0)","v":0},{"$f":"IF(AND(EBP_Matrix!AG50=1,Risk_RxDrugs!$J$218=1),1,0)","v":0},{"$f":"IF(AND(EBP_Matrix!AH50=1,Risk_Other!$J$218=1),1,0)","v":0},{"$f":"IF(AND(EBP_Matrix!AI50=1,Risk_Alc!$J$261=1),1,0)","v":0},{"$f":"IF(AND(EBP_Matrix!AJ50=1,Risk_Marj!$J$226=1),1,0)","v":0},{"$f":"IF(AND(EBP_Matrix!AK50=1,Risk_Tob!$J$219=1),1,0)","v":0},{"$f":"IF(AND(EBP_Matrix!AL50=1,Risk_RxDrugs!$J$219=1),1,0)","v":0},{"$f":"IF(AND(EBP_Matrix!AM50=1,Risk_Other!$J$219=1),1,0)","v":0},{"$f":"IF(AND(EBP_Matrix!AN50=1,Risk_Alc!$J$262=1),1,0)","v":0},{"$f":"IF(AND(EBP_Matrix!AO50=1,Risk_Marj!$J$227=1),1,0)","v":0},{"$f":"IF(AND(EBP_Matrix!AP50=1,Risk_Tob!$J$220=1),1,0)","v":0},{"$f":"IF(AND(EBP_Matrix!AQ50=1,Risk_RxDrugs!$J$220=1),1,0)","v":0},{"$f":"IF(AND(EBP_Matrix!AR50=1,Risk_Other!$J$220=1),1,0)","v":0},{"$f":"IF(AND(EBP_Matrix!AS50=1,Risk_Alc!$J$263=1),1,0)","v":0},{"$f":"IF(AND(EBP_Matrix!AT50=1,Risk_Marj!$J$228=1),1,0)","v":0},{"$f":"IF(AND(EBP_Matrix!AU50=1,Risk_Tob!$J$221=1),1,0)","v":0},{"$f":"IF(AND(EBP_Matrix!AV50=1,Risk_RxDrugs!$J$221=1),1,0)","v":0},{"$f":"IF(AND(EBP_Matrix!AW50=1,Risk_Other!$J$221=1),1,0)","v":0},{"$f":"IF(AND(EBP_Matrix!AX50=1,Risk_Alc!$J$264=1),1,0)","v":0},{"$f":"IF(AND(EBP_Matrix!AY50=1,Risk_Marj!$J$229=1),1,0)","v":0},{"$f":"IF(AND(EBP_Matrix!AZ50=1,Risk_Tob!$J$222=1),1,0)","v":0},{"$f":"IF(AND(EBP_Matrix!BA50=1,Risk_RxDrugs!$J$222=1),1,0)","v":0},{"$f":"IF(AND(EBP_Matrix!BB50=1,Risk_Other!$J$222=1),1,0)","v":0},{"$f":"IF(AND(EBP_Matrix!BC50=1,Risk_Alc!$J$265=1),1,0)","v":0},{"$f":"IF(AND(EBP_Matrix!BD50=1,Risk_Marj!$J$230=1),1,0)","v":0},{"$f":"IF(AND(EBP_Matrix!BE50=1,Risk_Tob!$J$223=1),1,0)","v":0},{"$f":"IF(AND(EBP_Matrix!BF50=1,Risk_RxDrugs!$J$223=1),1,0)","v":0},{"$f":"IF(AND(EBP_Matrix!BG50=1,Risk_Other!$J$223=1),1,0)","v":0},{"$f":"IF(AND(EBP_Matrix!BH50=1,Risk_Alc!$J$266=1),1,0)","v":0},{"$f":"IF(AND(EBP_Matrix!BI50=1,Risk_Marj!$J$231=1),1,0)","v":0},{"$f":"IF(AND(EBP_Matrix!BJ50=1,Risk_Tob!$J$224=1),1,0)","v":0},{"$f":"IF(AND(EBP_Matrix!BK50=1,Risk_RxDrugs!$J$224=1),1,0)","v":0},{"$f":"IF(AND(EBP_Matrix!BL50=1,Risk_Other!$J$224=1),1,0)","v":0},{"$f":"IF(AND(EBP_Matrix!BM50=1,Risk_Alc!$J$267=1),1,0)","v":0},{"$f":"IF(AND(EBP_Matrix!BN50=1,Risk_Marj!$J$232=1),1,0)","v":0},{"$f":"IF(AND(EBP_Matrix!BO50=1,Risk_Tob!$J$225=1),1,0)","v":0},{"$f":"IF(AND(EBP_Matrix!BP50=1,Risk_RxDrugs!$J$225=1),1,0)","v":0},{"$f":"IF(AND(EBP_Matrix!BQ50=1,Risk_Other!$J$225=1),1,0)","v":0},{"$f":"IF(AND(EBP_Matrix!BR50=1,Risk_Alc!$J$268=1),1,0)","v":0},{"$f":"IF(AND(EBP_Matrix!BS50=1,Risk_Marj!$J$233=1),1,0)","v":0},{"$f":"IF(AND(EBP_Matrix!BT50=1,Risk_Tob!$J$226=1),1,0)","v":0},{"$f":"IF(AND(EBP_Matrix!BU50=1,Risk_RxDrugs!$J$226=1),1,0)","v":0},{"$f":"IF(AND(EBP_Matrix!BV50=1,Risk_Other!$J$226=1),1,0)","v":0},{"$f":"IF(AND(EBP_Matrix!BW50=1,Risk_Alc!$J$269=1),1,0)","v":0},{"$f":"IF(AND(EBP_Matrix!BX50=1,Risk_Marj!$J$234=1),1,0)","v":0},{"$f":"IF(AND(EBP_Matrix!BY50=1,Risk_Tob!$J$227=1),1,0)","v":0},{"$f":"IF(AND(EBP_Matrix!BZ50=1,Risk_RxDrugs!$J$227=1),1,0)","v":0},{"$f":"IF(AND(EBP_Matrix!CA50=1,Risk_Other!$J$227=1),1,0)","v":0},{"$f":"IF(AND(EBP_Matrix!CB50=1,Risk_Alc!$J$270=1),1,0)","v":0},{"$f":"IF(AND(EBP_Matrix!CC50=1,Risk_Marj!$J$235=1),1,0)","v":0},{"$f":"IF(AND(EBP_Matrix!CD50=1,Risk_Tob!$J$228=1),1,0)","v":0},{"$f":"IF(AND(EBP_Matrix!CE50=1,Risk_RxDrugs!$J$228=1),1,0)","v":0},{"$f":"IF(AND(EBP_Matrix!CF50=1,Risk_Other!$J$228=1),1,0)","v":0},{"$f":"IF(AND(EBP_Matrix!CG50=1,Risk_Alc!$J$271=1),1,0)","v":0},{"$f":"IF(AND(EBP_Matrix!CH50=1,Risk_Marj!$J$236=1),1,0)","v":0},{"$f":"IF(AND(EBP_Matrix!CI50=1,Risk_Tob!$J$229=1),1,0)","v":0},{"$f":"IF(AND(EBP_Matrix!CJ50=1,Risk_RxDrugs!$J$229=1),1,0)","v":0},{"$f":"IF(AND(EBP_Matrix!CK50=1,Risk_Other!$J$229=1),1,0)","v":0},{"$f":"IF(AND(EBP_Matrix!CL50=1,Risk_Alc!$J$272=1),1,0)","v":0},{"$f":"IF(AND(EBP_Matrix!CM50=1,Risk_Marj!$J$237=1),1,0)","v":0},{"$f":"IF(AND(EBP_Matrix!CN50=1,Risk_Tob!$J$230=1),1,0)","v":0},{"$f":"IF(AND(EBP_Matrix!CO50=1,Risk_RxDrugs!$J$230=1),1,0)","v":0},{"$f":"IF(AND(EBP_Matrix!CP50=1,Risk_Other!$J$230=1),1,0)","v":0},0,0,0,0,0,0,0]
[{"$f":"EBP_Matrix!A51","v":"SPORT Prevention Plus Wellness"},null,null,0,null,null,null,{"$f":"IF(AND(EBP_Matrix!T51=1,Prob_Alc!C71>0),1,0)","v":0},{"$f":"IF(AND(EBP_Matrix!T51=1,Prob_Alc!C71>0),1,0)","v":0},{"$f":"IF(AND(EBP_Matrix!T51=1,Prob_Alc!C71>0),1,0)","v":0},{"$f":"IF(AND(EBP_Matrix!T51=1,Prob_Alc!C71>0),1,0)","v":0},{"$f":"IF(AND(EBP_Matrix!T51=1,Prob_Alc!C71>0),1,0)","v":0},{"$f":"IF(AND(EBP_Matrix!T51=1,Prob_Alc!C71>0),1,0)","v":0},{"$f":"IF(AND(EBP_Matrix!T51=1,Prob_Alc!C71>0),1,0)","v":0},{"$f":"IF(AND(EBP_Matrix!T51=1,Prob_Alc!C71>0),1,0)","v":0},{"$f":"IF(AND(EBP_Matrix!U51=1,Prob_Marj!C71>0),1,0)","v":0},{"$f":"IF(AND(EBP_Matrix!U51=1,Prob_Marj!C71>0),1,0)","v":0},{"$f":"IF(AND(EBP_Matrix!U51=1,Prob_Marj!C71>0),1,0)","v":0},{"$f":"IF(AND(EBP_Matrix!U51=1,Prob_Marj!C71>0),1,0)","v":0},{"$f":"IF(AND(EBP_Matrix!V51=1,Prob_Tob!C71>0),1,0)","v":0},{"$f":"IF(AND(EBP_Matrix!V51=1,Prob_Tob!C71>0),1,0)","v":0},{"$f":"IF(AND(EBP_Matrix!V51=1,Prob_Tob!C71>0),1,0)","v":0},{"$f":"IF(AND(EBP_Matrix!V51=1,Prob_Tob!C71>0),1,0)","v":0},{"$f":"IF(AND(EBP_Matrix!V51=1,Prob_Tob!C71>0),1,0)","v":0},{"$f":"IF(AND(EBP_Matrix!V51=1,Prob_Tob!C71>0),1,0)","v":0},{"$f":"IF(AND(EBP_Matrix!W51=1,Prob_RxDrugs!C31>0),1,0)","v":0},{"$f":"IF(AND(EBP_Matrix!W51=1,Prob_RxDrugs!C31>0),1,0)","v":0},null,{"$f":"IF(AND(EBP_Matrix!X51=1,Prob_Other!C21>0),1,0)","v":0},{"$f":"IF(AND(EBP_Matrix!Y51=1,Risk_Alc!$J$259=1),1,0)","v":0},{"$f":"IF(AND(EBP_Matrix!Z51=1,Risk_Marj!$J$224=1),1,0)","v":0},{"$f":"IF(AND(EBP_Matrix!AA51=1,Risk_Tob!$J$217=1),1,0)","v":0},{"$f":"IF(AND(EBP_Matrix!AB51=1,Risk_RxDrugs!$J$217=1),1,0)","v":0},{"$f":"IF(AND(EBP_Matrix!AC51=1,Risk_Other!$J$217=1),1,0)","v":0},{"$f":"IF(AND(EBP_Matrix!AD51=1,Risk_Alc!$J$260=1),1,0)","v":0},{"$f":"IF(AND(EBP_Matrix!AE51=1,Risk_Marj!$J$225=1),1,0)","v":0},{"$f":"IF(AND(EBP_Matrix!AF51=1,Risk_Tob!$J$218=1),1,0)","v":0},{"$f":"IF(AND(EBP_Matrix!AG51=1,Risk_RxDrugs!$J$218=1),1,0)","v":0},{"$f":"IF(AND(EBP_Matrix!AH51=1,Risk_Other!$J$218=1),1,0)","v":0},{"$f":"IF(AND(EBP_Matrix!AI51=1,Risk_Alc!$J$261=1),1,0)","v":0},{"$f":"IF(AND(EBP_Matrix!AJ51=1,Risk_Marj!$J$226=1),1,0)","v":0},{"$f":"IF(AND(EBP_Matrix!AK51=1,Risk_Tob!$J$219=1),1,0)","v":0},{"$f":"IF(AND(EBP_Matrix!AL51=1,Risk_RxDrugs!$J$219=1),1,0)","v":0},{"$f":"IF(AND(EBP_Matrix!AM51=1,Risk_Other!$J$219=1),1,0)","v":0},{"$f":"IF(AND(EBP_Matrix!AN51=1,Risk_Alc!$J$262=1),1,0)","v":0},{"$f":"IF(AND(EBP_Matrix!AO51=1,Risk_Marj!$J$227=1),1,0)","v":0},{"$f":"IF(AND(EBP_Matrix!AP51=1,Risk_Tob!$J$220=1),1,0)","v":0},{"$f":"IF(AND(EBP_Matrix!AQ51=1,Risk_RxDrugs!$J$220=1),1,0)","v":0},{"$f":"IF(AND(EBP_Matrix!AR51=1,Risk_Other!$J$220=1),1,0)","v":0},{"$f":"IF(AND(EBP_Matrix!AS51=1,Risk_Alc!$J$263=1),1,0)","v":0},{"$f":"IF(AND(EBP_Matrix!AT51=1,Risk_Marj!$J$228=1),1,0)","v":0},{"$f":"IF(AND(EBP_Matrix!AU51=1,Risk_Tob!$J$221=1),1,0)","v":0},{"$f":"IF(AND(EBP_Matrix!AV51=1,Risk_RxDrugs!$J$221=1),1,0)","v":0},{"$f":"IF(AND(EBP_Matrix!AW51=1,Risk_Other!$J$221=1),1,0)","v":0},{"$f":"IF(AND(EBP_Matrix!AX51=1,Risk_Alc!$J$264=1),1,0)","v":0},{"$f":"IF(AND(EBP_Matrix!AY51=1,Risk_Marj!$J$229=1),1,0)","v":0},{"$f":"IF(AND(EBP_Matrix!AZ51=1,Risk_Tob!$J$222=1),1,0)","v":0},{"$f":"IF(AND(EBP_Matrix!BA51=1,Risk_RxDrugs!$J$222=1),1,0)","v":0},{"$f":"IF(AND(EBP_Matrix!BB51=1,Risk_Other!$J$222=1),1,0)","v":0},{"$f":"IF(AND(EBP_Matrix!BC51=1,Risk_Alc!$J$265=1),1,0)","v":0},{"$f":"IF(AND(EBP_Matrix!BD51=1,Risk_Marj!$J$230=1),1,0)","v":0},{"$f":"IF(AND(EBP_Matrix!BE51=1,Risk_Tob!$J$223=1),1,0)","v":0},{"$f":"IF(AND(EBP_Matrix!BF51=1,Risk_RxDrugs!$J$223=1),1,0)","v":0},{"$f":"IF(AND(EBP_Matrix!BG51=1,Risk_Other!$J$223=1),1,0)","v":0},{"$f":"IF(AND(EBP_Matrix!BH51=1,Risk_Alc!$J$266=1),1,0)","v":0},{"$f":"IF(AND(EBP_Matrix!BI51=1,Risk_Marj!$J$231=1),1,0)","v":0},{"$f":"IF(AND(EBP_Matrix!BJ51=1,Risk_Tob!$J$224=1),1,0)","v":0},{"$f":"IF(AND(EBP_Matrix!BK51=1,Risk_RxDrugs!$J$224=1),1,0)","v":0},{"$f":"IF(AND(EBP_Matrix!BL51=1,Risk_Other!$J$224=1),1,0)","v":0},{"$f":"IF(AND(EBP_Matrix!BM51=1,Risk_Alc!$J$267=1),1,0)","v":0},{"$f":"IF(AND(EBP_Matrix!BN51=1,Risk_Marj!$J$232=1),1,0)","v":0},{"$f":"IF(AND(EBP_Matrix!BO51=1,Risk_Tob!$J$225=1),1,0)","v":0},{"$f":"IF(AND(EBP_Matrix!BP51=1,Risk_RxDrugs!$J$225=1),1,0)","v":0},{"$f":"IF(AND(EBP_Matrix!BQ51=1,Risk_Other!$J$225=1),1,0)","v":0},{"$f":"IF(AND(EBP_Matrix!BR51=1,Risk_Alc!$J$268=1),1,0)","v":0},{"$f":"IF(AND(EBP_Matrix!BS51=1,Risk_Marj!$J$233=1),1,0)","v":0},{"$f":"IF(AND(EBP_Matrix!BT51=1,Risk_Tob!$J$226=1),1,0)","v":0},{"$f":"IF(AND(EBP_Matrix!BU51=1,Risk_RxDrugs!$J$226=1),1,0)","v":0},{"$f":"IF(AND(EBP_Matrix!BV51=1,Risk_Other!$J$226=1),1,0)","v":0},{"$f":"IF(AND(EBP_Matrix!BW51=1,Risk_Alc!$J$269=1),1,0)","v":0},{"$f":"IF(AND(EBP_Matrix!BX51=1,Risk_Marj!$J$234=1),1,0)","v":0},{"$f":"IF(AND(EBP_Matrix!BY51=1,Risk_Tob!$J$227=1),1,0)","v":0},{"$f":"IF(AND(EBP_Matrix!BZ51=1,Risk_RxDrugs!$J$227=1),1,0)","v":0},{"$f":"IF(AND(EBP_Matrix!CA51=1,Risk_Other!$J$227=1),1,0)","v":0},{"$f":"IF(AND(EBP_Matrix!CB51=1,Risk_Alc!$J$270=1),1,0)","v":0},{"$f":"IF(AND(EBP_Matrix!CC51=1,Risk_Marj!$J$235=1),1,0)","v":0},{"$f":"IF(AND(EBP_Matrix!CD51=1,Risk_Tob!$J$228=1),1,0)","v":0},{"$f":"IF(AND(EBP_Matrix!CE51=1,Risk_RxDrugs!$J$228=1),1,0)","v":0},{"$f":"IF(AND(EBP_Matrix!CF51=1,Risk_Other!$J$228=1),1,0)","v":0},{"$f":"IF(AND(EBP_Matrix!CG51=1,Risk_Alc!$J$271=1),1,0)","v":0},{"$f":"IF(AND(EBP_Matrix!CH51=1,Risk_Marj!$J$236=1),1,0)","v":0},{"$f":"IF(AND(EBP_Matrix!CI51=1,Risk_Tob!$J$229=1),1,0)","v":0},{"$f":"IF(AND(EBP_Matrix!CJ51=1,Risk_RxDrugs!$J$229=1),1,0)","v":0},{"$f":"IF(AND(EBP_Matrix!CK51=1,Risk_Other!$J$229=1),1,0)","v":0},{"$f":"IF(AND(EBP_Matrix!CL51=1,Risk_Alc!$J$272=1),1,0)","v":0},{"$f":"IF(AND(EBP_Matrix!CM51=1,Risk_Marj!$J$237=1),1,0)","v":0},{"$f":"IF(AND(EBP_Matrix!CN51=1,Risk_Tob!$J$230=1),1,0)","v":0},{"$f":"IF(AND(EBP_Matrix!CO51=1,Risk_RxDrugs!$J$230=1),1,0)","v":0},{"$f":"IF(AND(EBP_Matrix!CP51=1,Risk_Other!$J$230=1),1,0)","v":0},0,0,0,0,0,0,0]
[{"$f":"EBP_Matrix!A52","v":"Strengthening Families 10-14 (and 12-16)"},null,null,0,null,null,null,{"$f":"IF(AND(EBP_Matrix!T52=1,Prob_Alc!C71>0),1,0)","v":0},{"$f":"IF(AND(EBP_Matrix!T52=1,Prob_Alc!C71>0),1,0)","v":0},{"$f":"IF(AND(EBP_Matrix!T52=1,Prob_Alc!C71>0),1,0)","v":0},{"$f":"IF(AND(EBP_Matrix!T52=1,Prob_Alc!C71>0),1,0)","v":0},{"$f":"IF(AND(EBP_Matrix!T52=1,Prob_Alc!C71>0),1,0)","v":0},{"$f":"IF(AND(EBP_Matrix!T52=1,Prob_Alc!C71>0),1,0)","v":0},{"$f":"IF(AND(EBP_Matrix!T52=1,Prob_Alc!C71>0),1,0)","v":0},{"$f":"IF(AND(EBP_Matrix!T52=1,Prob_Alc!C71>0),1,0)","v":0},{"$f":"IF(AND(EBP_Matrix!U52=1,Prob_Marj!C71>0),1,0)","v":0},{"$f":"IF(AND(EBP_Matrix!U52=1,Prob_Marj!C71>0),1,0)","v":0},{"$f":"IF(AND(EBP_Matrix!U52=1,Prob_Marj!C71>0),1,0)","v":0},{"$f":"IF(AND(EBP_Matrix!U52=1,Prob_Marj!C71>0),1,0)","v":0},{"$f":"IF(AND(EBP_Matrix!V52=1,Prob_Tob!C71>0),1,0)","v":0},{"$f":"IF(AND(EBP_Matrix!V52=1,Prob_Tob!C71>0),1,0)","v":0},{"$f":"IF(AND(EBP_Matrix!V52=1,Prob_Tob!C71>0),1,0)","v":0},{"$f":"IF(AND(EBP_Matrix!V52=1,Prob_Tob!C71>0),1,0)","v":0},{"$f":"IF(AND(EBP_Matrix!V52=1,Prob_Tob!C71>0),1,0)","v":0},{"$f":"IF(AND(EBP_Matrix!V52=1,Prob_Tob!C71>0),1,0)","v":0},{"$f":"IF(AND(EBP_Matrix!W52=1,Prob_RxDrugs!C31>0),1,0)","v":0},{"$f":"IF(AND(EBP_Matrix!W52=1,Prob_RxDrugs!C31>0),1,0)","v":0},null,{"$f":"IF(AND(EBP_Matrix!X52=1,Prob_Other!C21>0),1,0)","v":0},{"$f":"IF(AND(EBP_Matrix!Y52=1,Risk_Alc!$J$259=1),1,0)","v":0},{"$f":"IF(AND(EBP_Matrix!Z52=1,Risk_Marj!$J$224=1),1,0)","v":0},{"$f":"IF(AND(EBP_Matrix!AA52=1,Risk_Tob!$J$217=1),1,0)","v":0},{"$f":"IF(AND(EBP_Matrix!AB52=1,Risk_RxDrugs!$J$217=1),1,0)","v":0},{"$f":"IF(AND(EBP_Matrix!AC52=1,Risk_Other!$J$217=1),1,0)","v":0},{"$f":"IF(AND(EBP_Matrix!AD52=1,Risk_Alc!$J$260=1),1,0)","v":0},{"$f":"IF(AND(EBP_Matrix!AE52=1,Risk_Marj!$J$225=1),1,0)","v":0},{"$f":"IF(AND(EBP_Matrix!AF52=1,Risk_Tob!$J$218=1),1,0)","v":0},{"$f":"IF(AND(EBP_Matrix!AG52=1,Risk_RxDrugs!$J$218=1),1,0)","v":0},{"$f":"IF(AND(EBP_Matrix!AH52=1,Risk_Other!$J$218=1),1,0)","v":0},{"$f":"IF(AND(EBP_Matrix!AI52=1,Risk_Alc!$J$261=1),1,0)","v":0},{"$f":"IF(AND(EBP_Matrix!AJ52=1,Risk_Marj!$J$226=1),1,0)","v":0},{"$f":"IF(AND(EBP_Matrix!AK52=1,Risk_Tob!$J$219=1),1,0)","v":0},{"$f":"IF(AND(EBP_Matrix!AL52=1,Risk_RxDrugs!$J$219=1),1,0)","v":0},{"$f":"IF(AND(EBP_Matrix!AM52=1,Risk_Other!$J$219=1),1,0)","v":0},{"$f":"IF(AND(EBP_Matrix!AN52=1,Risk_Alc!$J$262=1),1,0)","v":0},{"$f":"IF(AND(EBP_Matrix!AO52=1,Risk_Marj!$J$227=1),1,0)","v":0},{"$f":"IF(AND(EBP_Matrix!AP52=1,Risk_Tob!$J$220=1),1,0)","v":0},{"$f":"IF(AND(EBP_Matrix!AQ52=1,Risk_RxDrugs!$J$220=1),1,0)","v":0},{"$f":"IF(AND(EBP_Matrix!AR52=1,Risk_Other!$J$220=1),1,0)","v":0},{"$f":"IF(AND(EBP_Matrix!AS52=1,Risk_Alc!$J$263=1),1,0)","v":0},{"$f":"IF(AND(EBP_Matrix!AT52=1,Risk_Marj!$J$228=1),1,0)","v":0},{"$f":"IF(AND(EBP_Matrix!AU52=1,Risk_Tob!$J$221=1),1,0)","v":0},{"$f":"IF(AND(EBP_Matrix!AV52=1,Risk_RxDrugs!$J$221=1),1,0)","v":0},{"$f":"IF(AND(EBP_Matrix!AW52=1,Risk_Other!$J$221=1),1,0)","v":0},{"$f":"IF(AND(EBP_Matrix!AX52=1,Risk_Alc!$J$264=1),1,0)","v":0},{"$f":"IF(AND(EBP_Matrix!AY52=1,Risk_Marj!$J$229=1),1,0)","v":0},{"$f":"IF(AND(EBP_Matrix!AZ52=1,Risk_Tob!$J$222=1),1,0)","v":0},{"$f":"IF(AND(EBP_Matrix!BA52=1,Risk_RxDrugs!$J$222=1),1,0)","v":0},{"$f":"IF(AND(EBP_Matrix!BB52=1,Risk_Other!$J$222=1),1,0)","v":0},{"$f":"IF(AND(EBP_Matrix!BC52=1,Risk_Alc!$J$265=1),1,0)","v":0},{"$f":"IF(AND(EBP_Matrix!BD52=1,Risk_Marj!$J$230=1),1,0)","v":0},{"$f":"IF(AND(EBP_Matrix!BE52=1,Risk_Tob!$J$223=1),1,0)","v":0},{"$f":"IF(AND(EBP_Matrix!BF52=1,Risk_RxDrugs!$J$223=1),1,0)","v":0},{"$f":"IF(AND(EBP_Matrix!BG52=1,Risk_Other!$J$223=1),1,0)","v":0},{"$f":"IF(AND(EBP_Matrix!BH52=1,Risk_Alc!$J$266=1),1,0)","v":0},{"$f":"IF(AND(EBP_Matrix!BI52=1,Risk_Marj!$J$231=1),1,0)","v":0},{"$f":"IF(AND(EBP_Matrix!BJ52=1,Risk_Tob!$J$224=1),1,0)","v":0},{"$f":"IF(AND(EBP_Matrix!BK52=1,Risk_RxDrugs!$J$224=1),1,0)","v":0},{"$f":"IF(AND(EBP_Matrix!BL52=1,Risk_Other!$J$224=1),1,0)","v":0},{"$f":"IF(AND(EBP_Matrix!BM52=1,Risk_Alc!$J$267=1),1,0)","v":0},{"$f":"IF(AND(EBP_Matrix!BN52=1,Risk_Marj!$J$232=1),1,0)","v":0},{"$f":"IF(AND(EBP_Matrix!BO52=1,Risk_Tob!$J$225=1),1,0)","v":0},{"$f":"IF(AND(EBP_Matrix!BP52=1,Risk_RxDrugs!$J$225=1),1,0)","v":0},{"$f":"IF(AND(EBP_Matrix!BQ52=1,Risk_Other!$J$225=1),1,0)","v":0},{"$f":"IF(AND(EBP_Matrix!BR52=1,Risk_Alc!$J$268=1),1,0)","v":0},{"$f":"IF(AND(EBP_Matrix!BS52=1,Risk_Marj!$J$233=1),1,0)","v":0},{"$f":"IF(AND(EBP_Matrix!BT52=1,Risk_Tob!$J$226=1),1,0)","v":0},{"$f":"IF(AND(EBP_Matrix!BU52=1,Risk_RxDrugs!$J$226=1),1,0)","v":0},{"$f":"IF(AND(EBP_Matrix!BV52=1,Risk_Other!$J$226=1),1,0)","v":0},{"$f":"IF(AND(EBP_Matrix!BW52=1,Risk_Alc!$J$269=1),1,0)","v":0},{"$f":"IF(AND(EBP_Matrix!BX52=1,Risk_Marj!$J$234=1),1,0)","v":0},{"$f":"IF(AND(EBP_Matrix!BY52=1,Risk_Tob!$J$227=1),1,0)","v":0},{"$f":"IF(AND(EBP_Matrix!BZ52=1,Risk_RxDrugs!$J$227=1),1,0)","v":0},{"$f":"IF(AND(EBP_Matrix!CA52=1,Risk_Other!$J$227=1),1,0)","v":0},{"$f":"IF(AND(EBP_Matrix!CB52=1,Risk_Alc!$J$270=1),1,0)","v":0},{"$f":"IF(AND(EBP_Matrix!CC52=1,Risk_Marj!$J$235=1),1,0)","v":0},{"$f":"IF(AND(EBP_Matrix!CD52=1,Risk_Tob!$J$228=1),1,0)","v":0},{"$f":"IF(AND(EBP_Matrix!CE52=1,Risk_RxDrugs!$J$228=1),1,0)","v":0},{"$f":"IF(AND(EBP_Matrix!CF52=1,Risk_Other!$J$228=1),1,0)","v":0},{"$f":"IF(AND(EBP_Matrix!CG52=1,Risk_Alc!$J$271=1),1,0)","v":0},{"$f":"IF(AND(EBP_Matrix!CH52=1,Risk_Marj!$J$236=1),1,0)","v":0},{"$f":"IF(AND(EBP_Matrix!CI52=1,Risk_Tob!$J$229=1),1,0)","v":0},{"$f":"IF(AND(EBP_Matrix!CJ52=1,Risk_RxDrugs!$J$229=1),1,0)","v":0},{"$f":"IF(AND(EBP_Matrix!CK52=1,Risk_Other!$J$229=1),1,0)","v":0},{"$f":"IF(AND(EBP_Matrix!CL52=1,Risk_Alc!$J$272=1),1,0)","v":0},{"$f":"IF(AND(EBP_Matrix!CM52=1,Risk_Marj!$J$237=1),1,0)","v":0},{"$f":"IF(AND(EBP_Matrix!CN52=1,Risk_Tob!$J$230=1),1,0)","v":0},{"$f":"IF(AND(EBP_Matrix!CO52=1,Risk_RxDrugs!$J$230=1),1,0)","v":0},{"$f":"IF(AND(EBP_Matrix!CP52=1,Risk_Other!$J$230=1),1,0)","v":0},0,0,0,0,0,0,0]
[{"$f":"EBP_Matrix!A53","v":"Student Assistance Team Action/Training"},null,null,0,null,null,null,{"$f":"IF(AND(EBP_Matrix!T53=1,Prob_Alc!C71>0),1,0)","v":0},{"$f":"IF(AND(EBP_Matrix!T53=1,Prob_Alc!C71>0),1,0)","v":0},{"$f":"IF(AND(EBP_Matrix!T53=1,Prob_Alc!C71>0),1,0)","v":0},{"$f":"IF(AND(EBP_Matrix!T53=1,Prob_Alc!C71>0),1,0)","v":0},{"$f":"IF(AND(EBP_Matrix!T53=1,Prob_Alc!C71>0),1,0)","v":0},{"$f":"IF(AND(EBP_Matrix!T53=1,Prob_Alc!C71>0),1,0)","v":0},{"$f":"IF(AND(EBP_Matrix!T53=1,Prob_Alc!C71>0),1,0)","v":0},{"$f":"IF(AND(EBP_Matrix!T53=1,Prob_Alc!C71>0),1,0)","v":0},{"$f":"IF(AND(EBP_Matrix!U53=1,Prob_Marj!C71>0),1,0)","v":0},{"$f":"IF(AND(EBP_Matrix!U53=1,Prob_Marj!C71>0),1,0)","v":0},{"$f":"IF(AND(EBP_Matrix!U53=1,Prob_Marj!C71>0),1,0)","v":0},{"$f":"IF(AND(EBP_Matrix!U53=1,Prob_Marj!C71>0),1,0)","v":0},{"$f":"IF(AND(EBP_Matrix!V53=1,Prob_Tob!C71>0),1,0)","v":0},{"$f":"IF(AND(EBP_Matrix!V53=1,Prob_Tob!C71>0),1,0)","v":0},{"$f":"IF(AND(EBP_Matrix!V53=1,Prob_Tob!C71>0),1,0)","v":0},{"$f":"IF(AND(EBP_Matrix!V53=1,Prob_Tob!C71>0),1,0)","v":0},{"$f":"IF(AND(EBP_Matrix!V53=1,Prob_Tob!C71>0),1,0)","v":0},{"$f":"IF(AND(EBP_Matrix!V53=1,Prob_Tob!C71>0),1,0)","v":0},{"$f":"IF(AND(EBP_Matrix!W53=1,Prob_RxDrugs!C31>0),1,0)","v":0},{"$f":"IF(AND(EBP_Matrix!W53=1,Prob_RxDrugs!C31>0),1,0)","v":0},null,{"$f":"IF(AND(EBP_Matrix!X53=1,Prob_Other!C21>0),1,0)","v":0},{"$f":"IF(AND(EBP_Matrix!Y53=1,Risk_Alc!$J$259=1),1,0)","v":0},{"$f":"IF(AND(EBP_Matrix!Z53=1,Risk_Marj!$J$224=1),1,0)","v":0},{"$f":"IF(AND(EBP_Matrix!AA53=1,Risk_Tob!$J$217=1),1,0)","v":0},{"$f":"IF(AND(EBP_Matrix!AB53=1,Risk_RxDrugs!$J$217=1),1,0)","v":0},{"$f":"IF(AND(EBP_Matrix!AC53=1,Risk_Other!$J$217=1),1,0)","v":0},{"$f":"IF(AND(EBP_Matrix!AD53=1,Risk_Alc!$J$260=1),1,0)","v":0},{"$f":"IF(AND(EBP_Matrix!AE53=1,Risk_Marj!$J$225=1),1,0)","v":0},{"$f":"IF(AND(EBP_Matrix!AF53=1,Risk_Tob!$J$218=1),1,0)","v":0},{"$f":"IF(AND(EBP_Matrix!AG53=1,Risk_RxDrugs!$J$218=1),1,0)","v":0},{"$f":"IF(AND(EBP_Matrix!AH53=1,Risk_Other!$J$218=1),1,0)","v":0},{"$f":"IF(AND(EBP_Matrix!AI53=1,Risk_Alc!$J$261=1),1,0)","v":0},{"$f":"IF(AND(EBP_Matrix!AJ53=1,Risk_Marj!$J$226=1),1,0)","v":0},{"$f":"IF(AND(EBP_Matrix!AK53=1,Risk_Tob!$J$219=1),1,0)","v":0},{"$f":"IF(AND(EBP_Matrix!AL53=1,Risk_RxDrugs!$J$219=1),1,0)","v":0},{"$f":"IF(AND(EBP_Matrix!AM53=1,Risk_Other!$J$219=1),1,0)","v":0},{"$f":"IF(AND(EBP_Matrix!AN53=1,Risk_Alc!$J$262=1),1,0)","v":0},{"$f":"IF(AND(EBP_Matrix!AO53=1,Risk_Marj!$J$227=1),1,0)","v":0},{"$f":"IF(AND(EBP_Matrix!AP53=1,Risk_Tob!$J$220=1),1,0)","v":0},{"$f":"IF(AND(EBP_Matrix!AQ53=1,Risk_RxDrugs!$J$220=1),1,0)","v":0},{"$f":"IF(AND(EBP_Matrix!AR53=1,Risk_Other!$J$220=1),1,0)","v":0},{"$f":"IF(AND(EBP_Matrix!AS53=1,Risk_Alc!$J$263=1),1,0)","v":0},{"$f":"IF(AND(EBP_Matrix!AT53=1,Risk_Marj!$J$228=1),1,0)","v":0},{"$f":"IF(AND(EBP_Matrix!AU53=1,Risk_Tob!$J$221=1),1,0)","v":0},{"$f":"IF(AND(EBP_Matrix!AV53=1,Risk_RxDrugs!$J$221=1),1,0)","v":0},{"$f":"IF(AND(EBP_Matrix!AW53=1,Risk_Other!$J$221=1),1,0)","v":0},{"$f":"IF(AND(EBP_Matrix!AX53=1,Risk_Alc!$J$264=1),1,0)","v":0},{"$f":"IF(AND(EBP_Matrix!AY53=1,Risk_Marj!$J$229=1),1,0)","v":0},{"$f":"IF(AND(EBP_Matrix!AZ53=1,Risk_Tob!$J$222=1),1,0)","v":0},{"$f":"IF(AND(EBP_Matrix!BA53=1,Risk_RxDrugs!$J$222=1),1,0)","v":0},{"$f":"IF(AND(EBP_Matrix!BB53=1,Risk_Other!$J$222=1),1,0)","v":0},{"$f":"IF(AND(EBP_Matrix!BC53=1,Risk_Alc!$J$265=1),1,0)","v":0},{"$f":"IF(AND(EBP_Matrix!BD53=1,Risk_Marj!$J$230=1),1,0)","v":0},{"$f":"IF(AND(EBP_Matrix!BE53=1,Risk_Tob!$J$223=1),1,0)","v":0},{"$f":"IF(AND(EBP_Matrix!BF53=1,Risk_RxDrugs!$J$223=1),1,0)","v":0},{"$f":"IF(AND(EBP_Matrix!BG53=1,Risk_Other!$J$223=1),1,0)","v":0},{"$f":"IF(AND(EBP_Matrix!BH53=1,Risk_Alc!$J$266=1),1,0)","v":0},{"$f":"IF(AND(EBP_Matrix!BI53=1,Risk_Marj!$J$231=1),1,0)","v":0},{"$f":"IF(AND(EBP_Matrix!BJ53=1,Risk_Tob!$J$224=1),1,0)","v":0},{"$f":"IF(AND(EBP_Matrix!BK53=1,Risk_RxDrugs!$J$224=1),1,0)","v":0},{"$f":"IF(AND(EBP_Matrix!BL53=1,Risk_Other!$J$224=1),1,0)","v":0},{"$f":"IF(AND(EBP_Matrix!BM53=1,Risk_Alc!$J$267=1),1,0)","v":0},{"$f":"IF(AND(EBP_Matrix!BN53=1,Risk_Marj!$J$232=1),1,0)","v":0},{"$f":"IF(AND(EBP_Matrix!BO53=1,Risk_Tob!$J$225=1),1,0)","v":0},{"$f":"IF(AND(EBP_Matrix!BP53=1,Risk_RxDrugs!$J$225=1),1,0)","v":0},{"$f":"IF(AND(EBP_Matrix!BQ53=1,Risk_Other!$J$225=1),1,0)","v":0},{"$f":"IF(AND(EBP_Matrix!BR53=1,Risk_Alc!$J$268=1),1,0)","v":0},{"$f":"IF(AND(EBP_Matrix!BS53=1,Risk_Marj!$J$233=1),1,0)","v":0},{"$f":"IF(AND(EBP_Matrix!BT53=1,Risk_Tob!$J$226=1),1,0)","v":0},{"$f":"IF(AND(EBP_Matrix!BU53=1,Risk_RxDrugs!$J$226=1),1,0)","v":0},{"$f":"IF(AND(EBP_Matrix!BV53=1,Risk_Other!$J$226=1),1,0)","v":0},{"$f":"IF(AND(EBP_Matrix!BW53=1,Risk_Alc!$J$269=1),1,0)","v":0},{"$f":"IF(AND(EBP_Matrix!BX53=1,Risk_Marj!$J$234=1),1,0)","v":0},{"$f":"IF(AND(EBP_Matrix!BY53=1,Risk_Tob!$J$227=1),1,0)","v":0},{"$f":"IF(AND(EBP_Matrix!BZ53=1,Risk_RxDrugs!$J$227=1),1,0)","v":0},{"$f":"IF(AND(EBP_Matrix!CA53=1,Risk_Other!$J$227=1),1,0)","v":0},{"$f":"IF(AND(EBP_Matrix!CB53=1,Risk_Alc!$J$270=1),1,0)","v":0},{"$f":"IF(AND(EBP_Matrix!CC53=1,Risk_Marj!$J$235=1),1,0)","v":0},{"$f":"IF(AND(EBP_Matrix!CD53=1,Risk_Tob!$J$228=1),1,0)","v":0},{"$f":"IF(AND(EBP_Matrix!CE53=1,Risk_RxDrugs!$J$228=1),1,0)","v":0},{"$f":"IF(AND(EBP_Matrix!CF53=1,Risk_Other!$J$228=1),1,0)","v":0},{"$f":"IF(AND(EBP_Matrix!CG53=1,Risk_Alc!$J$271=1),1,0)","v":0},{"$f":"IF(AND(EBP_Matrix!CH53=1,Risk_Marj!$J$236=1),1,0)","v":0},{"$f":"IF(AND(EBP_Matrix!CI53=1,Risk_Tob!$J$229=1),1,0)","v":0},{"$f":"IF(AND(EBP_Matrix!CJ53=1,Risk_RxDrugs!$J$229=1),1,0)","v":0},{"$f":"IF(AND(EBP_Matrix!CK53=1,Risk_Other!$J$229=1),1,0)","v":0},{"$f":"IF(AND(EBP_Matrix!CL53=1,Risk_Alc!$J$272=1),1,0)","v":0},{"$f":"IF(AND(EBP_Matrix!CM53=1,Risk_Marj!$J$237=1),1,0)","v":0},{"$f":"IF(AND(EBP_Matrix!CN53=1,Risk_Tob!$J$230=1),1,0)","v":0},{"$f":"IF(AND(EBP_Matrix!CO53=1,Risk_RxDrugs!$J$230=1),1,0)","v":0},{"$f":"IF(AND(EBP_Matrix!CP53=1,Risk_Other!$J$230=1),1,0)","v":0},0,0,0,0,0,0,0]
[{"$f":"EBP_Matrix!A54","v":"Too Good for Drugs (K-12)"},null,null,0,null,null,null,{"$f":"IF(AND(EBP_Matrix!T54=1,Prob_Alc!C71>0),1,0)","v":0},{"$f":"IF(AND(EBP_Matrix!T54=1,Prob_Alc!C71>0),1,0)","v":0},{"$f":"IF(AND(EBP_Matrix!T54=1,Prob_Alc!C71>0),1,0)","v":0},{"$f":"IF(AND(EBP_Matrix!T54=1,Prob_Alc!C71>0),1,0)","v":0},{"$f":"IF(AND(EBP_Matrix!T54=1,Prob_Alc!C71>0),1,0)","v":0},{"$f":"IF(AND(EBP_Matrix!T54=1,Prob_Alc!C71>0),1,0)","v":0},{"$f":"IF(AND(EBP_Matrix!T54=1,Prob_Alc!C71>0),1,0)","v":0},{"$f":"IF(AND(EBP_Matrix!T54=1,Prob_Alc!C71>0),1,0)","v":0},{"$f":"IF(AND(EBP_Matrix!U54=1,Prob_Marj!C71>0),1,0)","v":0},{"$f":"IF(AND(EBP_Matrix!U54=1,Prob_Marj!C71>0),1,0)","v":0},{"$f":"IF(AND(EBP_Matrix!U54=1,Prob_Marj!C71>0),1,0)","v":0},{"$f":"IF(AND(EBP_Matrix!U54=1,Prob_Marj!C71>0),1,0)","v":0},{"$f":"IF(AND(EBP_Matrix!V54=1,Prob_Tob!C71>0),1,0)","v":0},{"$f":"IF(AND(EBP_Matrix!V54=1,Prob_Tob!C71>0),1,0)","v":0},{"$f":"IF(AND(EBP_Matrix!V54=1,Prob_Tob!C71>0),1,0)","v":0},{"$f":"IF(AND(EBP_Matrix!V54=1,Prob_Tob!C71>0),1,0)","v":0},{"$f":"IF(AND(EBP_Matrix!V54=1,Prob_Tob!C71>0),1,0)","v":0},{"$f":"IF(AND(EBP_Matrix!V54=1,Prob_Tob!C71>0),1,0)","v":0},{"$f":"IF(AND(EBP_Matrix!W54=1,Prob_RxDrugs!C31>0),1,0)","v":0},{"$f":"IF(AND(EBP_Matrix!W54=1,Prob_RxDrugs!C31>0),1,0)","v":0},null,{"$f":"IF(AND(EBP_Matrix!X54=1,Prob_Other!C21>0),1,0)","v":0},{"$f":"IF(AND(EBP_Matrix!Y54=1,Risk_Alc!$J$259=1),1,0)","v":0},{"$f":"IF(AND(EBP_Matrix!Z54=1,Risk_Marj!$J$224=1),1,0)","v":0},{"$f":"IF(AND(EBP_Matrix!AA54=1,Risk_Tob!$J$217=1),1,0)","v":0},{"$f":"IF(AND(EBP_Matrix!AB54=1,Risk_RxDrugs!$J$217=1),1,0)","v":0},{"$f":"IF(AND(EBP_Matrix!AC54=1,Risk_Other!$J$217=1),1,0)","v":0},{"$f":"IF(AND(EBP_Matrix!AD54=1,Risk_Alc!$J$260=1),1,0)","v":0},{"$f":"IF(AND(EBP_Matrix!AE54=1,Risk_Marj!$J$225=1),1,0)","v":0},{"$f":"IF(AND(EBP_Matrix!AF54=1,Risk_Tob!$J$218=1),1,0)","v":0},{"$f":"IF(AND(EBP_Matrix!AG54=1,Risk_RxDrugs!$J$218=1),1,0)","v":0},{"$f":"IF(AND(EBP_Matrix!AH54=1,Risk_Other!$J$218=1),1,0)","v":0},{"$f":"IF(AND(EBP_Matrix!AI54=1,Risk_Alc!$J$261=1),1,0)","v":0},{"$f":"IF(AND(EBP_Matrix!AJ54=1,Risk_Marj!$J$226=1),1,0)","v":0},{"$f":"IF(AND(EBP_Matrix!AK54=1,Risk_Tob!$J$219=1),1,0)","v":0},{"$f":"IF(AND(EBP_Matrix!AL54=1,Risk_RxDrugs!$J$219=1),1,0)","v":0},{"$f":"IF(AND(EBP_Matrix!AM54=1,Risk_Other!$J$219=1),1,0)","v":0},{"$f":"IF(AND(EBP_Matrix!AN54=1,Risk_Alc!$J$262=1),1,0)","v":0},{"$f":"IF(AND(EBP_Matrix!AO54=1,Risk_Marj!$J$227=1),1,0)","v":0},{"$f":"IF(AND(EBP_Matrix!AP54=1,Risk_Tob!$J$220=1),1,0)","v":0},{"$f":"IF(AND(EBP_Matrix!AQ54=1,Risk_RxDrugs!$J$220=1),1,0)","v":0},{"$f":"IF(AND(EBP_Matrix!AR54=1,Risk_Other!$J$220=1),1,0)","v":0},{"$f":"IF(AND(EBP_Matrix!AS54=1,Risk_Alc!$J$263=1),1,0)","v":0},{"$f":"IF(AND(EBP_Matrix!AT54=1,Risk_Marj!$J$228=1),1,0)","v":0},{"$f":"IF(AND(EBP_Matrix!AU54=1,Risk_Tob!$J$221=1),1,0)","v":0},{"$f":"IF(AND(EBP_Matrix!AV54=1,Risk_RxDrugs!$J$221=1),1,0)","v":0},{"$f":"IF(AND(EBP_Matrix!AW54=1,Risk_Other!$J$221=1),1,0)","v":0},{"$f":"IF(AND(EBP_Matrix!AX54=1,Risk_Alc!$J$264=1),1,0)","v":0},{"$f":"IF(AND(EBP_Matrix!AY54=1,Risk_Marj!$J$229=1),1,0)","v":0},{"$f":"IF(AND(EBP_Matrix!AZ54=1,Risk_Tob!$J$222=1),1,0)","v":0},{"$f":"IF(AND(EBP_Matrix!BA54=1,Risk_RxDrugs!$J$222=1),1,0)","v":0},{"$f":"IF(AND(EBP_Matrix!BB54=1,Risk_Other!$J$222=1),1,0)","v":0},{"$f":"IF(AND(EBP_Matrix!BC54=1,Risk_Alc!$J$265=1),1,0)","v":0},{"$f":"IF(AND(EBP_Matrix!BD54=1,Risk_Marj!$J$230=1),1,0)","v":0},{"$f":"IF(AND(EBP_Matrix!BE54=1,Risk_Tob!$J$223=1),1,0)","v":0},{"$f":"IF(AND(EBP_Matrix!BF54=1,Risk_RxDrugs!$J$223=1),1,0)","v":0},{"$f":"IF(AND(EBP_Matrix!BG54=1,Risk_Other!$J$223=1),1,0)","v":0},{"$f":"IF(AND(EBP_Matrix!BH54=1,Risk_Alc!$J$266=1),1,0)","v":0},{"$f":"IF(AND(EBP_Matrix!BI54=1,Risk_Marj!$J$231=1),1,0)","v":0},{"$f":"IF(AND(EBP_Matrix!BJ54=1,Risk_Tob!$J$224=1),1,0)","v":0},{"$f":"IF(AND(EBP_Matrix!BK54=1,Risk_RxDrugs!$J$224=1),1,0)","v":0},{"$f":"IF(AND(EBP_Matrix!BL54=1,Risk_Other!$J$224=1),1,0)","v":0},{"$f":"IF(AND(EBP_Matrix!BM54=1,Risk_Alc!$J$267=1),1,0)","v":0},{"$f":"IF(AND(EBP_Matrix!BN54=1,Risk_Marj!$J$232=1),1,0)","v":0},{"$f":"IF(AND(EBP_Matrix!BO54=1,Risk_Tob!$J$225=1),1,0)","v":0},{"$f":"IF(AND(EBP_Matrix!BP54=1,Risk_RxDrugs!$J$225=1),1,0)","v":0},{"$f":"IF(AND(EBP_Matrix!BQ54=1,Risk_Other!$J$225=1),1,0)","v":0},{"$f":"IF(AND(EBP_Matrix!BR54=1,Risk_Alc!$J$268=1),1,0)","v":0},{"$f":"IF(AND(EBP_Matrix!BS54=1,Risk_Marj!$J$233=1),1,0)","v":0},{"$f":"IF(AND(EBP_Matrix!BT54=1,Risk_Tob!$J$226=1),1,0)","v":0},{"$f":"IF(AND(EBP_Matrix!BU54=1,Risk_RxDrugs!$J$226=1),1,0)","v":0},{"$f":"IF(AND(EBP_Matrix!BV54=1,Risk_Other!$J$226=1),1,0)","v":0},{"$f":"IF(AND(EBP_Matrix!BW54=1,Risk_Alc!$J$269=1),1,0)","v":0},{"$f":"IF(AND(EBP_Matrix!BX54=1,Risk_Marj!$J$234=1),1,0)","v":0},{"$f":"IF(AND(EBP_Matrix!BY54=1,Risk_Tob!$J$227=1),1,0)","v":0},{"$f":"IF(AND(EBP_Matrix!BZ54=1,Risk_RxDrugs!$J$227=1),1,0)","v":0},{"$f":"IF(AND(EBP_Matrix!CA54=1,Risk_Other!$J$227=1),1,0)","v":0},{"$f":"IF(AND(EBP_Matrix!CB54=1,Risk_Alc!$J$270=1),1,0)","v":0},{"$f":"IF(AND(EBP_Matrix!CC54=1,Risk_Marj!$J$235=1),1,0)","v":0},{"$f":"IF(AND(EBP_Matrix!CD54=1,Risk_Tob!$J$228=1),1,0)","v":0},{"$f":"IF(AND(EBP_Matrix!CE54=1,Risk_RxDrugs!$J$228=1),1,0)","v":0},{"$f":"IF(AND(EBP_Matrix!CF54=1,Risk_Other!$J$228=1),1,0)","v":0},{"$f":"IF(AND(EBP_Matrix!CG54=1,Risk_Alc!$J$271=1),1,0)","v":0},{"$f":"IF(AND(EBP_Matrix!CH54=1,Risk_Marj!$J$236=1),1,0)","v":0},{"$f":"IF(AND(EBP_Matrix!CI54=1,Risk_Tob!$J$229=1),1,0)","v":0},{"$f":"IF(AND(EBP_Matrix!CJ54=1,Risk_RxDrugs!$J$229=1),1,0)","v":0},{"$f":"IF(AND(EBP_Matrix!CK54=1,Risk_Other!$J$229=1),1,0)","v":0},{"$f":"IF(AND(EBP_Matrix!CL54=1,Risk_Alc!$J$272=1),1,0)","v":0},{"$f":"IF(AND(EBP_Matrix!CM54=1,Risk_Marj!$J$237=1),1,0)","v":0},{"$f":"IF(AND(EBP_Matrix!CN54=1,Risk_Tob!$J$230=1),1,0)","v":0},{"$f":"IF(AND(EBP_Matrix!CO54=1,Risk_RxDrugs!$J$230=1),1,0)","v":0},{"$f":"IF(AND(EBP_Matrix!CP54=1,Risk_Other!$J$230=1),1,0)","v":0},0,0,0,0,0,0,0]
[{"$f":"EBP_Matrix!A55","v":"Training for Intervention Procedures (TIPS) for the University"},null,null,0,null,null,null,{"$f":"IF(AND(EBP_Matrix!T55=1,Prob_Alc!C71>0),1,0)","v":0},{"$f":"IF(AND(EBP_Matrix!T55=1,Prob_Alc!C71>0),1,0)","v":0},{"$f":"IF(AND(EBP_Matrix!T55=1,Prob_Alc!C71>0),1,0)","v":0},{"$f":"IF(AND(EBP_Matrix!T55=1,Prob_Alc!C71>0),1,0)","v":0},{"$f":"IF(AND(EBP_Matrix!T55=1,Prob_Alc!C71>0),1,0)","v":0},{"$f":"IF(AND(EBP_Matrix!T55=1,Prob_Alc!C71>0),1,0)","v":0},{"$f":"IF(AND(EBP_Matrix!T55=1,Prob_Alc!C71>0),1,0)","v":0},{"$f":"IF(AND(EBP_Matrix!T55=1,Prob_Alc!C71>0),1,0)","v":0},{"$f":"IF(AND(EBP_Matrix!U55=1,Prob_Marj!C71>0),1,0)","v":0},{"$f":"IF(AND(EBP_Matrix!U55=1,Prob_Marj!C71>0),1,0)","v":0},{"$f":"IF(AND(EBP_Matrix!U55=1,Prob_Marj!C71>0),1,0)","v":0},{"$f":"IF(AND(EBP_Matrix!U55=1,Prob_Marj!C71>0),1,0)","v":0},{"$f":"IF(AND(EBP_Matrix!V55=1,Prob_Tob!C71>0),1,0)","v":0},{"$f":"IF(AND(EBP_Matrix!V55=1,Prob_Tob!C71>0),1,0)","v":0},{"$f":"IF(AND(EBP_Matrix!V55=1,Prob_Tob!C71>0),1,0)","v":0},{"$f":"IF(AND(EBP_Matrix!V55=1,Prob_Tob!C71>0),1,0)","v":0},{"$f":"IF(AND(EBP_Matrix!V55=1,Prob_Tob!C71>0),1,0)","v":0},{"$f":"IF(AND(EBP_Matrix!V55=1,Prob_Tob!C71>0),1,0)","v":0},{"$f":"IF(AND(EBP_Matrix!W55=1,Prob_RxDrugs!C31>0),1,0)","v":0},{"$f":"IF(AND(EBP_Matrix!W55=1,Prob_RxDrugs!C31>0),1,0)","v":0},null,{"$f":"IF(AND(EBP_Matrix!X55=1,Prob_Other!C21>0),1,0)","v":0},{"$f":"IF(AND(EBP_Matrix!Y55=1,Risk_Alc!$J$259=1),1,0)","v":0},{"$f":"IF(AND(EBP_Matrix!Z55=1,Risk_Marj!$J$224=1),1,0)","v":0},{"$f":"IF(AND(EBP_Matrix!AA55=1,Risk_Tob!$J$217=1),1,0)","v":0},{"$f":"IF(AND(EBP_Matrix!AB55=1,Risk_RxDrugs!$J$217=1),1,0)","v":0},{"$f":"IF(AND(EBP_Matrix!AC55=1,Risk_Other!$J$217=1),1,0)","v":0},{"$f":"IF(AND(EBP_Matrix!AD55=1,Risk_Alc!$J$260=1),1,0)","v":0},{"$f":"IF(AND(EBP_Matrix!AE55=1,Risk_Marj!$J$225=1),1,0)","v":0},{"$f":"IF(AND(EBP_Matrix!AF55=1,Risk_Tob!$J$218=1),1,0)","v":0},{"$f":"IF(AND(EBP_Matrix!AG55=1,Risk_RxDrugs!$J$218=1),1,0)","v":0},{"$f":"IF(AND(EBP_Matrix!AH55=1,Risk_Other!$J$218=1),1,0)","v":0},{"$f":"IF(AND(EBP_Matrix!AI55=1,Risk_Alc!$J$261=1),1,0)","v":0},{"$f":"IF(AND(EBP_Matrix!AJ55=1,Risk_Marj!$J$226=1),1,0)","v":0},{"$f":"IF(AND(EBP_Matrix!AK55=1,Risk_Tob!$J$219=1),1,0)","v":0},{"$f":"IF(AND(EBP_Matrix!AL55=1,Risk_RxDrugs!$J$219=1),1,0)","v":0},{"$f":"IF(AND(EBP_Matrix!AM55=1,Risk_Other!$J$219=1),1,0)","v":0},{"$f":"IF(AND(EBP_Matrix!AN55=1,Risk_Alc!$J$262=1),1,0)","v":0},{"$f":"IF(AND(EBP_Matrix!AO55=1,Risk_Marj!$J$227=1),1,0)","v":0},{"$f":"IF(AND(EBP_Matrix!AP55=1,Risk_Tob!$J$220=1),1,0)","v":0},{"$f":"IF(AND(EBP_Matrix!AQ55=1,Risk_RxDrugs!$J$220=1),1,0)","v":0},{"$f":"IF(AND(EBP_Matrix!AR55=1,Risk_Other!$J$220=1),1,0)","v":0},{"$f":"IF(AND(EBP_Matrix!AS55=1,Risk_Alc!$J$263=1),1,0)","v":0},{"$f":"IF(AND(EBP_Matrix!AT55=1,Risk_Marj!$J$228=1),1,0)","v":0},{"$f":"IF(AND(EBP_Matrix!AU55=1,Risk_Tob!$J$221=1),1,0)","v":0},{"$f":"IF(AND(EBP_Matrix!AV55=1,Risk_RxDrugs!$J$221=1),1,0)","v":0},{"$f":"IF(AND(EBP_Matrix!AW55=1,Risk_Other!$J$221=1),1,0)","v":0},{"$f":"IF(AND(EBP_Matrix!AX55=1,Risk_Alc!$J$264=1),1,0)","v":0},{"$f":"IF(AND(EBP_Matrix!AY55=1,Risk_Marj!$J$229=1),1,0)","v":0},{"$f":"IF(AND(EBP_Matrix!AZ55=1,Risk_Tob!$J$222=1),1,0)","v":0},{"$f":"IF(AND(EBP_Matrix!BA55=1,Risk_RxDrugs!$J$222=1),1,0)","v":0},{"$f":"IF(AND(EBP_Matrix!BB55=1,Risk_Other!$J$222=1),1,0)","v":0},{"$f":"IF(AND(EBP_Matrix!BC55=1,Risk_Alc!$J$265=1),1,0)","v":0},{"$f":"IF(AND(EBP_Matrix!BD55=1,Risk_Marj!$J$230=1),1,0)","v":0},{"$f":"IF(AND(EBP_Matrix!BE55=1,Risk_Tob!$J$223=1),1,0)","v":0},{"$f":"IF(AND(EBP_Matrix!BF55=1,Risk_RxDrugs!$J$223=1),1,0)","v":0},{"$f":"IF(AND(EBP_Matrix!BG55=1,Risk_Other!$J$223=1),1,0)","v":0},{"$f":"IF(AND(EBP_Matrix!BH55=1,Risk_Alc!$J$266=1),1,0)","v":0},{"$f":"IF(AND(EBP_Matrix!BI55=1,Risk_Marj!$J$231=1),1,0)","v":0},{"$f":"IF(AND(EBP_Matrix!BJ55=1,Risk_Tob!$J$224=1),1,0)","v":0},{"$f":"IF(AND(EBP_Matrix!BK55=1,Risk_RxDrugs!$J$224=1),1,0)","v":0},{"$f":"IF(AND(EBP_Matrix!BL55=1,Risk_Other!$J$224=1),1,0)","v":0},{"$f":"IF(AND(EBP_Matrix!BM55=1,Risk_Alc!$J$267=1),1,0)","v":0},{"$f":"IF(AND(EBP_Matrix!BN55=1,Risk_Marj!$J$232=1),1,0)","v":0},{"$f":"IF(AND(EBP_Matrix!BO55=1,Risk_Tob!$J$225=1),1,0)","v":0},{"$f":"IF(AND(EBP_Matrix!BP55=1,Risk_RxDrugs!$J$225=1),1,0)","v":0},{"$f":"IF(AND(EBP_Matrix!BQ55=1,Risk_Other!$J$225=1),1,0)","v":0},{"$f":"IF(AND(EBP_Matrix!BR55=1,Risk_Alc!$J$268=1),1,0)","v":0},{"$f":"IF(AND(EBP_Matrix!BS55=1,Risk_Marj!$J$233=1),1,0)","v":0},{"$f":"IF(AND(EBP_Matrix!BT55=1,Risk_Tob!$J$226=1),1,0)","v":0},{"$f":"IF(AND(EBP_Matrix!BU55=1,Risk_RxDrugs!$J$226=1),1,0)","v":0},{"$f":"IF(AND(EBP_Matrix!BV55=1,Risk_Other!$J$226=1),1,0)","v":0},{"$f":"IF(AND(EBP_Matrix!BW55=1,Risk_Alc!$J$269=1),1,0)","v":0},{"$f":"IF(AND(EBP_Matrix!BX55=1,Risk_Marj!$J$234=1),1,0)","v":0},{"$f":"IF(AND(EBP_Matrix!BY55=1,Risk_Tob!$J$227=1),1,0)","v":0},{"$f":"IF(AND(EBP_Matrix!BZ55=1,Risk_RxDrugs!$J$227=1),1,0)","v":0},{"$f":"IF(AND(EBP_Matrix!CA55=1,Risk_Other!$J$227=1),1,0)","v":0},{"$f":"IF(AND(EBP_Matrix!CB55=1,Risk_Alc!$J$270=1),1,0)","v":0},{"$f":"IF(AND(EBP_Matrix!CC55=1,Risk_Marj!$J$235=1),1,0)","v":0},{"$f":"IF(AND(EBP_Matrix!CD55=1,Risk_Tob!$J$228=1),1,0)","v":0},{"$f":"IF(AND(EBP_Matrix!CE55=1,Risk_RxDrugs!$J$228=1),1,0)","v":0},{"$f":"IF(AND(EBP_Matrix!CF55=1,Risk_Other!$J$228=1),1,0)","v":0},{"$f":"IF(AND(EBP_Matrix!CG55=1,Risk_Alc!$J$271=1),1,0)","v":0},{"$f":"IF(AND(EBP_Matrix!CH55=1,Risk_Marj!$J$236=1),1,0)","v":0},{"$f":"IF(AND(EBP_Matrix!CI55=1,Risk_Tob!$J$229=1),1,0)","v":0},{"$f":"IF(AND(EBP_Matrix!CJ55=1,Risk_RxDrugs!$J$229=1),1,0)","v":0},{"$f":"IF(AND(EBP_Matrix!CK55=1,Risk_Other!$J$229=1),1,0)","v":0},{"$f":"IF(AND(EBP_Matrix!CL55=1,Risk_Alc!$J$272=1),1,0)","v":0},{"$f":"IF(AND(EBP_Matrix!CM55=1,Risk_Marj!$J$237=1),1,0)","v":0},{"$f":"IF(AND(EBP_Matrix!CN55=1,Risk_Tob!$J$230=1),1,0)","v":0},{"$f":"IF(AND(EBP_Matrix!CO55=1,Risk_RxDrugs!$J$230=1),1,0)","v":0},{"$f":"IF(AND(EBP_Matrix!CP55=1,Risk_Other!$J$230=1),1,0)","v":0},0,0,0,0,0,0,0]
[{"$f":"EBP_Matrix!A56","v":"Well Initiatives for Senior Education (WISE)"},null,null,0,null,null,null,{"$f":"IF(AND(EBP_Matrix!T56=1,Prob_Alc!C71>0),1,0)","v":0},{"$f":"IF(AND(EBP_Matrix!T56=1,Prob_Alc!C71>0),1,0)","v":0},{"$f":"IF(AND(EBP_Matrix!T56=1,Prob_Alc!C71>0),1,0)","v":0},{"$f":"IF(AND(EBP_Matrix!T56=1,Prob_Alc!C71>0),1,0)","v":0},{"$f":"IF(AND(EBP_Matrix!T56=1,Prob_Alc!C71>0),1,0)","v":0},{"$f":"IF(AND(EBP_Matrix!T56=1,Prob_Alc!C71>0),1,0)","v":0},{"$f":"IF(AND(EBP_Matrix!T56=1,Prob_Alc!C71>0),1,0)","v":0},{"$f":"IF(AND(EBP_Matrix!T56=1,Prob_Alc!C71>0),1,0)","v":0},{"$f":"IF(AND(EBP_Matrix!U56=1,Prob_Marj!C71>0),1,0)","v":0},{"$f":"IF(AND(EBP_Matrix!U56=1,Prob_Marj!C71>0),1,0)","v":0},{"$f":"IF(AND(EBP_Matrix!U56=1,Prob_Marj!C71>0),1,0)","v":0},{"$f":"IF(AND(EBP_Matrix!U56=1,Prob_Marj!C71>0),1,0)","v":0},{"$f":"IF(AND(EBP_Matrix!V56=1,Prob_Tob!C71>0),1,0)","v":0},{"$f":"IF(AND(EBP_Matrix!V56=1,Prob_Tob!C71>0),1,0)","v":0},{"$f":"IF(AND(EBP_Matrix!V56=1,Prob_Tob!C71>0),1,0)","v":0},{"$f":"IF(AND(EBP_Matrix!V56=1,Prob_Tob!C71>0),1,0)","v":0},{"$f":"IF(AND(EBP_Matrix!V56=1,Prob_Tob!C71>0),1,0)","v":0},{"$f":"IF(AND(EBP_Matrix!V56=1,Prob_Tob!C71>0),1,0)","v":0},{"$f":"IF(AND(EBP_Matrix!W56=1,Prob_RxDrugs!C31>0),1,0)","v":0},{"$f":"IF(AND(EBP_Matrix!W56=1,Prob_RxDrugs!C31>0),1,0)","v":0},null,{"$f":"IF(AND(EBP_Matrix!X56=1,Prob_Other!C21>0),1,0)","v":0},{"$f":"IF(AND(EBP_Matrix!Y56=1,Risk_Alc!$J$259=1),1,0)","v":0},{"$f":"IF(AND(EBP_Matrix!Z56=1,Risk_Marj!$J$224=1),1,0)","v":0},{"$f":"IF(AND(EBP_Matrix!AA56=1,Risk_Tob!$J$217=1),1,0)","v":0},{"$f":"IF(AND(EBP_Matrix!AB56=1,Risk_RxDrugs!$J$217=1),1,0)","v":0},{"$f":"IF(AND(EBP_Matrix!AC56=1,Risk_Other!$J$217=1),1,0)","v":0},{"$f":"IF(AND(EBP_Matrix!AD56=1,Risk_Alc!$J$260=1),1,0)","v":0},{"$f":"IF(AND(EBP_Matrix!AE56=1,Risk_Marj!$J$225=1),1,0)","v":0},{"$f":"IF(AND(EBP_Matrix!AF56=1,Risk_Tob!$J$218=1),1,0)","v":0},{"$f":"IF(AND(EBP_Matrix!AG56=1,Risk_RxDrugs!$J$218=1),1,0)","v":0},{"$f":"IF(AND(EBP_Matrix!AH56=1,Risk_Other!$J$218=1),1,0)","v":0},{"$f":"IF(AND(EBP_Matrix!AI56=1,Risk_Alc!$J$261=1),1,0)","v":0},{"$f":"IF(AND(EBP_Matrix!AJ56=1,Risk_Marj!$J$226=1),1,0)","v":0},{"$f":"IF(AND(EBP_Matrix!AK56=1,Risk_Tob!$J$219=1),1,0)","v":0},{"$f":"IF(AND(EBP_Matrix!AL56=1,Risk_RxDrugs!$J$219=1),1,0)","v":0},{"$f":"IF(AND(EBP_Matrix!AM56=1,Risk_Other!$J$219=1),1,0)","v":0},{"$f":"IF(AND(EBP_Matrix!AN56=1,Risk_Alc!$J$262=1),1,0)","v":0},{"$f":"IF(AND(EBP_Matrix!AO56=1,Risk_Marj!$J$227=1),1,0)","v":0},{"$f":"IF(AND(EBP_Matrix!AP56=1,Risk_Tob!$J$220=1),1,0)","v":0},{"$f":"IF(AND(EBP_Matrix!AQ56=1,Risk_RxDrugs!$J$220=1),1,0)","v":0},{"$f":"IF(AND(EBP_Matrix!AR56=1,Risk_Other!$J$220=1),1,0)","v":0},{"$f":"IF(AND(EBP_Matrix!AS56=1,Risk_Alc!$J$263=1),1,0)","v":0},{"$f":"IF(AND(EBP_Matrix!AT56=1,Risk_Marj!$J$228=1),1,0)","v":0},{"$f":"IF(AND(EBP_Matrix!AU56=1,Risk_Tob!$J$221=1),1,0)","v":0},{"$f":"IF(AND(EBP_Matrix!AV56=1,Risk_RxDrugs!$J$221=1),1,0)","v":0},{"$f":"IF(AND(EBP_Matrix!AW56=1,Risk_Other!$J$221=1),1,0)","v":0},{"$f":"IF(AND(EBP_Matrix!AX56=1,Risk_Alc!$J$264=1),1,0)","v":0},{"$f":"IF(AND(EBP_Matrix!AY56=1,Risk_Marj!$J$229=1),1,0)","v":0},{"$f":"IF(AND(EBP_Matrix!AZ56=1,Risk_Tob!$J$222=1),1,0)","v":0},{"$f":"IF(AND(EBP_Matrix!BA56=1,Risk_RxDrugs!$J$222=1),1,0)","v":0},{"$f":"IF(AND(EBP_Matrix!BB56=1,Risk_Other!$J$222=1),1,0)","v":0},{"$f":"IF(AND(EBP_Matrix!BC56=1,Risk_Alc!$J$265=1),1,0)","v":0},{"$f":"IF(AND(EBP_Matrix!BD56=1,Risk_Marj!$J$230=1),1,0)","v":0},{"$f":"IF(AND(EBP_Matrix!BE56=1,Risk_Tob!$J$223=1),1,0)","v":0},{"$f":"IF(AND(EBP_Matrix!BF56=1,Risk_RxDrugs!$J$223=1),1,0)","v":0},{"$f":"IF(AND(EBP_Matrix!BG56=1,Risk_Other!$J$223=1),1,0)","v":0},{"$f":"IF(AND(EBP_Matrix!BH56=1,Risk_Alc!$J$266=1),1,0)","v":0},{"$f":"IF(AND(EBP_Matrix!BI56=1,Risk_Marj!$J$231=1),1,0)","v":0},{"$f":"IF(AND(EBP_Matrix!BJ56=1,Risk_Tob!$J$224=1),1,0)","v":0},{"$f":"IF(AND(EBP_Matrix!BK56=1,Risk_RxDrugs!$J$224=1),1,0)","v":0},{"$f":"IF(AND(EBP_Matrix!BL56=1,Risk_Other!$J$224=1),1,0)","v":0},{"$f":"IF(AND(EBP_Matrix!BM56=1,Risk_Alc!$J$267=1),1,0)","v":0},{"$f":"IF(AND(EBP_Matrix!BN56=1,Risk_Marj!$J$232=1),1,0)","v":0},{"$f":"IF(AND(EBP_Matrix!BO56=1,Risk_Tob!$J$225=1),1,0)","v":0},{"$f":"IF(AND(EBP_Matrix!BP56=1,Risk_RxDrugs!$J$225=1),1,0)","v":0},{"$f":"IF(AND(EBP_Matrix!BQ56=1,Risk_Other!$J$225=1),1,0)","v":0},{"$f":"IF(AND(EBP_Matrix!BR56=1,Risk_Alc!$J$268=1),1,0)","v":0},{"$f":"IF(AND(EBP_Matrix!BS56=1,Risk_Marj!$J$233=1),1,0)","v":0},{"$f":"IF(AND(EBP_Matrix!BT56=1,Risk_Tob!$J$226=1),1,0)","v":0},{"$f":"IF(AND(EBP_Matrix!BU56=1,Risk_RxDrugs!$J$226=1),1,0)","v":0},{"$f":"IF(AND(EBP_Matrix!BV56=1,Risk_Other!$J$226=1),1,0)","v":0},{"$f":"IF(AND(EBP_Matrix!BW56=1,Risk_Alc!$J$269=1),1,0)","v":0},{"$f":"IF(AND(EBP_Matrix!BX56=1,Risk_Marj!$J$234=1),1,0)","v":0},{"$f":"IF(AND(EBP_Matrix!BY56=1,Risk_Tob!$J$227=1),1,0)","v":0},{"$f":"IF(AND(EBP_Matrix!BZ56=1,Risk_RxDrugs!$J$227=1),1,0)","v":0},{"$f":"IF(AND(EBP_Matrix!CA56=1,Risk_Other!$J$227=1),1,0)","v":0},{"$f":"IF(AND(EBP_Matrix!CB56=1,Risk_Alc!$J$270=1),1,0)","v":0},{"$f":"IF(AND(EBP_Matrix!CC56=1,Risk_Marj!$J$235=1),1,0)","v":0},{"$f":"IF(AND(EBP_Matrix!CD56=1,Risk_Tob!$J$228=1),1,0)","v":0},{"$f":"IF(AND(EBP_Matrix!CE56=1,Risk_RxDrugs!$J$228=1),1,0)","v":0},{"$f":"IF(AND(EBP_Matrix!CF56=1,Risk_Other!$J$228=1),1,0)","v":0},{"$f":"IF(AND(EBP_Matrix!CG56=1,Risk_Alc!$J$271=1),1,0)","v":0},{"$f":"IF(AND(EBP_Matrix!CH56=1,Risk_Marj!$J$236=1),1,0)","v":0},{"$f":"IF(AND(EBP_Matrix!CI56=1,Risk_Tob!$J$229=1),1,0)","v":0},{"$f":"IF(AND(EBP_Matrix!CJ56=1,Risk_RxDrugs!$J$229=1),1,0)","v":0},{"$f":"IF(AND(EBP_Matrix!CK56=1,Risk_Other!$J$229=1),1,0)","v":0},{"$f":"IF(AND(EBP_Matrix!CL56=1,Risk_Alc!$J$272=1),1,0)","v":0},{"$f":"IF(AND(EBP_Matrix!CM56=1,Risk_Marj!$J$237=1),1,0)","v":0},{"$f":"IF(AND(EBP_Matrix!CN56=1,Risk_Tob!$J$230=1),1,0)","v":0},{"$f":"IF(AND(EBP_Matrix!CO56=1,Risk_RxDrugs!$J$230=1),1,0)","v":0},{"$f":"IF(AND(EBP_Matrix!CP56=1,Risk_Other!$J$230=1),1,0)","v":0},0,0,0,0,0,0,0]
[{"$f":"EBP_Matrix!A57","v":"Wellness Recovery Action Plan (WRAP)"},null,null,0,null,null,null,{"$f":"IF(AND(EBP_Matrix!T57=1,Prob_Alc!C71>0),1,0)","v":0},{"$f":"IF(AND(EBP_Matrix!T57=1,Prob_Alc!C71>0),1,0)","v":0},{"$f":"IF(AND(EBP_Matrix!T57=1,Prob_Alc!C71>0),1,0)","v":0},{"$f":"IF(AND(EBP_Matrix!T57=1,Prob_Alc!C71>0),1,0)","v":0},{"$f":"IF(AND(EBP_Matrix!T57=1,Prob_Alc!C71>0),1,0)","v":0},{"$f":"IF(AND(EBP_Matrix!T57=1,Prob_Alc!C71>0),1,0)","v":0},{"$f":"IF(AND(EBP_Matrix!T57=1,Prob_Alc!C71>0),1,0)","v":0},{"$f":"IF(AND(EBP_Matrix!T57=1,Prob_Alc!C71>0),1,0)","v":0},{"$f":"IF(AND(EBP_Matrix!U57=1,Prob_Marj!C71>0),1,0)","v":0},{"$f":"IF(AND(EBP_Matrix!U57=1,Prob_Marj!C71>0),1,0)","v":0},{"$f":"IF(AND(EBP_Matrix!U57=1,Prob_Marj!C71>0),1,0)","v":0},{"$f":"IF(AND(EBP_Matrix!U57=1,Prob_Marj!C71>0),1,0)","v":0},{"$f":"IF(AND(EBP_Matrix!V57=1,Prob_Tob!C71>0),1,0)","v":0},{"$f":"IF(AND(EBP_Matrix!V57=1,Prob_Tob!C71>0),1,0)","v":0},{"$f":"IF(AND(EBP_Matrix!V57=1,Prob_Tob!C71>0),1,0)","v":0},{"$f":"IF(AND(EBP_Matrix!V57=1,Prob_Tob!C71>0),1,0)","v":0},{"$f":"IF(AND(EBP_Matrix!V57=1,Prob_Tob!C71>0),1,0)","v":0},{"$f":"IF(AND(EBP_Matrix!V57=1,Prob_Tob!C71>0),1,0)","v":0},{"$f":"IF(AND(EBP_Matrix!W57=1,Prob_RxDrugs!C31>0),1,0)","v":0},{"$f":"IF(AND(EBP_Matrix!W57=1,Prob_RxDrugs!C31>0),1,0)","v":0},null,{"$f":"IF(AND(EBP_Matrix!X57=1,Prob_Other!C21>0),1,0)","v":0},{"$f":"IF(AND(EBP_Matrix!Y57=1,Risk_Alc!$J$259=1),1,0)","v":0},{"$f":"IF(AND(EBP_Matrix!Z57=1,Risk_Marj!$J$224=1),1,0)","v":0},{"$f":"IF(AND(EBP_Matrix!AA57=1,Risk_Tob!$J$217=1),1,0)","v":0},{"$f":"IF(AND(EBP_Matrix!AB57=1,Risk_RxDrugs!$J$217=1),1,0)","v":0},{"$f":"IF(AND(EBP_Matrix!AC57=1,Risk_Other!$J$217=1),1,0)","v":0},{"$f":"IF(AND(EBP_Matrix!AD57=1,Risk_Alc!$J$260=1),1,0)","v":0},{"$f":"IF(AND(EBP_Matrix!AE57=1,Risk_Marj!$J$225=1),1,0)","v":0},{"$f":"IF(AND(EBP_Matrix!AF57=1,Risk_Tob!$J$218=1),1,0)","v":0},{"$f":"IF(AND(EBP_Matrix!AG57=1,Risk_RxDrugs!$J$218=1),1,0)","v":0},{"$f":"IF(AND(EBP_Matrix!AH57=1,Risk_Other!$J$218=1),1,0)","v":0},{"$f":"IF(AND(EBP_Matrix!AI57=1,Risk_Alc!$J$261=1),1,0)","v":0},{"$f":"IF(AND(EBP_Matrix!AJ57=1,Risk_Marj!$J$226=1),1,0)","v":0},{"$f":"IF(AND(EBP_Matrix!AK57=1,Risk_Tob!$J$219=1),1,0)","v":0},{"$f":"IF(AND(EBP_Matrix!AL57=1,Risk_RxDrugs!$J$219=1),1,0)","v":0},{"$f":"IF(AND(EBP_Matrix!AM57=1,Risk_Other!$J$219=1),1,0)","v":0},{"$f":"IF(AND(EBP_Matrix!AN57=1,Risk_Alc!$J$262=1),1,0)","v":0},{"$f":"IF(AND(EBP_Matrix!AO57=1,Risk_Marj!$J$227=1),1,0)","v":0},{"$f":"IF(AND(EBP_Matrix!AP57=1,Risk_Tob!$J$220=1),1,0)","v":0},{"$f":"IF(AND(EBP_Matrix!AQ57=1,Risk_RxDrugs!$J$220=1),1,0)","v":0},{"$f":"IF(AND(EBP_Matrix!AR57=1,Risk_Other!$J$220=1),1,0)","v":0},{"$f":"IF(AND(EBP_Matrix!AS57=1,Risk_Alc!$J$263=1),1,0)","v":0},{"$f":"IF(AND(EBP_Matrix!AT57=1,Risk_Marj!$J$228=1),1,0)","v":0},{"$f":"IF(AND(EBP_Matrix!AU57=1,Risk_Tob!$J$221=1),1,0)","v":0},{"$f":"IF(AND(EBP_Matrix!AV57=1,Risk_RxDrugs!$J$221=1),1,0)","v":0},{"$f":"IF(AND(EBP_Matrix!AW57=1,Risk_Other!$J$221=1),1,0)","v":0},{"$f":"IF(AND(EBP_Matrix!AX57=1,Risk_Alc!$J$264=1),1,0)","v":0},{"$f":"IF(AND(EBP_Matrix!AY57=1,Risk_Marj!$J$229=1),1,0)","v":0},{"$f":"IF(AND(EBP_Matrix!AZ57=1,Risk_Tob!$J$222=1),1,0)","v":0},{"$f":"IF(AND(EBP_Matrix!BA57=1,Risk_RxDrugs!$J$222=1),1,0)","v":0},{"$f":"IF(AND(EBP_Matrix!BB57=1,Risk_Other!$J$222=1),1,0)","v":0},{"$f":"IF(AND(EBP_Matrix!BC57=1,Risk_Alc!$J$265=1),1,0)","v":0},{"$f":"IF(AND(EBP_Matrix!BD57=1,Risk_Marj!$J$230=1),1,0)","v":0},{"$f":"IF(AND(EBP_Matrix!BE57=1,Risk_Tob!$J$223=1),1,0)","v":0},{"$f":"IF(AND(EBP_Matrix!BF57=1,Risk_RxDrugs!$J$223=1),1,0)","v":0},{"$f":"IF(AND(EBP_Matrix!BG57=1,Risk_Other!$J$223=1),1,0)","v":0},{"$f":"IF(AND(EBP_Matrix!BH57=1,Risk_Alc!$J$266=1),1,0)","v":0},{"$f":"IF(AND(EBP_Matrix!BI57=1,Risk_Marj!$J$231=1),1,0)","v":0},{"$f":"IF(AND(EBP_Matrix!BJ57=1,Risk_Tob!$J$224=1),1,0)","v":0},{"$f":"IF(AND(EBP_Matrix!BK57=1,Risk_RxDrugs!$J$224=1),1,0)","v":0},{"$f":"IF(AND(EBP_Matrix!BL57=1,Risk_Other!$J$224=1),1,0)","v":0},{"$f":"IF(AND(EBP_Matrix!BM57=1,Risk_Alc!$J$267=1),1,0)","v":0},{"$f":"IF(AND(EBP_Matrix!BN57=1,Risk_Marj!$J$232=1),1,0)","v":0},{"$f":"IF(AND(EBP_Matrix!BO57=1,Risk_Tob!$J$225=1),1,0)","v":0},{"$f":"IF(AND(EBP_Matrix!BP57=1,Risk_RxDrugs!$J$225=1),1,0)","v":0},{"$f":"IF(AND(EBP_Matrix!BQ57=1,Risk_Other!$J$225=1),1,0)","v":0},{"$f":"IF(AND(EBP_Matrix!BR57=1,Risk_Alc!$J$268=1),1,0)","v":0},{"$f":"IF(AND(EBP_Matrix!BS57=1,Risk_Marj!$J$233=1),1,0)","v":0},{"$f":"IF(AND(EBP_Matrix!BT57=1,Risk_Tob!$J$226=1),1,0)","v":0},{"$f":"IF(AND(EBP_Matrix!BU57=1,Risk_RxDrugs!$J$226=1),1,0)","v":0},{"$f":"IF(AND(EBP_Matrix!BV57=1,Risk_Other!$J$226=1),1,0)","v":0},{"$f":"IF(AND(EBP_Matrix!BW57=1,Risk_Alc!$J$269=1),1,0)","v":0},{"$f":"IF(AND(EBP_Matrix!BX57=1,Risk_Marj!$J$234=1),1,0)","v":0},{"$f":"IF(AND(EBP_Matrix!BY57=1,Risk_Tob!$J$227=1),1,0)","v":0},{"$f":"IF(AND(EBP_Matrix!BZ57=1,Risk_RxDrugs!$J$227=1),1,0)","v":0},{"$f":"IF(AND(EBP_Matrix!CA57=1,Risk_Other!$J$227=1),1,0)","v":0},{"$f":"IF(AND(EBP_Matrix!CB57=1,Risk_Alc!$J$270=1),1,0)","v":0},{"$f":"IF(AND(EBP_Matrix!CC57=1,Risk_Marj!$J$235=1),1,0)","v":0},{"$f":"IF(AND(EBP_Matrix!CD57=1,Risk_Tob!$J$228=1),1,0)","v":0},{"$f":"IF(AND(EBP_Matrix!CE57=1,Risk_RxDrugs!$J$228=1),1,0)","v":0},{"$f":"IF(AND(EBP_Matrix!CF57=1,Risk_Other!$J$228=1),1,0)","v":0},{"$f":"IF(AND(EBP_Matrix!CG57=1,Risk_Alc!$J$271=1),1,0)","v":0},{"$f":"IF(AND(EBP_Matrix!CH57=1,Risk_Marj!$J$236=1),1,0)","v":0},{"$f":"IF(AND(EBP_Matrix!CI57=1,Risk_Tob!$J$229=1),1,0)","v":0},{"$f":"IF(AND(EBP_Matrix!CJ57=1,Risk_RxDrugs!$J$229=1),1,0)","v":0},{"$f":"IF(AND(EBP_Matrix!CK57=1,Risk_Other!$J$229=1),1,0)","v":0},{"$f":"IF(AND(EBP_Matrix!CL57=1,Risk_Alc!$J$272=1),1,0)","v":0},{"$f":"IF(AND(EBP_Matrix!CM57=1,Risk_Marj!$J$237=1),1,0)","v":0},{"$f":"IF(AND(EBP_Matrix!CN57=1,Risk_Tob!$J$230=1),1,0)","v":0},{"$f":"IF(AND(EBP_Matrix!CO57=1,Risk_RxDrugs!$J$230=1),1,0)","v":0},{"$f":"IF(AND(EBP_Matrix!CP57=1,Risk_Other!$J$230=1),1,0)","v":0},0,0,0,0,0,0,0]
[{"$f":"EBP_Matrix!A58","v":"Year One College Behavior Profile (Year One CBP)"},null,null,0,null,null,null,{"$f":"IF(AND(EBP_Matrix!T58=1,Prob_Alc!C71>0),1,0)","v":0},{"$f":"IF(AND(EBP_Matrix!T58=1,Prob_Alc!C71>0),1,0)","v":0},{"$f":"IF(AND(EBP_Matrix!T58=1,Prob_Alc!C71>0),1,0)","v":0},{"$f":"IF(AND(EBP_Matrix!T58=1,Prob_Alc!C71>0),1,0)","v":0},{"$f":"IF(AND(EBP_Matrix!T58=1,Prob_Alc!C71>0),1,0)","v":0},{"$f":"IF(AND(EBP_Matrix!T58=1,Prob_Alc!C71>0),1,0)","v":0},{"$f":"IF(AND(EBP_Matrix!T58=1,Prob_Alc!C71>0),1,0)","v":0},{"$f":"IF(AND(EBP_Matrix!T58=1,Prob_Alc!C71>0),1,0)","v":0},{"$f":"IF(AND(EBP_Matrix!U58=1,Prob_Marj!C71>0),1,0)","v":0},{"$f":"IF(AND(EBP_Matrix!U58=1,Prob_Marj!C71>0),1,0)","v":0},{"$f":"IF(AND(EBP_Matrix!U58=1,Prob_Marj!C71>0),1,0)","v":0},{"$f":"IF(AND(EBP_Matrix!U58=1,Prob_Marj!C71>0),1,0)","v":0},{"$f":"IF(AND(EBP_Matrix!V58=1,Prob_Tob!C71>0),1,0)","v":0},{"$f":"IF(AND(EBP_Matrix!V58=1,Prob_Tob!C71>0),1,0)","v":0},{"$f":"IF(AND(EBP_Matrix!V58=1,Prob_Tob!C71>0),1,0)","v":0},{"$f":"IF(AND(EBP_Matrix!V58=1,Prob_Tob!C71>0),1,0)","v":0},{"$f":"IF(AND(EBP_Matrix!V58=1,Prob_Tob!C71>0),1,0)","v":0},{"$f":"IF(AND(EBP_Matrix!V58=1,Prob_Tob!C71>0),1,0)","v":0},{"$f":"IF(AND(EBP_Matrix!W58=1,Prob_RxDrugs!C31>0),1,0)","v":0},{"$f":"IF(AND(EBP_Matrix!W58=1,Prob_RxDrugs!C31>0),1,0)","v":0},null,{"$f":"IF(AND(EBP_Matrix!X58=1,Prob_Other!C21>0),1,0)","v":0},{"$f":"IF(AND(EBP_Matrix!Y58=1,Risk_Alc!$J$259=1),1,0)","v":0},{"$f":"IF(AND(EBP_Matrix!Z58=1,Risk_Marj!$J$224=1),1,0)","v":0},{"$f":"IF(AND(EBP_Matrix!AA58=1,Risk_Tob!$J$217=1),1,0)","v":0},{"$f":"IF(AND(EBP_Matrix!AB58=1,Risk_RxDrugs!$J$217=1),1,0)","v":0},{"$f":"IF(AND(EBP_Matrix!AC58=1,Risk_Other!$J$217=1),1,0)","v":0},{"$f":"IF(AND(EBP_Matrix!AD58=1,Risk_Alc!$J$260=1),1,0)","v":0},{"$f":"IF(AND(EBP_Matrix!AE58=1,Risk_Marj!$J$225=1),1,0)","v":0},{"$f":"IF(AND(EBP_Matrix!AF58=1,Risk_Tob!$J$218=1),1,0)","v":0},{"$f":"IF(AND(EBP_Matrix!AG58=1,Risk_RxDrugs!$J$218=1),1,0)","v":0},{"$f":"IF(AND(EBP_Matrix!AH58=1,Risk_Other!$J$218=1),1,0)","v":0},{"$f":"IF(AND(EBP_Matrix!AI58=1,Risk_Alc!$J$261=1),1,0)","v":0},{"$f":"IF(AND(EBP_Matrix!AJ58=1,Risk_Marj!$J$226=1),1,0)","v":0},{"$f":"IF(AND(EBP_Matrix!AK58=1,Risk_Tob!$J$219=1),1,0)","v":0},{"$f":"IF(AND(EBP_Matrix!AL58=1,Risk_RxDrugs!$J$219=1),1,0)","v":0},{"$f":"IF(AND(EBP_Matrix!AM58=1,Risk_Other!$J$219=1),1,0)","v":0},{"$f":"IF(AND(EBP_Matrix!AN58=1,Risk_Alc!$J$262=1),1,0)","v":0},{"$f":"IF(AND(EBP_Matrix!AO58=1,Risk_Marj!$J$227=1),1,0)","v":0},{"$f":"IF(AND(EBP_Matrix!AP58=1,Risk_Tob!$J$220=1),1,0)","v":0},{"$f":"IF(AND(EBP_Matrix!AQ58=1,Risk_RxDrugs!$J$220=1),1,0)","v":0},{"$f":"IF(AND(EBP_Matrix!AR58=1,Risk_Other!$J$220=1),1,0)","v":0},{"$f":"IF(AND(EBP_Matrix!AS58=1,Risk_Alc!$J$263=1),1,0)","v":0},{"$f":"IF(AND(EBP_Matrix!AT58=1,Risk_Marj!$J$228=1),1,0)","v":0},{"$f":"IF(AND(EBP_Matrix!AU58=1,Risk_Tob!$J$221=1),1,0)","v":0},{"$f":"IF(AND(EBP_Matrix!AV58=1,Risk_RxDrugs!$J$221=1),1,0)","v":0},{"$f":"IF(AND(EBP_Matrix!AW58=1,Risk_Other!$J$221=1),1,0)","v":0},{"$f":"IF(AND(EBP_Matrix!AX58=1,Risk_Alc!$J$264=1),1,0)","v":0},{"$f":"IF(AND(EBP_Matrix!AY58=1,Risk_Marj!$J$229=1),1,0)","v":0},{"$f":"IF(AND(EBP_Matrix!AZ58=1,Risk_Tob!$J$222=1),1,0)","v":0},{"$f":"IF(AND(EBP_Matrix!BA58=1,Risk_RxDrugs!$J$222=1),1,0)","v":0},{"$f":"IF(AND(EBP_Matrix!BB58=1,Risk_Other!$J$222=1),1,0)","v":0},{"$f":"IF(AND(EBP_Matrix!BC58=1,Risk_Alc!$J$265=1),1,0)","v":0},{"$f":"IF(AND(EBP_Matrix!BD58=1,Risk_Marj!$J$230=1),1,0)","v":0},{"$f":"IF(AND(EBP_Matrix!BE58=1,Risk_Tob!$J$223=1),1,0)","v":0},{"$f":"IF(AND(EBP_Matrix!BF58=1,Risk_RxDrugs!$J$223=1),1,0)","v":0},{"$f":"IF(AND(EBP_Matrix!BG58=1,Risk_Other!$J$223=1),1,0)","v":0},{"$f":"IF(AND(EBP_Matrix!BH58=1,Risk_Alc!$J$266=1),1,0)","v":0},{"$f":"IF(AND(EBP_Matrix!BI58=1,Risk_Marj!$J$231=1),1,0)","v":0},{"$f":"IF(AND(EBP_Matrix!BJ58=1,Risk_Tob!$J$224=1),1,0)","v":0},{"$f":"IF(AND(EBP_Matrix!BK58=1,Risk_RxDrugs!$J$224=1),1,0)","v":0},{"$f":"IF(AND(EBP_Matrix!BL58=1,Risk_Other!$J$224=1),1,0)","v":0},{"$f":"IF(AND(EBP_Matrix!BM58=1,Risk_Alc!$J$267=1),1,0)","v":0},{"$f":"IF(AND(EBP_Matrix!BN58=1,Risk_Marj!$J$232=1),1,0)","v":0},{"$f":"IF(AND(EBP_Matrix!BO58=1,Risk_Tob!$J$225=1),1,0)","v":0},{"$f":"IF(AND(EBP_Matrix!BP58=1,Risk_RxDrugs!$J$225=1),1,0)","v":0},{"$f":"IF(AND(EBP_Matrix!BQ58=1,Risk_Other!$J$225=1),1,0)","v":0},{"$f":"IF(AND(EBP_Matrix!BR58=1,Risk_Alc!$J$268=1),1,0)","v":0},{"$f":"IF(AND(EBP_Matrix!BS58=1,Risk_Marj!$J$233=1),1,0)","v":0},{"$f":"IF(AND(EBP_Matrix!BT58=1,Risk_Tob!$J$226=1),1,0)","v":0},{"$f":"IF(AND(EBP_Matrix!BU58=1,Risk_RxDrugs!$J$226=1),1,0)","v":0},{"$f":"IF(AND(EBP_Matrix!BV58=1,Risk_Other!$J$226=1),1,0)","v":0},{"$f":"IF(AND(EBP_Matrix!BW58=1,Risk_Alc!$J$269=1),1,0)","v":0},{"$f":"IF(AND(EBP_Matrix!BX58=1,Risk_Marj!$J$234=1),1,0)","v":0},{"$f":"IF(AND(EBP_Matrix!BY58=1,Risk_Tob!$J$227=1),1,0)","v":0},{"$f":"IF(AND(EBP_Matrix!BZ58=1,Risk_RxDrugs!$J$227=1),1,0)","v":0},{"$f":"IF(AND(EBP_Matrix!CA58=1,Risk_Other!$J$227=1),1,0)","v":0},{"$f":"IF(AND(EBP_Matrix!CB58=1,Risk_Alc!$J$270=1),1,0)","v":0},{"$f":"IF(AND(EBP_Matrix!CC58=1,Risk_Marj!$J$235=1),1,0)","v":0},{"$f":"IF(AND(EBP_Matrix!CD58=1,Risk_Tob!$J$228=1),1,0)","v":0},{"$f":"IF(AND(EBP_Matrix!CE58=1,Risk_RxDrugs!$J$228=1),1,0)","v":0},{"$f":"IF(AND(EBP_Matrix!CF58=1,Risk_Other!$J$228=1),1,0)","v":0},{"$f":"IF(AND(EBP_Matrix!CG58=1,Risk_Alc!$J$271=1),1,0)","v":0},{"$f":"IF(AND(EBP_Matrix!CH58=1,Risk_Marj!$J$236=1),1,0)","v":0},{"$f":"IF(AND(EBP_Matrix!CI58=1,Risk_Tob!$J$229=1),1,0)","v":0},{"$f":"IF(AND(EBP_Matrix!CJ58=1,Risk_RxDrugs!$J$229=1),1,0)","v":0},{"$f":"IF(AND(EBP_Matrix!CK58=1,Risk_Other!$J$229=1),1,0)","v":0},{"$f":"IF(AND(EBP_Matrix!CL58=1,Risk_Alc!$J$272=1),1,0)","v":0},{"$f":"IF(AND(EBP_Matrix!CM58=1,Risk_Marj!$J$237=1),1,0)","v":0},{"$f":"IF(AND(EBP_Matrix!CN58=1,Risk_Tob!$J$230=1),1,0)","v":0},{"$f":"IF(AND(EBP_Matrix!CO58=1,Risk_RxDrugs!$J$230=1),1,0)","v":0},{"$f":"IF(AND(EBP_Matrix!CP58=1,Risk_Other!$J$230=1),1,0)","v":0},0,0,0,0,0,0,0]
[]
["Strategy Selection Step 6 (optional): You may specify additional strategies you are considering that are not included in the suggested strategies in the table below."]
["Strategy","Using the information above, do you have the resources, readiness, and collaborations to implement this strategy?","Do you want to implement this strategy as part of your workplan?",null,"If so, how many will you reach with this strategy?"]
[null,null,null,{"$f":"IF(C136=\"Yes\",1,0)","v":0}]
[null,null,null,{"$f":"IF(C137=\"Yes\",1,0)","v":0}]
[null,null,null,{"$f":"IF(C138=\"Yes\",1,0)","v":0}]
[null,null,null,{"$f":"IF(C139=\"Yes\",1,0)","v":0}]
[null,null,null,{"$f":"IF(C140=\"Yes\",1,0)","v":0}]

{"sheet":"LM","index":13,"n_rows":9,"n_cols":305,"rows_kept":9,"cut":false,"hidden":false,"merged":[[6,284,7,304],[6,214,7,283],[6,1,7,21],[0,0,0,21],[6,0,8,0],[6,92,6,203],[6,204,6,213],[6,22,7,91]]}
[{"$f":"Prob_Alc!A1","v":"UR ABCs: Omaha Collegiate Consortium (OCC)"}]
[]
[]
[]
[]
[]
["Logic Model","Problems and related behaviors",null,null,null,null,null,null,null,null,null,null,null,null,null,null,null,null,null,null,null,null,"Intervening Variables (risk factors)",null,null,null,null,null,null,null,null,null,null,null,null,null,null,null,null,null,null,null,null,null,null,null,null,null,null,null,null,null,null,null,null,null,null,null,null,null,null,null,null,null,null,null,null,null,null,null,null,null,null,null,null,null,null,null,null,null,null,null,null,null,null,null,null,null,null,null,null,null,"Interventions and Outputs",null,null,null,null,null,null,null,null,null,null,null,null,null,null,null,null,null,null,null,null,null,null,null,null,null,null,null,null,null,null,null,null,null,null,null,null,null,null,null,null,null,null,null,null,null,null,null,null,null,null,null,null,null,null,null,null,null,null,null,null,null,null,null,null,null,null,null,null,null,null,null,null,null,null,null,null,null,null,null,null,null,null,null,null,null,null,null,null,null,null,null,null,null,null,null,null,null,null,null,null,null,null,null,null,null,null,null,null,null,null,null,"Optional Strategies",null,null,null,null,null,null,null,null,null,"Short Term Outcomes ",null,null,null,null,null,null,null,null,null,null,null,null,null,null,null,null,null,null,null,null,null,null,null,null,null,null,null,null,null,null,null,null,null,null,null,null,null,null,null,null,null,null,null,null,null,null,null,null,null,null,null,null,null,null,null,null,null,null,null,null,null,null,null,null,null,null,null,null,null,"Long Term Outcomes "]
[null,null,null,null,null,null,null,null,null,null,null,null,null,null,null,null,null,null,null,null,null,null,null,null,null,null,null,null,null,null,null,null,null,null,null,null,null,null,null,null,null,null,null,null,null,null,null,null,null,null,null,null,null,null,null,null,null,null,null,null,null,null,null,null,null,null,null,null,null,null,null,null,null,null,null,null,null,null,null,null,null,null,null,null,null,null,null,null,null,null,null,null,"Intervention ","Output","Intervention ","Output","Intervention ","Output","Intervention ","Output","Intervention ","Output","Intervention ","Output","Intervention ","Output","Intervention ","Output","Intervention ","Output","Intervention ","Output","Intervention ","Output","Intervention ","Output","Intervention ","Output","Intervention ","Output","Intervention ","Output","Intervention ","Output","Intervention ","Output","Intervention ","Output","Intervention ","Output","Intervention ","Output","Intervention ","Output","Intervention ","Output","Intervention ","Output","Intervention ","Output","Intervention ","Output","Intervention ","Output","Intervention ","Output","Intervention ","Output","Intervention ","Output","Intervention ","Output","Intervention ","Output","Intervention ","Output","Intervention ","Output","Intervention ","Output","Intervention ","Output","Intervention ","Output","Intervention ","Output","Intervention ","Output","Intervention ","Output","Intervention ","Output","Intervention ","Output","Intervention ","Output","Intervention ","Output","Intervention ","Output","Intervention ","Output","Intervention ","Output","Intervention ","Output","Intervention ","Output","Intervention ","Output","Intervention ","Output","Intervention ","Output","Intervention ","Output","Intervention ","Output","Intervention ","Output","Intervention ","Output","Intervention ","Output","Intervention ","Output","Intervention ","Output","Intervention ","Output","Intervention ","Output","Intervention ","Output"]
[null,{"$f":"StrategySelect!H76","v":0},{"$f":"StrategySelect!I76","v":0},{"$f":"StrategySelect!J76","v":0},{"$f":"StrategySelect!K76","v":0},{"$f":"StrategySelect!L76","v":0},{"$f":"StrategySelect!M76","v":0},{"$f":"StrategySelect!N76","v":0},{"$f":"StrategySelect!O76","v":0},{"$f":"StrategySelect!P76","v":0},{"$f":"StrategySelect!Q76","v":0},{"$f":"StrategySelect!R76","v":0},{"$f":"StrategySelect!S76","v":0},{"$f":"StrategySelect!T76","v":0},{"$f":"StrategySelect!U76","v":0},{"$f":"StrategySelect!V76","v":0},{"$f":"StrategySelect!W76","v":0},{"$f":"StrategySelect!X76","v":0},{"$f":"StrategySelect!Y76","v":0},{"$f":"StrategySelect!Z76","v":0},{"$f":"StrategySelect!AA76","v":0},{"$f":"StrategySelect!AC76","v":0},{"$f":"StrategySelect!AD76","v":0},{"$f":"StrategySelect!AE76","v":0},{"$f":"StrategySelect!AF76","v":0},{"$f":"StrategySelect!AG76","v":0},{"$f":"StrategySelect!AH76","v":0},{"$f":"StrategySelect!AI76","v":0},{"$f":"StrategySelect!AJ76","v":0},{"$f":"StrategySelect!AK76","v":0},{"$f":"StrategySelect!AL76","v":0},{"$f":"StrategySelect!AM76","v":0},{"$f":"StrategySelect!AN76","v":0},{"$f":"StrategySelect!AO76","v":0},{"$f":"StrategySelect!AP76","v":0},{"$f":"StrategySelect!AQ76","v":0},{"$f":"StrategySelect!AR76","v":0},{"$f":"StrategySelect!AS76","v":0},{"$f":"StrategySelect!AT76","v":0},{"$f":"StrategySelect!AU76","v":0},{"$f":"StrategySelect!AV76","v":0},{"$f":"StrategySelect!AW76","v":0},{"$f":"StrategySelect!AX76","v":0},{"$f":"StrategySelect!AY76","v":0},{"$f":"StrategySelect!AZ76","v":0},{"$f":"StrategySelect!BA76","v":0},{"$f":"StrategySelect!BB76","v":0},{"$f":"StrategySelect!BC76","v":0},{"$f":"StrategySelect!BD76","v":0},{"$f":"StrategySelect!BE76","v":0},{"$f":"StrategySelect!BF76","v":0},{"$f":"StrategySelect!BG76","v":0},{"$f":"StrategySelect!BH76","v":0},{"$f":"StrategySelect!BI76","v":0},{"$f":"StrategySelect!BJ76","v":0},{"$f":"StrategySelect!BK76","v":0},{"$f":"StrategySelect!BL76","v":0},{"$f":"StrategySelect!BM76","v":0},{"$f":"StrategySelect!BN76","v":0},{"$f":"StrategySelect!BO76","v":0},{"$f":"StrategySelect!BP76","v":0},{"$f":"StrategySelect!BQ76","v":0},{"$f":"StrategySelect!BR76","v":0},{"$f":"StrategySelect!BS76","v":0},{"$f":"StrategySelect!BT76","v":0},{"$f":"StrategySelect!BU76","v":0},{"$f":"StrategySelect!BV76","v":0},{"$f":"StrategySelect!BW76","v":0},{"$f":"StrategySelect!BX76","v":0},{"$f":"StrategySelect!BY76","v":0},{"$f":"StrategySelect!BZ76","v":0},{"$f":"StrategySelect!CA76","v":0},{"$f":"StrategySelect!CB76","v":0},{"$f":"StrategySelect!CC76","v":0},{"$f":"StrategySelect!CD76","v":0},{"$f":"StrategySelect!CE76","v":0},{"$f":"StrategySelect!CF76","v":0},{"$f":"StrategySelect!CG76","v":0},{"$f":"StrategySelect!CH76","v":0},{"$f":"StrategySelect!CI76","v":0},{"$f":"StrategySelect!CJ76","v":0},{"$f":"StrategySelect!CK76","v":0},{"$f":"StrategySelect!CL76","v":0},{"$f":"StrategySelect!CM76","v":0},{"$f":"StrategySelect!CN76","v":0},{"$f":"StrategySelect!CO76","v":0},{"$f":"StrategySelect!CP76","v":0},{"$f":"StrategySelect!CQ76","v":0},{"$f":"StrategySelect!CR76","v":0},{"$f":"StrategySelect!CS76","v":0},{"$f":"StrategySelect!CT76","v":0},{"$f":"StrategySelect!CU76","v":0},{"$f":"IF(StrategySelect!C77=\"Yes\",StrategySelect!A77,\"\")","v":""},{"$f":"StrategySelect!E77","v":0},{"$f":"IF(StrategySelect!C78=\"Yes\",StrategySelect!A78,\"\")","v":""},{"$f":"StrategySelect!E78","v":0},{"$f":"IF(StrategySelect!C79=\"Yes\",StrategySelect!A79,\"\")","v":""},{"$f":"StrategySelect!E79","v":0},{"$f":"IF(StrategySelect!C80=\"Yes\",StrategySelect!A80,\"\")","v":""},{"$f":"StrategySelect!E80","v":0},{"$f":"IF(StrategySelect!C81=\"Yes\",StrategySelect!A81,\"\")","v":""},{"$f":"StrategySelect!E81","v":0},{"$f":"IF(StrategySelect!C82=\"Yes\",StrategySelect!A82,\"\")","v":""},{"$f":"StrategySelect!E82","v":0},{"$f":"IF(StrategySelect!C83=\"Yes\",StrategySelect!A83,\"\")","v":""},{"$f":"StrategySelect!E83","v":0},{"$f":"IF(StrategySelect!C84=\"Yes\",StrategySelect!A84,\"\")","v":""},{"$f":"StrategySelect!MG84","v":0},{"$f":"IF(StrategySelect!C85=\"Yes\",StrategySelect!A85,\"\")","v":""},{"$f":"StrategySelect!E85","v":0},{"$f":"IF(StrategySelect!C86=\"Yes\",StrategySelect!A86,\"\")","v":""},{"$f":"StrategySelect!E86","v":0},{"$f":"IF(StrategySelect!C87=\"Yes\",StrategySelect!A87,\"\")","v":""},{"$f":"StrategySelect!E87","v":0},{"$f":"IF(StrategySelect!C88=\"Yes\",StrategySelect!A88,\"\")","v":""},{"$f":"StrategySelect!E88","v":0},{"$f":"IF(StrategySelect!C89=\"Yes\",StrategySelect!A89,\"\")","v":""},{"$f":"StrategySelect!E89","v":0},{"$f":"IF(StrategySelect!C90=\"Yes\",StrategySelect!A90,\"\")","v":""},{"$f":"StrategySelect!E90","v":0},{"$f":"IF(StrategySelect!C91=\"Yes\",StrategySelect!A91,\"\")","v":""},{"$f":"StrategySelect!E91","v":0},{"$f":"IF(StrategySelect!C92=\"Yes\",StrategySelect!A92,\"\")","v":""},{"$f":"StrategySelect!E92","v":0},{"$f":"IF(StrategySelect!C93=\"Yes\",StrategySelect!A93,\"\")","v":""},{"$f":"StrategySelect!E93","v":0},{"$f":"IF(StrategySelect!C94=\"Yes\",StrategySelect!A94,\"\")","v":""},{"$f":"StrategySelect!E94","v":0},{"$f":"IF(StrategySelect!C95=\"Yes\",StrategySelect!A95,\"\")","v":""},{"$f":"StrategySelect!E95","v":0},{"$f":"IF(StrategySelect!C96=\"Yes\",StrategySelect!A96,\"\")","v":""},{"$f":"StrategySelect!E96","v":0},{"$f":"IF(StrategySelect!C97=\"Yes\",StrategySelect!A97,\"\")","v":""},{"$f":"StrategySelect!E97","v":0},{"$f":"IF(StrategySelect!C98=\"Yes\",StrategySelect!A98,\"\")","v":""},{"$f":"StrategySelect!E98","v":0},{"$f":"IF(StrategySelect!C99=\"Yes\",StrategySelect!A99,\"\")","v":""},{"$f":"StrategySelect!E99","v":0},{"$f":"IF(StrategySelect!C100=\"Yes\",StrategySelect!A100,\"\")","v":""},{"$f":"StrategySelect!E100","v":0},{"$f":"IF(StrategySelect!C101=\"Yes\",StrategySelect!A101,\"\")","v":""},{"$f":"StrategySelect!E101","v":0},{"$f":"IF(StrategySelect!C102=\"Yes\",StrategySelect!A102,\"\")","v":""},{"$f":"StrategySelect!E102","v":0},{"$f":"IF(StrategySelect!C103=\"Yes\",StrategySelect!A103,\"\")","v":""},{"$f":"StrategySelect!E103","v":0},{"$f":"IF(StrategySelect!C104=\"Yes\",StrategySelect!A104,\"\")","v":""},{"$f":"StrategySelect!E104","v":0},{"$f":"IF(StrategySelect!C105=\"Yes\",StrategySelect!A105,\"\")","v":""},{"$f":"StrategySelect!E105","v":0},{"$f":"IF(StrategySelect!C106=\"Yes\",StrategySelect!A106,\"\")","v":""},{"$f":"StrategySelect!E106","v":0},{"$f":"IF(StrategySelect!C107=\"Yes\",StrategySelect!A107,\"\")","v":""},{"$f":"StrategySelect!E107","v":0},{"$f":"IF(StrategySelect!C108=\"Yes\",StrategySelect!A108,\"\")","v":""},{"$f":"StrategySelect!E108","v":0},{"$f":"IF(StrategySelect!C109=\"Yes\",StrategySelect!A109,\"\")","v":""},{"$f":"StrategySelect!E109","v":0},{"$f":"IF(StrategySelect!C110=\"Yes\",StrategySelect!A110,\"\")","v":""},{"$f":"StrategySelect!E110","v":0},{"$f":"IF(StrategySelect!C111=\"Yes\",StrategySelect!A111,\"\")","v":""},{"$f":"StrategySelect!E111","v":0},{"$f":"IF(StrategySelect!C112=\"Yes\",StrategySelect!A112,\"\")","v":""},{"$f":"StrategySelect!E112","v":0},{"$f":"IF(StrategySelect!C113=\"Yes\",StrategySelect!A113,\"\")","v":""},{"$f":"StrategySelect!E113","v":0},{"$f":"IF(StrategySelect!C114=\"Yes\",StrategySelect!A114,\"\")","v":""},{"$f":"StrategySelect!E114","v":0},{"$f":"IF(StrategySelect!C115=\"Yes\",StrategySelect!A115,\"\")","v":""},{"$f":"StrategySelect!E115","v":0},{"$f":"IF(StrategySelect!C116=\"Yes\",StrategySelect!A116,\"\")","v":""},{"$f":"StrategySelect!E116","v":0},{"$f":"IF(StrategySelect!C117=\"Yes\",StrategySelect!A117,\"\")","v":""},{"$f":"StrategySelect!E117","v":0},{"$f":"IF(StrategySelect!C118=\"Yes\",StrategySelect!A118,\"\")","v":""},{"$f":"StrategySelect!E118","v":0},{"$f":"IF(StrategySelect!C119=\"Yes\",StrategySelect!A119,\"\")","v":""},{"$f":"StrategySelect!E119","v":0},{"$f":"IF(StrategySelect!C120=\"Yes\",StrategySelect!A120,\"\")","v":""},{"$f":"StrategySelect!E120","v":0},{"$f":"IF(StrategySelect!C121=\"Yes\",StrategySelect!A121,\"\")","v":""},{"$f":"StrategySelect!E121","v":0},{"$f":"IF(StrategySelect!C122=\"Yes\",StrategySelect!A122,\"\")","v":""},{"$f":"StrategySelect!E122","v":0},{"$f":"IF(StrategySelect!C123=\"Yes\",StrategySelect!A123,\"\")","v":""},{"$f":"StrategySelect!E123","v":0},{"$f":"IF(StrategySelect!C124=\"Yes\",StrategySelect!A124,\"\")","v":""},{"$f":"StrategySelect!E124","v":0},{"$f":"IF(StrategySelect!C125=\"Yes\",StrategySelect!A125,\"\")","v":""},{"$f":"StrategySelect!E125","v":0},{"$f":"IF(StrategySelect!C126=\"Yes\",StrategySelect!A126,\"\")","v":""},{"$f":"StrategySelect!E126","v":0},{"$f":"IF(StrategySelect!C127=\"Yes\",StrategySelect!A127,\"\")","v":""},{"$f":"StrategySelect!E127","v":0},{"$f":"IF(StrategySelect!C128=\"Yes\",StrategySelect!A128,\"\")","v":""},{"$f":"StrategySelect!E128","v":0},{"$f":"IF(StrategySelect!C129=\"Yes\",StrategySelect!A129,\"\")","v":""},{"$f":"StrategySelect!E129","v":0},{"$f":"IF(StrategySelect!C130=\"Yes\",StrategySelect!A130,\"\")","v":""},{"$f":"StrategySelect!E130","v":0},{"$f":"IF(StrategySelect!C131=\"Yes\",StrategySelect!A131,\"\")","v":""},{"$f":"StrategySelect!E131","v":0},{"$f":"IF(StrategySelect!C132=\"Yes\",StrategySelect!A132,\"\")","v":""},{"$f":"StrategySelect!E132","v":0},{"$f":"IF(StrategySelect!C136=\"Yes\",StrategySelect!A136,\"\")","v":""},{"$f":"StrategySelect!E136","v":0},{"$f":"IF(StrategySelect!C137=\"Yes\",StrategySelect!A137,\"\")","v":""},{"$f":"StrategySelect!E137","v":0},{"$f":"IF(StrategySelect!C138=\"Yes\",StrategySelect!A138,\"\")","v":""},{"$f":"StrategySelect!E138","v":0},{"$f":"IF(StrategySelect!C139=\"Yes\",StrategySelect!A139,\"\")","v":""},{"$f":"StrategySelect!E139","v":0},{"$f":"IF(StrategySelect!C140=\"Yes\",StrategySelect!A140,\"\")","v":""},{"$f":"StrategySelect!E140","v":0},{"$f":"W9","v":0},{"$f":"X9","v":0},0,0,0,0,0,0,0,0,0,0,0,0,0,0,0,0,0,0,0,0,0,0,0,0,0,0,0,0,0,0,0,0,0,0,0,0,0,0,0,0,0,0,0,0,0,0,0,0,0,0,0,0,0,0,0,0,0,0,0,0,0,0,0,{"$f":"CJ9","v":0},{"$f":"CK9","v":0},{"$f":"CL9","v":0},{"$f":"CM9","v":0},{"$f":"CN9","v":0},{"$f":"B9","v":0},0,0,0,0,0,0,0,{"$f":"J9","v":0},0,0,0,0,0,0,0,0,0,0,0,0]

{"sheet":"EBP_Matrix","index":14,"n_rows":58,"n_cols":94,"rows_kept":58,"cut":false,"hidden":false,"merged":[[0,24,0,28],[0,29,0,33],[0,34,0,38],[0,39,0,43],[0,44,0,48],[0,74,0,78],[0,79,0,83],[0,84,0,88],[0,89,0,93],[0,49,0,53],[0,54,0,58],[0,59,0,63],[0,64,0,68],[0,69,0,73]]}
["PFS EBPPP Listing","Description \n(2-3 Sentences to briefly summarize the strategy)","Strategy Type","Intervention Type","Target","Population of Focus - Age","Population of Focus - Demographic Groups \n","Population of Focus - At Risk","Session/Frequency ","Multi-year program ","Setting ","Efficacy \n(summarize research showing effectivness of the strategy, including citations as links  to the studies)","Link to the Strategy","Cost \n(describe the costs associated with the strategy)","Preparatation and follow-up time required outside of implementation time\n(describe the time required outside of the sessions implemented)","Training Requirements\n(describe what is required to be trained to implement the strategy)","User review \n(include any feedback from your experience with the strategy, including noting how many stars out of 5 stars - similar to a \"yelp review\")","Name of Reviewer","Data reports available directly from developer \n(Yes, No, I don’t know)","Alcohol","Marijuana","Tobacco","Prescription Drugs","Other drugs (stimulants, opioids, etc.)","Low perceived risk of harm (think using substances does not present a risk)",null,null,null,null,"Parent Communication about substance use (talking to youth about substances)",null,null,null,null,"Early initiation of substance use (began using at early age)",null,null,null,null,"Favorable adult attitudes toward youth substance use (parents/adults feel it is okay for youth to use substances)",null,null,null,null,"Favorable young adult attitudes toward substance use (18-25 year olds think it is okay for people their age to use substances)",null,null,null,null,"Favorable youth attitudes toward substance use (youth under 19 think it is okay to use substances)",null,null,null,null,"Perceived acceptance of substance use among peers (youth believe their peers think using substances is acceptable)",null,null,null,null,"Overall availability of substances (ease of accessing substances)",null,null,null,null,"Social acces - parents providing alcohol to minors",null,null,null,null,"Social acces - peers providing alcohol to minors",null,null,null,null,"Social access - favorable attitudes toward adults providing alcohol (think it is okay for those 21+ to provide alcohol to minors)",null,null,null,null,"Retail Access (stores/bars provide easy access to alcohol)",null,null,null,null,"Law enforcement practices (law enforcement does not enforce illegal substance use behaviors)",null,null,null,null,"Prevention messaging exposure"]
[null,null,null,null,null,null,null,null,null,null,null,null,null,null,null,null,null,null,null,null,null,null,null,null,"Alcohol","Marijuana","Tobacco","Prescription Drugs","Other drugs (stimulants, opioids, etc.)","Alcohol","Marijuana","Tobacco","Prescription Drugs","Other drugs (stimulants, opioids, etc.)","Alcohol","Marijuana","Tobacco","Prescription Drugs","Other drugs (stimulants, opioids, etc.)","Alcohol","Marijuana","Tobacco","Prescription Drugs","Other drugs (stimulants, opioids, etc.)","Alcohol","Marijuana","Tobacco","Prescription Drugs","Other drugs (stimulants, opioids, etc.)","Alcohol","Marijuana","Tobacco","Prescription Drugs","Other drugs (stimulants, opioids, etc.)","Alcohol","Marijuana","Tobacco","Prescription Drugs","Other drugs (stimulants, opioids, etc.)","Alcohol","Marijuana","Tobacco","Prescription Drugs","Other drugs (stimulants, opioids, etc.)","Alcohol","Marijuana","Tobacco","Prescription Drugs","Other drugs (stimulants, opioids, etc.)","Alcohol","Marijuana","Tobacco","Prescription Drugs","Other drugs (stimulants, opioids, etc.)","Alcohol","Marijuana","Tobacco","Prescription Drugs","Other drugs (stimulants, opioids, etc.)","Alcohol","Marijuana","Tobacco","Prescription Drugs","Other drugs (stimulants, opioids, etc.)","Alcohol","Marijuana","Tobacco","Prescription Drugs","Other drugs (stimulants, opioids, etc.)","Alcohol","Marijuana","Tobacco","Prescription Drugs","Other drugs (stimulants, opioids, etc.)"]
["3rd Millennium Classrooms","A number of online modules target several concerns for juveniles and college students. Topics include alcohol, tobacco, marijuana, other drugs, healthy relationships, shoplifting, and human trafficking. Some modules are strictly prevention while others incorporate prevention and intervention elements.","ProblemID and Referrral or Education (depending on how implemented)","Indicated or Universal Direct (depending on how implemented)","Individual","Ages 13-18 and college","N/A","Can be targeted to those with substance use infractions","Varies","N/A","Online","A recent review of 35 research trials found that computer-delivered programs reduced drinking significantly more than no-treatment groups, and that their average effect was comparable to face-to-face programs.[1]","https://web.3rdmil.com/",null,null,null,null,"PIE/DBH",null,1,1,1,null,1,1,1,1,null,1,1,1,1,null,1,null,null,null,null,null,null,null,null,null,null,null,null,null,null,null,1,1,1,null,1,1,1,1,null,1]
["Across Ages","Across Ages is a school- and community-based substance abuse prevention program for youth ages 9 to 13. The unique feature of Across Ages is the pairing of older adult mentors (55 years and older) with young adolescents, specifically those making the transition to middle school. The overall goal of the program is to increase protective factors for high-risk students to prevent, reduce, or delay the use of alcohol, tobacco, and other drugs and the problems associated with substance use.","Education","Selective","Individual","Ages 9-13","N/A","Poverty, \nSubstance use, \nDrug-related crime Unemployment","(1) a minimum of 2 hours per week of mentoring by older adults who are recruited from the community, matched with youth, and trained to serve as mentors; (2) 1-2 hours of weekly community service by youth, including regular visits to frail elders in nursing homes; (3) monthly weekend social and recreational activities for youth, their families, and mentors; and (4) 26 45-minute social competence training lessons taught weekly in the classroom using the Social Problem-Solving Module of the Social Competence Promotion Program for Young Adolescents developed by Roger Weissberg and colleagues.","N/A","School and Community","LoSciuto and colleagues (1996) found that students in the Group MPS treatment group who received the full Across Ages intervention had more positive attitudes toward school, the future, and elders, compared with students in the control group, at the 3-year follow up. This difference was statistically significant. https://crimesolutions.ojp.gov/ratedprograms/314#eo","https://theathenaforum.org/sites/default/files/across_ages_3-22-12_0.pdf https://crimesolutions.ojp.gov/ratedprograms/314#pd","The Across Ages Program Development and Training Manual can be purchased for $75 and the Elder Mentor Handbook costs $25.","N/A","To implement the Across Ages program, a 2-day training plus follow-up technical assistance is recommended. The training can be conducted on-site for up to 25 people. The cost of the 2-day training is $1,000 per day, plus travel and per diem. Technical assistance costs $500 per day plus travel and per diem. https://crimesolutions.ojp.gov/ratedprograms/314#programcost","N/A","Taylor Moore/PIE","No",1,null,1,null,1,1,null,1,null,1,null,null,null,null,null,null,null,null,null,null,null,null,null,null,null,null,null,null,null,null,1,null,1,null,1]
["Alcohol Compliance Checks","Compliance Checks involve underage youth attempting to purchase alcohol in cooperation with law enforcement agencies in order to test retailers' compliance with laws prohibiting the sale of alcohol to minors. Results provide a snapshot of the ability of minors to obtain access to alcohol through retail sources in the community.","Environmental","Universal Indirect","Population","Ages 20 and under",null,null,"N/A","N/A","Community, Alcohol retail locations","A decrease was observed in the likelihood of establishments selling alcohol to underage youth after they had been checked by law enforcement, but these effects quickly decayed over time. Establishments that had a close neighbor (within 125 m) checked in the past 90 days were also less likely to sell alcohol to young-appearing buyers. The spatial effect of compliance checks on other establishments decayed rapidly with increasing distance. https://www.projectextramile.org/hifi/files/resource-center/fact-sheets/Compliance-Checks-Fact-Sheet-12-22.pdf ","http://www.projectextramile.org/enforcement/compliance-checks","Costs vary depending on the number of businesses being checked, the number of teams of officers (2 officers per team) needed for the operation, the overtime rates of the officers, the payments to cooperating youth that assist with the checks, food for officers and youth prior to the operation (optional), and staff time spent planning, implementing, and evaluating the operation.","Varies depending on the number of businesses being checked. 100 businesses may require approximately 12-15 hours of planning and follow up.","Training isn't necessarily required, but it would be helpful to observe one operation from planning to finish prior to independent implementation -- approximately 20 hours for 100 businesses.","5 stars","Chris Wagner/PIE","Yes",1,null,null,null,null,null,null,null,null,null,null,null,null,null,null,1,null,null,null,null,1,null,null,null,null,null,null,null,null,null,null,null,null,null,null,null,null,null,null,null,1,null,null,null,null,null,null,null,null,null,null,null,null,null,null,null,null,null,null,null,1,null,null,null,null,1]
["Alcohol Literacy Challenge","ALC  is a classroom based alcohol prevention lesson that challenges students beliefs about the effect of alcohol in a single session. Lessons are available for 5-6th grade (50 minutes), 7-8th grade (90 minutes), High School (90 minutes), College (50 minutes) and Parents (60 minutes). ","Education","Universal Direct","Individual","Grades 5-12 and College","N/A","N/A","Single session, \nGrades 5-6 -50 minutes, \nGrades 7-8 - 90 minutes, \nGrades 9-12 -90 minutes, \nCollege - 50 minutes, \nParents - 60 minutes","N/A","School","Overall, the three studies of the Alcohol Literacy Challenge (ALC) showed mixed results. While two studies of college students in fraternities and sororities showed statistically significant differences between the treatment and control groups, the study on high school students found no statistically significant effects. Overall, the preponderance of evidence suggests the program did have the intended effects. https://crimesolutions.ojp.gov/ratedprograms/632#eo","https://alcoholliteracychallenge.com/","The ALC license is $1.25 per student per year who will receive the program, plus a $50.00 security and handling fee. The minimum annual license that can be purchased is $500 (for training up to 450 students + the $50 security fee).",null,"Organizations using the ALC are required to have a one-time training from Dr. DeBenedittis or his representatives. The cost of for this training is $6,000 plus all travel expenses. The training takes 6 hours of classroom time. Once an organization is trained, it is entitled to train new staff within its own organization at no additional charge.",null,"PIE/DBH",null,1,null,null,null,null,1,null,null,null,null,null,null,null,null,null,null,null,null,null,null,null,null,null,null,null,1,null,null,null,null,1]
["All Stars","The primary goal of All Stars is to prevent youth, grades 4-12, from engaging in behaviors that will put their health at risk such as drug use, violence, and premature sexual activity.  Each program has its own set number activities and time frame. Please view the website for exact sessions and topics each program offers. ","Education","Universal Direct","Individual","Grades 4-12","N/A","N/A","9 sessions,  45 minutes. All-Stars Character Counts- The program includes 12-15 highly engaging and hands-on activities, approx. 45 minutes in length, along with pre-printed parent memos for each activity, that informs parents what the goal of the activity was and ideas on how they can reinforce it at home with their child. All-Stars Core program has 12 sessions that last approx. 45-1 hour in length. All Stars Senior includes three modules. The 45-minute introduction module is delivered by the teacher in a classroom/group setting. The second module is an online lesson designed to be completed by students independently. It includes six sections and takes up to 90 minutes for students to complete.","All Stars Character Education is for 4th and 5th grade   students.   All Stars Core, Booster, and Plus target youth during the middle school years (ages 11 through 13). All Stars Booster is designed to be delivered one year after Core. It includes nine 45-minute sessions that reinforce (but do not duplicate) lessons learned in Core. All Stars Senior is for high school students.","School, Afterschool, or Community","A study showed that the All Stars program had an immediate effect on mediating variables that did not persist over time. ","https://allstarsprevention.com/","Required student material packets range from $4-$10/per participant. All Stars Core Teacher Manual-$100.00\nAll Stars Booster Teacher Manual $80.00\nAll Stars Plus Teacher Manual-$80.00"," Facilitators  need at least 30 min to prepare for each session.   Students have homework that is to be completed after each session.","An adult who knows how to use highly engaging techniques and methods is recommended. An adult whose style is to facilitate more than teach is most needed. Skills that are important for the facilitator, include asking open-ended questions, listening, affirming, and praising. They must enjoy being with middle school youth, have a genuine warm personality, and hold high and positive expectations of youth. These skills and this type of personality is more important than the educational degree the facilitator has.Each All Stars program has its own unique teacher training course. Each course is available online and allows a teacher to complete the training on their own time and at their own pace. The length of each training course varies, ranging from 3-7 hours. Training course assessments are required to be completed with a satisfactory grade before a teacher is certified in the program. The facilitator must have a certificate of training.\nFor training schedule the facilitator must contact- Kathleen Simley at kathleen@knslearningsolutions.com or at 402-489-1072 for information about training cost.",null,"Sarah Godejohn/ Shannon Sell","Yes",1,1,1,1,1,1,1,1,1,1,1,1,1,1,1,1,1,1,1,1,null,null,null,null,null,null,null,null,null,null,1,1,1,1,1,1,1,1,1,1,null,null,null,null,null,null,null,null,null,null,1,1,1,1,1]
["Big Brothers Big Sisters Mentoring Program","The Big Brothers Big Sisters of America program matches adult volunteer mentors with an at-risk child. Matches are made based on shared goals and interests of the child and adult volunteer. Matches are asked to meet weekly for at least one year.","Alternative Activity","Selective","Individual","Ages 5-18","N/A","Children facing adversity, \nchildren of military families,\n children of incarcerated parents","52 sessions, 3-5 hours, weekly","N/A","Community","A randomized evaluation of youth in 8 Big Brothers Big Sisters organizations demonstrated: Cuts illicit drug initiation 46%, Reduces alcohol initiation 27%, Less likely to hit someone, Significant reductions in truancy and cutting class, Marginally significant positive effects for Grade Point Average.","https://www.blueprintsprograms.org/factsheet/big-brothers-big-sisters-of-america","Big Brothers Big Sisters of America highly recommends that programs raise a significant initial amount of money to function as a cash flow fund due to expected fluctuations in fund raising. An organization wanting to start a Big Brothers Big Sisters Program for 250 youth could expect to incur $328,000 in expenses the first year",null,null,null,"PIE/DBH",null,1,1,null,1,1,null,null,null,null,null,1,1,null,1,1,1,1,null,1,1,null,null,null,null,null,1,1,null,1,1,1,1,null,1,1]
["Brief Alcohol Screening and Intervention for College Students (BASICS)","The BASICS program is designed to help college students 18-24 years, make better alcohol-use decisions. It targets students who drink alcohol heavily and have experienced or are at risk for alcohol-related problems. This program is conducted over two brief interviews with the students to change habits. ","ProblemID and Referral","Selective","Individual","College Students",null,null,"2 sessions, brief","N/A","College","The Baer and colleagues (2001)  study showed that the BASICS intervention  significantly reduced the negative consequences related to drinking. ","https://www.blueprintsprograms.org/factsheet/brief-alcohol-screening-and-intervention-for-college-students-basics",null,null,null,null,"Antoinette/PIE",null,1,null,null,null,null,1,null,null,null,null,null,null,null,null,null,null,null,null,null,null,null,null,null,null,null,1,null,null,null,null,null,null,null,null,null,1]
["Brief Motivational Intervention (BMI)","Training staff to intervene with substance abuse via brief motivational interviewing skills. Strong evidence shown in the clinical setting. Includes the use of Brief Alcohol Screening and Intervention for College Students (BASICS). BMI doesn’t necessarily hit on specific problem substances but rather teaches students how to identify things they would like to change in their life to make a positive impact","ProblemID and Referral","Universal Direct","Individual","College Students",null,null,"1 session","N/A","College","11+ studies show higher effectiveness with short and long term positive results.","https://www.collegedrinkingprevention.gov/CollegeAIM/IndividualStrategies/default.aspx#IND-16","$500 per training","pre and post evaluation preparation needed 2-3 days before training and within 24 hrs after training. Once evaluations are complete, the NECPA helps analyze the data with the institution and creates an NPIRS entry for our sponsors.","n/a","5/5- pre and post evaluation helps to track the data and disperse it easily to members and sponsors ","Antoinette/PIE","Yes",1,null,null,null,null,1,null,null,null,null,null,null,null,null,null,null,null,null,null,null,1,null,null,null,null,1,null,null,null,null,1,null,null,null,null,1]
["Challenging College Alcohol Abuse (CCAA)","The CCAA program is a social norms and environmental management program aimed at reducing high-risk drinking and related negative consequences in college students 18-24 years. A campus-based media campaign and other strategies are used to address misperceptions about alcohol and make the campus environment less conducive to drinking.","Environmental","Universal Indirect","Population","College Students (ages 18-24)","N/A","N/A","Varies","N/A","College","One study found an overall decrease in binge drinking rates over a 3-year period, decreases in alcohol use in general, reductions in alcohol-related consequences, and improvements in alcohol and drug-related attitudes and perceptions ","https://theathenaforum.org/sites/default/files/challenging_college_alcohol_abuse_3-23-12.pdf","The cost for 1 year's implementation of the CCAA social norms media campaign, including staff time and materials development, is approximately $25,000. Additional staff time for environmental management, survey development, administration and analysis, and consultation and supplies is an additional cost of approximately $25,000. ",null,null,"This program, along with attending events, building relationships, and training RA's is positive. The community buy-in is good. Discussions about college policies were easier to approach because of data collection. Building key relationships with administration, staff, RA's and students proved to be vital. The placement of media, designs, and the overall feedback was discussed during focus groups with students. Being around for new student orientation, student activities, and sports events was a benefit for brand recognition and student's trusting of the prevention coalition. This program did decrease binge drinking on campus and strengthened many relationships with students. 5/5","PIE/DBH/Kerry-Anne Block","No",1,1,null,null,1,null,null,null,null,null,null,null,null,null,null,null,null,null,null,null,null,null,null,null,null,1,1,null,null,1,null,null,null,null,null,1,1,null,null,1]
["CHOICES (college program)","CHOICES is a program for women to prevent alcohol-exposed pregnancies.  This program uses motivational interviewing to increase a woman's motivation and commitment to change. ","ProblemID and Referral","Universal Direct","Individual","Ages 18-44",null,null,"4 sessions","N/A","Community","A study funded by the CDC conducted a trial in three cities in a variety of community settings. A the 9-month follow-up evaluation, 69% of women involved in CHOICES reported reducing their risk of alcohol-exposed pregnancy compared to about 54% of women in usual care. ","https://www.cdc.gov/ncbddd/fasd/choices-program-prevent-alcohol-exposed-pregnancies.html",null,null,null,null,"Antoinette/PIE",null,1,null,null,null,null,1]
["Circle of Security","Circle of Security is a 8-week parenting program based on years of research about how to build a strong relationship with your children. It is designed to help you learn how to respond to your child's needs in a way that enhances your connection with him/her, which often leads to changes in the child's behavior. Circle of Security helps parents give their children a feeling of security and confidence so they can explore, learn, grow and build positive relationships; all essential skills for life-long success. Parents will discuss personal experiences, childhood trauma and how they or their parents coped by using substances. The class focuses on attachment and the social emotional needs of a child. The class also focuses on substance use/abuse or being in jail or rehab can create a feeling of Gone (abandonment) in a child.  ","Education","Universal Direct","Individual","Agest 0-8 yrs old, but apply to older kids as well. ","Parents, newly expecting parents, caregivers, foster parents, \nguardians, adoptive parents, daycare providers and school staff.","Parents working with CSP or DHHS","8 sessions, 1.5-2hours per weekly class ","N/A","Community","The COS Protocol directly includes many of the ideas reflected in current theory and research in child-development generally, and attachment and early parent-child interaction in particular. No research available.","http://circleofsecuritynetwork.org/intervention.html","Some agencies charge a fee of $250 for individual and $300 for couples. Some agencies also provide scholarships for parents. Region II Human Services does not charge parents to take the 8- week session, but the cost should be considered. ","Preparatation and follow-up time required outside of implementation time. Prep includes reviewing materials and making copies of materials for the weekly class. 1 hour prep before class. ","On-line classes over a 2 week period. The cost is $1,000.00 for each trained facilitator. ","4.5. \"Some of the Spanish materials are not as up to date as the English version of the class.\"  5 out of 5- \" The class helped me to become a better parent and learn how to fulfill my childs needs.\nTo better my relationship and understanding of my childs social and emotional needs.\n","Shannon Sell/PIE","Yes",null,null,null,null,null,null,null,null,null,null,1,null,null,null,null,1,null,null,null,null,1]
["Class Action","A CSAP Model Program, Class Action is an alcohol prevention curriculum for teens based on real-life dramatic court cases involving alcohol use by minors. \nClass Action is the high school component to Project Northland, Hazelden's evidence-based alcohol prevention program. Class Action is the second phase of the Project Northland alcohol-use prevention curriculum series. This phase is targeted towards grades 9-12 and includes parent involvement, print media campaigns, peer and community action teams, and a classroom curriculum. Class Action is an 8 to 10 session curriculum (45-50 minutes per session).","Education","Universal Direct","Individual","Grades 9-12","N/A","N/A","8-10 sessions, 45 minutes","4 years","School and Community","Students in the intervention drank significantly less and reported less alcohol onset than control students at the end of 8th grade. Students in the intervention group who were never-drinkers at the beginning of sixth grade not only drank significantly less than students in the control group, they also smoked fewer cigarettes and used less marijuana at the end of the eighth grade. Works to promote equity, special education Project Northland reduced alcohol use among primarily white students from rural, lower-middle- to middle-class counties in Minnesota. However, it failed to have much influence on primarily African-American and Latino students in Chicago. ","https://www.hazelden.org/store/item/142118?Class-Action-Implementation-Collection-2nd-Edition#:~:text=A%20CSAP%20Model%20Program%2C%20Class,evidence%2Dbased%20alcohol%20prevention%20program.","Online Price: $596.00-$795.00 1/12/23","N/A","See word doc","N/A","Zack and Taylor/PIE","Yes",1,null,null,null,null,1,null,null,null,null,1,null,null,null,null,null,null,null,null,null,null,null,null,null,null,null,null,null,null,null,1,null,null,null,null,null,null,null,null,null,1]
["Club HERO (Helping Everyone Reach Out)","Club HERO provides a positive, nurturing atmosphere for middle-school children during the critical after-school hours. The goals of the program are to increase student bonding to school, improve academic achievement, develop peer leaders, and increase parent participation.","Alternative Activity","Universal Direct","Individual","Grades 6-8","N/A","N/A","6 hours per week for 14 weeks","2 years","Afterschool","Excerpts from the Club HERO evaluation, conducted by Emstar Research, include: Club HERO participants report less alcohol, tobacco and other drug use than the comparison group. Parents' ratings of their children after participation in Club HERO show a significant positive intervention effect.\nThe You Have The Right To Know About Drugs curriculum significantly increases Club HERO participants' knowledge of the effects of alcohol, tobacco and other drug use.","http://www.nationalfamilies.org/projects/clubhero.html https://www.dchealthmatters.org/promisepractice/index/view?pid=888","The CLUB Hero Quickstart Kit $650 The CLUB Hero Student Incentive Kit $495","N/A","N/A","N/A","Zack and Taylor/PIE","I don't know",1,null,1,null,1,null,null,null,null,null,1,null,1,null,1]
["College Behavior Profile (CBP)","The College Alcohol Profile (CAP) is a web-based brief intervention program designed to reduce high-risk drinking and alcohol related problems among college students in Nebraska. The CAP can also reinforce low-risk behaviors and reaffirm those who choose to abstain from alcohol. ","ProblemID and Referral","Selective","Individual","College Students",null,null,"5 to 10 minute questionnaire","N/A","College",null,"http://www.nebraskaconsortium.org/documents/approach/final-cap-handout-11-22-10.pdf",null,null,null,null,"Antoinette/PIE",null,1,1,null,null,null,1,1,null,null,null,null,null,null,null,null,null,null,null,null,null,null,null,null,null,null,1,1,null,null,null,null,null,null,null,null,1,1]
["College Drinker`s Check-up (CDCU)","The College Drinker's Check-up (CDCU) is a single session, computer-based brief motivational intervention for heavy drinking college students. It takes a student about 45 minutes to go through it.","Education","Indicated","Individual","College Students","N/A","Students who drink heavily. ","Single session, 45 minutes","N/A","Online","Participants in both the treatment and control groups significantly reduced their drinking at both follow-ups. Compared to the control group, the CDI treatment group reduced their drinking significantly more at 1 and 12 months on three drinking measures: drinks per week, average number of drinks in two heavy episodes, and average peak blood alcohol concentration in those heavy episodes.","https://www.mentalhelp.net/addiction/treatment/heavy-drinking-in-college-drinkers-checkup/#:~:text=The%20College%20Drinker's%20Checkup%20(CDCU)%20is%20a%20computer%2Ddelivered,related%20problems%20in%20college%20students.&text=The%20checkup%20is%20based%20on,of%20motivational%20interviewing%20(MI).","Campuses pay a one-time cost based on size: $2,500 for smaller institutions (<15,000 students) and $4,500 for larger institutions.","N/A","N/A","N/A","Zack and Taylor/PIE","Yes",1,null,null,null,null,1,null,null,null,null,null,null,null,null,null,null,null,null,null,null,null,null,null,null,null,1]
["Communities Mobilizing for Change on Alcohol (CMCA)","CMCA is a community organizing program designed to reduce youth access to alcohol by changing community and law enforcement policies, attitudes, and practices, and by targeting commercial and noncommercial availability of alcohol to underage drinkers. ","Communit-Based Process","Universal Indirect","Population","All ages","N/A","N/A","N/A","N/A","Community","A study done in 2000 (Wagenaar, A.C., D.M., & Toomey, T.L.) showed a decline within the control group in drunk driving arrests among young people ages 18 to 20 years, and among adolescents between the age of 15 and 17. ","https://www.crimesolutions.gov/ProgramDetails.aspx?ID=269",null,null,null,null,"PIE/DBH",null,1,null,null,null,null,null,null,null,null,null,null,null,null,null,null,null,null,null,null,null,null,null,null,null,null,null,null,null,null,null,null,null,null,null,null,null,null,null,null,null,1,null,null,null,null,1,null,null,null,null,null,null,null,null,null,1,null,null,null,null,1,null,null,null,null,1]
["Communities That Care"," Communities That Care guides communities through a proven five-phase change process. Using prevention science as its base, CTC promotes healthy youth development, improves youth outcomes, and reduces problem behaviors. CTC is a system that provides consultation, training, and materials to help stakeholders implement evidence-based programs.","Communit-Based Process","Universal Indirect","Population","Birth-age 18","N/A","N/A","Varies","Yes","Community","Several randomized control studies done showing efficacy https://www.blueprintsprograms.org/programs/444999999/communities-that-care/","https://www.communitiesthatcare.net/","Start-up costs, not including travel: $6,100\nOngoing T/TA, not including travel: $23,300\nA minimum of a .5 FTE for the coalition is recommended\nSurvey costs are also incurred if survey data is not collected another way.",null,"6 training events delivered over the course of 6 to 12 months by certified CTC trainers",null,"PIE/DBH",null,1,1,1,1,1,1,1,1,1,1,1,1,1,1,1,1,1,1,1,1,1,1,1,1,1,1,1,1,1,1,1,1,1,1,1,1,1,1,1,1,1,1,1,1,1,null,null,null,null,null,1,1,1,1,1]
["Community Trials","Community Trials is a multicomponent, community-based program developed to alter alcohol use patterns of people of all ages and related problems. The program uses a set of environmental interventions including alcohol access, responsible beverage service, risk of drinking and driving, underage alcohol access, and community mobilization. ","Community-Based Process","Universal Indirect","Population","All ages","N/A","N/A","Varies","N/A","Community","A study done in relation to alcohol-related injury and violence showed a significant decrease in number of nighttime crashes per month and the monthly rates of DUI crashes relative to comparison sites. https://www.wyomingpreventiondepot.org/strategies/strategies/community-prevention-trials/","https://www.pire.org/CommunityTrials/",null,null,null,null,"PIE/DBH",null,1,null,null,null,null,1,null,null,null,null,null,null,null,null,null,null,null,null,null,null,null,null,null,null,null,null,null,null,null,null,null,null,null,null,null,null,null,null,null,null,1,null,null,null,null,null,null,null,null,null,null,null,null,null,null,null,null,null,null,null,1,null,null,null,null,1]
["Creating Lasting Family Connections (CLFC)/Creating Lasting Connections (CLC)","The CLFC is a family-focused program that aims to build resiliency and reduce frequency of alcohol and drug use. Participants are taught social skills, refusal skills, and appropriate knowledge and healthy beliefs about alcohol and drugs.","Education","Selective","Individual","Ages 9-17 and parents","N/A","N/A","8-15 weeks, 1 or 2 weekly 2-hour sessions, or weekend retreats comprised of up to 16 hours each","N/A","School or Community","An evaluation done (Johnson et al., 1996) showed many direct effects including parents and teenagers made greater use of community services, parents skills in communications with their children improved, parents set rules related to alcohol and drug use, in the black church community, parents decreased their alcohol use, and teenagers reported increased levels of bonding with their mothers. ","https://theathenaforum.org/sites/default/files/creating_lasting_connections_3-26-12.pdf","The complete original Creating Lasting Family Connections® Program Package $1,125",null,"The CLFC Implementation Training course is offered in a standard 10-day version, a 9-day (three 3-day training sessions) version or a 5-day accelerated version. (Nine to ten days of training are recommended for most agencies and individuals wishing to implement the CLFC Program.) ",null,"PIE/DBH",null,1,1,1,1,1,null,null,null,null,null,1,1,1,1,1,1,1,1,1,1,1,1,1,1,1,null,null,null,null,null,1,1,1,1,1,null,null,null,null,null,null,null,null,null,null,1,1,1,1,1]
["DARE to Be You","DTBY is a multilevel prevention program aimed at high-risk families that is designed to lower children's risk of future substance abuse and other high-risk activities by improving aspects of parenting that contribute to children's resiliency. DTBY combines three supporting aspects-educational activities for children, strategies for the parents or teachers, and environmental structures to enable program participants to learn and practice the desired skills.","Education","Selective","Individual","High-risk families with children ages 2–5","N/A","High risk families","Sessions are ideally given in 2½-hour increments over 10–12 weeks and include a 10- to 30-minute joint activity for parents and children to practice skills learned in the session.","N/A","Community","A study showed that DTBY intervention parents reported a significant increase in child development and a significant decrease in oppositional behavior over the 2-year follow-up, compared with the self-reports of the control parents.","https://crimesolutions.ojp.gov/ratedprograms/225#em","Follow up on this","N/A","N/A","N/A","Zack and Taylor/PIE",null,1,null,null,null,1,null,null,null,null,null,1,null,null,null,1,1,null,null,null,1]
["Electronic Screening and Brief Interventions (e-SBI)","Electronic screening and brief intervention (e-SBI) to reduce excessive alcohol consumption uses electronic devices (e.g., computers, telephones, or mobile devices) to facilitate the delivery of key elements of traditional screening and brief intervention.","ProblemID and Referral","Universal Direct","Individual","College Students","N/A","N/A","1 session, 2-3 minute alcohol use assessment, 10-15 minute brief intervention (for those meeting criteria for hazardous alcohol use).","N/A","Online","e-SBI resulted in favorable effects across multiple outcomes related to alcohol consumption (e.g., binge drinking and overall consumption), and downstream harms (see table for details). Favorable effects of e-SBI generally persisted through study follow-up periods of up to 12 months.","https://www.thecommunityguide.org/findings/alcohol-excessive-consumption-electronic-screening-and-brief-interventions-e-sbi","N/A","N/A","N/A","N/A","Zack and Taylor/PIE","Yes",1,null,null,null,null,1,null,null,null,null,null,null,null,null,null,null,null,null,null,null,null,null,null,null,null,1]
["Guiding Good Choices","Guiding Good Choices (GGC) is a family skills-training program for parents and their middle-school aged children. The program is based on the social development model and its primary objectives are to enhance protective parent-child interactions and to reduce child risk for early substance use initiation. GGC consists of a five-session, multimedia drug resistance and education program for adolescents and their parents. Adolescent participants are required to attend one session which teaches peer resistance skills. The parents receive four sessions of instruction including material on the (a) identification of risk factors for adolescent substance abuse and a strategy to enhance protective family processes; (b) development of effective parenting practices, particularly regarding substance use issues; (c) family conflict management; and (d) use of family meetings as a vehicle for improving family management and positive child involvement. ","Education","Selective","Individual","Parents of children in middle school",null,"families identified by schools as needing extra assistance in behavior modification","5 sessions, 2 hours per session, weekly","N/A","Community","Guiding Good Choices has been evaluated with two major evaluations with random assignment, one with 9 rural midwestern schools and one with 33 rural midwestern schools. The study population for both evaluations of the program included predominantly Caucasian families from rural areas. Intervention-specific parenting skills measures included those addressing parents' communicating clear and specific rules concerning their child's use of substances, rewarding the child for complying with specific rules concerning use of substances, explaining the consequences of breaking rules to their child, helping their child learn how to express and control his or her anger, and finding ways to keep their child involved in family activities and decisions. General child management skills measures included rewarding positive child behavior, child monitoring, and effective discipline. Models and path analyses were also conducted in order to evaluate the additive effects of strong family attachments and peers' prosocial norms on early adolescent alcohol refusal skills, as well as the protective process models that focus on specific adolescent problem behavior and attitudes. Both self-report and observational measures were used for the analyses. Outcomes have been reported through grade 12.  Spoth, R., Reyes, M. L., Redmond, C., & Shin, C. (1999). Assessing a public health approach to delay onset and progression of adolescent substance use: Latent transition and log-linear analyses of longitudinal family preventive intervention outcomes. Journal of Consulting and Clinical Psychology, 67(5), 619-630.","https://www.communitiesthatcare.net/programs/ggc/",null,null,null,null,"PIE/Kailey",null,1,1,1,1,1,null,null,null,null,null,1,1,1,1,1,1,1,1,1,1,1,1,1,1,1,null,null,null,null,null,1,1,1,1,1]
["Health Rocks","Health Rocks is a healthy living program targeted at young people that aims to reduce smoking/tobacco use, help build life skills, increase perception of harm regarding drugs and alcohol, develop and implement community strategies that provide healthy lifestyle choices, and build positive relationships with young.","Education","Universal Direct","Individual","Ages 8-14","N/A","N/A","21 sessions, 30-60 minutes",null,"Community","Analysis from 2017-18 shows that the Health Rocks! Program was highly successful in educating youth. 95% disapproved of underage tobacco use, 95% intend to avoid tobacco use, 97% demonstrated high level of social and emotional thriving, 93% expressed the intent to pursue healthy behaviors and avoid risky behaviors, and 86% disapproved of risky behavior (i.e. alcohol and tobacco use)","https://4-h.org/parents/healthy-living/health-rocks/","$10.50 per training manual plus tax and shipping.","3 hours time in preparing for the implementation, meeting with key personnel, entering data following the class.","There is no training for Health Rocks! as set out in their curriculum.  However, our coordinator does a mini training with those involvedin the implemention. ","We are in the first full year of one school and their implementation of the program.  We would give it a 4 out of 5 stars for this.  ","Lanette Richards/PIE","I don't know",1,1,1,1,1,1,1,1,1,1,1,1,1,1,1,1,1,1,1,1,null,null,null,null,null,null,null,null,null,null,1,1,1,1,1,null,null,null,null,null,1,1,1,1,1]
["Healthy Alternatives for Little Ones (HALO)","HALO is a health education and prevention program for 3-6 year old children. Their mission is to reduce the impact of substance abuse and mental illness by learning positive life skills. The training kit is 12 units that include activity cards, music CD, program training for teachers/staff, ongoing support from HALO staff and access to support resources. ","Education","Universal Direct","Individual","Ages 3-6","N/A","N/A","12 sessions, 30-45 minutes, weekly","N/A","School, Home, or Online","Between 1997 and 1999 HALO was evaluated for its effectiveness. More than 300 children were interviewed over four time periods about their attitudes, knowledge and skills in six areas: efficacy, expressing feelings, human body knowledge, healthy/harmful choices, family and communication, and stress management. Pre-HALO data was compared to data from each of the follow-up interviews after the children participated in the program. The report, compiled by the Nebraska Council to Prevent Alcohol and Drug Abuse, stated that the population of preschoolers who participated in the HALO programs in Omaha underwent significant change in their attitudes, knowledge and skills over the course of two years.","http://www.cinchcoalition.org/halo/","Free",null,"1  hour training video",null,"Zack/PIE","No",1,null,1,1,1,1,null,1,1,1,1,null,1,1,1,1,null,1,1,1,null,null,null,null,null,null,null,null,null,null,1,null,1,1,1,1,null,1,1,1]
["LifeSkills Training (LST)","LifeSkills Training (LST) is a classroom-based universal prevention program designed to prevent adolescent tobacco, alcohol, marijuana use, and violence. LST contains 30 sessions to be taught over three years (15, 10, and 5 sessions), and additional violence prevention lessons also are available each year (3, 2, and 2 sessions). Three major program components teach students: (1) personal self-management skills, (2) social skills, and (3) information and resistance skills specifically related to drug use. Skills are taught using instruction, demonstration, feedback, reinforcement, and practice.","Education","Universal Direct","Individual","Ages 12-14","N/A","N/A","30 sessions, three years","3 years","School","Many studies show short term and long term deductions in substance use and initiation rates. Several studies provide follow-up data demonstrating prevention effects among young adults. (see blueprints link for sources)\n","https://www.blueprintsprograms.org/factsheet/lifeskills-training-lst",null,null,null,null,"PIE/DBH",null,1,1,1,1,1,1,1,1,1,1,null,null,null,null,null,1,1,1,1,1,null,null,null,null,null,null,null,null,null,null,1,1,1,1,1,1,1,1,1,1,null,null,null,null,null,null,null,null,null,null,null,null,null,null,null,null,null,null,null,null,null,null,null,null,null,1,1,1,1,1]
["Lions Quest Skills for Adolescence","Lions Quest Skills for youth is a life skills education program for school wide and classroom settings. It's goal is to encourage healthy, drug-free lives by developing positive commitments. Models range from a minimum 9-week, 40-lesson mini-course to a 3-year program of all 102 lessons","Education","Universal Direct","Individual","Grades 6-8","N/A","N/A","Varies","N/A","School"," A study in 2003 showed mixed results, with a lack of evidence regarding the program’s ability to reduce tobacco use or other illicit substances.","https://www.lions-quest.org/faqs/\n\nhttps://crimesolutions.ojp.gov/ratedprograms/264#pd","Online Edition \n$199/each 1-50 individual teacher licenses\n$149 51-150 individual teacher licenses\n$99 151+ individual teacher licenses\n\nPrint + Online Edition\n$249/each 1-50 individual teacher licenses\n$199 51-150 individual teacher licenses\n$149 151+ individual teacher licenses",null,"Each implementer must attend an introductory 2- or 3-day workshop to receive program materials. An extensive 10-day training of trainers program is available to qualified school districts. ",null,"Zack/PIE","Yes",1,1,1,null,1,1,1,1,null,1,1,1,1,null,1,1,1,1,null,1,1,1,1,null,1,null,null,null,null,null,1,1,1,null,1]
["Means Restriction Lock Boxes and Triger Locks (firearms)","Firearm trigger locks, cable locks, and hand gun safes are used to secure firearms, providing time and distance from someone who may be in mental distress or accidental access by young people. ","Environmental","Universal Direct","Individual","18 and older","N/A","Firearm Owners","One lock per device","One time device","Community","Data shows that suicidal crisis is often brief (Deisenhammer 2009 https://pubmed.ncbi.nlm.nih.gov/19026258/ ) and lethality matters in whether someone lives or dies from their suicide attempt (CDC WONDER and Canner 2018 https://pubmed.ncbi.nlm.nih.gov/27852333/) ",null,"Cable locks can often be obtained for free from the VA and law enforcement oganizations. Trigger locks can vary in price from $5-20. Handgun lockboxes can be purchased for around $15-30 ","Purchasing and any resourcing of the materials, along with outreach to organizations for dissemination. ","N/A","Great community response to securing firearms.","Crystal Fuller/PIE","No"]
["Media Campaign","Mass media campaigns are widely used to expose high proportions of large populations to messages through routine uses of existing media, such as television, radio, and newspapers. Exposure to such messages is, therefore, generally passive. Such campaigns are frequently competing with factors, such as pervasive product marketing, powerful social norms, and behaviors driven by addiction or habit. In this Review we discuss the outcomes of mass media campaigns in the context of various health-risk behaviors (eg, use of tobacco, alcohol, and other drugs, heart disease risk factors, sex-related behaviors, road safety, cancer screening and prevention, child survival, and organ or blood donation).","Information Dissemination","Universal Indirect","Population","All ages","N/A","N/A","N/A","N/A","Community","https://pubmed.ncbi.nlm.nih.gov/21558472/","https://www.samhsa.gov/capt/tools-learning-resources/prevention-media-campaigns","varies","Modest amount of time to work with media compaies to air, post, etc. media campaign materias  and  report of media imprints.  ","N/A",null,"Danielle Wing",null,1,1,1,1,1,1,1,1,1,1,1,1,1,1,1,1,1,1,1,1,1,1,1,1,1,1,1,1,1,1,1,1,1,1,1,1,1,1,1,1,1,1,1,1,1,1,1,1,1,1,1,1,1,1,1,null,null,null,null,null,1,1,1,1,1,1,1,1,1,1,1,1,1,1,1]
["MyStudentBody.com","MyStudentBody is an online prevention program aimed to reduce drug and alcohol abuse and sexual violence among college students. This program is available 24/7, all semester long. It provides information on drugs, alcohol, sexual violence, and other wellness issues. It also gives administrators data and strategies to support the school’s overall prevention program and parents tools they can use to reinforce your prevention messages. ","Education","Universal Direct","Individual","College Students and parents","N/A","N/A","1 session, 45-90 minutes","N/A","Web-based","Has been scientifically developed and tested for efficacy through federally-funded field trials.\nhttps://www.mystudentbody.com/hbg/publicpage/research","https://www.mystudentbody.com/hbg/ ","Cost is determined by the size of your school's undergraduate enrollment, the length of the subscription, and the courses that your school chooses to offer.",null,null,null,"PIE/DBH","Yes",1,1,1,1,1,1,1,1,1,1,1,1,1,1,1,null,null,null,null,null,1,1,1,1,1,1,1,1,1,1,null,null,null,null,null,1,1,1,1,1]
["Naloxone Distribution","Naloxone is a drug that carries no risk of abuse and has no effect on individuals who do not already have opioids in their system. Naloxone is provided to people at high risk of experiencing or witnessing overdose.  People who use drugs, trusted clinicians, and first responders are well informed as to the potential effects and actions of naloxone. Comfort with carrying and administering naloxone is crucial. By equipping individuals with naloxone and training them to identify and respond to an overdose, the potential delay between the onset of an opioid overdose and the delivery of life-saving care can be reduced from hours to seconds.","ProblemID and Referral","Indicated","Individual","All ages","N/A","Substance use","N/A","N/A","Community, college, healthcare","https://ldi.upenn.edu/our-work/research-updates/expanding-access-to-naloxone-a-review-of-distribution-strategies/\n\n","https://www.cdc.gov/drugoverdose/pdf/pubs/2018-evidence-based-strategies.pdf","Cost for naloxone (varies), \npossible dispensing fee if dispensed by pharmacy ","Modest amount of time to work with pharmacists and/or first responders and monitoring purchasing, dispensing, and utilization data. ","Knowledge of the signs of an overdose and how to administer naloxone. ","5 of 5","Danielle Wing","No",null,null,null,1,1,null,null,null,1,1,null,null,null,null,null,null,null,null,null,null,null,null,null,null,null,null,null,null,null,null,null,null,null,null,null,null,null,null,null,null,null,null,null,null,null,null,null,null,null,null,null,null,null,null,null,null,null,null,null,null,null,null,null,null,null,null,null,null,1,1]
["Normative Re-education","PNF programs provide all students with personalized information about their alcohol use in comparison with actual use by their peers. This information is represented graphically (with charts and text, showing personal behavior juxtaposed with normative information). Delivery of PNF interventions is done without the involvement of a facilitator, and students are allowed to consider this information on their own.","ProblemID and Referral","Universal Direct","Individual","College Students","N/A","N/A","N/A","N/A","Online","N/A","https://bu.digication.com/GH720_PublicHealthTheories/Normative_Re-educative_Approach","N/A","N/A","N/A","N/A","Taylor Moore/PIE","Yes",1,null,null,null,null,1,null,null,null,null,null,null,null,null,null,null,null,null,null,null,null,null,null,null,null,1,null,null,null,null,null,null,null,null,null,1]
["Party Patrol","Party patrols are a local enforcement strategy in which police arrive at a social event in which alcohol is being served and check the age identifications of party participants.","Environmental","Universal Indirect","Population","Ages 20 and under","N/A","Alcohol Use","N/A","N/A","Community",null,"https://www.theathenaforum.org/sites/default/files/xx_party_intervention_patrols_6-28-12.pdf","Officer overtime (rates very per agency & officer)","Preparations are working with law enforcement to determine when would be the best time to do this. Do they have prior knowledge of upcoming events? Focus on homecoming, spring break, prom, graduation, or other dates significant to the community. Coalitions are not actually part of the enforcement operations. The goal has always been to combine thiese oprations with compliance checks for a joint press release.","Coalitions not involved in training; PEM provides annual law enforcement training on varying topics to refresh best practices & how to be more effective","It can be difficult to implement due to lack of advanced knowledge. Use SROs & other school personnel (is possible) to gain information on possible upcoming parties. Use social media (ex. Omaha Scanner) for \"problem intersections/ addresses to maybe focus on some more party-prone weekends.","Liene Topko/PIE","No",1,1,null,1,1,1,1,null,1,1,null,null,null,null,null,1,1,null,1,1,null,null,null,null,null,null,null,null,null,null,null,null,null,null,null,null,null,null,null,null,1,1,null,1,1,1,1,null,1,1,1,1,null,1,1,1,1,null,1,1,null,null,null,null,null,1,1,null,1,1]
["Policy Development",null,"Environmental","Universal Indirect","Population","All Ages","N/A","N/A","N/A","N/A","Community",null,null,null,null,null,"Policy Development is a hard thing to put into an actual program; however, it is so needed.  There is so much behind the scenes work for policy development. ","Lanette Richards/PIE","No",1,1,1,1,1,null,null,null,null,null,null,null,null,null,null,null,null,null,null,null,null,null,null,null,null,null,null,null,null,null,null,null,null,null,null,null,null,null,null,null,1,1,1,1,1,1,1,1,1,1,1,1,1,1,1,null,null,null,null,null,1,1,1,1,1,1,1,1,1,1]
["Positive Action","Positive Action (PA) is a school-based program that includes school-wide climate change and a detailed curriculum with lessons 2-4 times a week-approximately 140 15-minute lessons per grade K-6 and 82 15-20 minute lessons per grade 7 and 8. Lessons for each grade level are scripted and age-appropriate. All materials necessary to teach the lesson are provided including posters, puppets, music, games, and other hands-on materials integrated into the lessons. Students' materials include activity booklets, journals and other lesson aids. The content of the program is included in six units that form the foundation for the whole program. The first unit teaches the philosophy of the program and the Thoughts-Actions-Feelings about Self Circle, and provides an introduction to the nature and relevancy of positive and negative actions/behaviors. Units 2-6 teach the positive actions for the physical, intellectual, social and emotional areas. There are two school-wide climate development kits (elementary and secondary) and a Counselor's Kit. The contents delivered through the climate development and counselor kits reinforce the classroom curriculum by coordinating the efforts of the entire school in the practice and reinforcement of positive actions.","Education","Universal Direct","Individual","K-12",null,null," lessons 2-4 times a week-approximately 140 15-minute lessons per grade K-6 and 82 15-20 minute lessons per grade 7 and 8","Program has an elementary level for grades K-6, a middle school curriculum for 7-8, and a high school curriculum for grades 9-12","School","Results of the randomized study in Chicago (Bavarian et al., 2013, 2016; Duncan et al., 2017; Lewis et al., 2016; Lewis, DuBois et al., 2013; Lewis, Schure et al., 2013; Li et al., 2011; Silverthorn et al., 2017; SCDRC, 2010; Washburn et al., 2011) revealed that, compared to the control condition, the students and schools in the intervention condition showed significantly lower self-reported substance use at grades 5 and 8.","https://www.positiveaction.net/",null,null,null,null,"PIE/Kailey",null,1,1,1,1,1,null,null,null,null,null,null,null,null,null,null,1,1,1,1,1,null,null,null,null,null,null,null,null,null,null,1,1,1,1,1,1,1,1,1,1]
["Prescription Drug Safe Disposal","Safe disposal can come in many forms, including returning to pharmacy locations, dropping in designated locked boxes at law enforcement offices and pharmacies, and safe disposal bags that can be purchased for home use.","Environmental","Universal Indirect","Population","All ages","N/A","N/A","N/A","N/A","Community","https://www.ncbi.nlm.nih.gov/pmc/articles/PMC4539823/  ","https://deterrasystem.com/","There are varying costs associated with disposal devices. There are large lockboxes that can be installed at pharmacies or other locations like police stations.  There are also free programs through The Nebraska Meds Coalition. Deterra Deactivation Pouches vary in sizes from small to x-large, costs vary based on size and number purchased","Ordering items, outreach to organizations, time spent delivering or followup.","No formal training, however useful to know how to talk about the importance of safe disposal ",null,"David DeVries/Crystal Fuller","No",null,null,null,1,1,null,null,null,1,1,null,null,null,null,null,null,null,null,null,null,null,null,null,null,null,null,null,null,null,null,null,null,null,null,null,null,null,null,null,null,null,null,null,1,1]
["Prescription Drug Safe Storage/Lockboxes","Lockboxes are used to store prescription medication to ensure it is not stolen or used by anyone other than the person for which it is prescribed. ","Environmental","Universal Indirect","Population","All ages","N/A","N/A","N/A","N/A","Community"," https://www.countyhealthrankings.org/take-action-to-improve-health/what-works-for-health/strategies/proper-drug-disposal-programs","https://www.lockmed.com/category-s/25.htm","Medication lockboxes vary in costs based on retailer, size and quantity purchased","Ordering items, outreach to organizations, time spent delivering or followup.","No formal traininghowever useful to know how to talk about the importance of safe storage ",null,"David DeVries/Crystal Fuller","No",null,null,null,1,1,null,null,null,1,1,null,null,null,null,null,null,null,null,null,null,null,null,null,null,null,null,null,null,null,null,null,null,null,null,null,null,null,null,null,null,null,null,null,1,1]
["PRIME For Life","Prime For Life® is an evidence-based motivational prevention, intervention and pretreatment program specifically designed for people who might be making high-risk choices. This includes but is not limited to impaired driving offenders, college students, and young people charged with alcohol and/or drug offenses. It is designed to change drinking and drug use behaviors by changing beliefs, attitudes, risk perceptions, motivations, and the knowledge of how to reduce their risk of alcohol- and drug-related problems throughout their lives. Because Prime For Life® includes both prevention and intervention content, it is also designed in a way that serves universal, selective, and indicated audiences with program delivery options for each.","ProblemID and Referral","Universal Direct","Individual","Ages 13 and up","DUI/MIP program and people using substances","substance use related offenses","8 hrs","N/A","Community","There appear to be a few studies that could be investigated: https://www.primeforlife.org/Research/Evaluations/Publications_Presentations","https://www.primeforlife.org/programs/prime_for_life_prevention","Cost determinded by each agency offering the class. Region II Human Services charges participants $120.00 which includes the required workbook.","Preparatation and follow-up time required outside of implementation time. Virtual classe- Phone calls/emails with class coordinator. Phone calls with student before, during and/or after class.  Emailing documents before and after class/set up zoom. After class-Converting all google forms to excel and email to coordinator. Scanning/Emailing certificates to students.","Training certificate required for facilitator. 2-day facilitator training costs $895.00.  Workbooks required for each participant. Workbook cost- under 18 years old- $ 7.50 and those over 18 years old- $25.00.","5 out of 5. \"The class explains addiciton in a way that helps individuals understand how and why it happens, along with how each person can prevent it from happening.\"","Shannon Sell/PIE","Yes",1,1,null,1,1,1,1,null,1,1,null,null,null,null,null,null,null,null,null,null,null,null,null,null,null,1,1,null,1,1,1,1,null,1,1,1,1,null,1,1,1,1,null,1,1]
["Project Northland","Project Northland is a six-year intervention delivered over seven academic years from middle to high school, but a shortened, 3-year version may also be used in grades 6, 7, and 8. It is a multi-level intervention to include demand (individual level) and supply (environmental level) reduction strategies. Its main intervention components include classroom curricula, peer leadership, youth-driven extra-curricular activities, parent involvement programs, and community activism. By intervening on multiple levels, Project Northland strives to teach students skills to effectively negotiate social influences to drink, while at the same time directly modifying the social environment of youth (i.e., peers, parents, school, and community).","Education","Universal Direct","Individual"," Grades 6-12","N/A","N/A","6th grade: 4 weekly sessions. Students complete homework with their parents. 7th grade: 8 week peer and teacher led classroom curriculum. 8th grade: Powerlines consist of a 8 session classroom. 9th grade: Brief 5 session. 11th and 12th grade: 6 session curriculum","A six-year intervention delivered over seven academic years from middle to high school, each year of implementation has different implementation guidelines.","School, after-school, community","Students in the intervention drank significantly less and reported less alcohol onset than control students at the end of 8th grade. Students in the intervention group who were never-drinkers at the beginning of sixth grade not only drank significantly less than students in the control group, they also smoked fewer cigarettes and used less marijuana at the end of the eighth grade. Works to promote equity, special education Project Northland reduced alcohol use among primarily white students from rural, lower-middle- to middle-class counties in Minnesota. However, it failed to have much influence on primarily African-American and Latino students in Chicago. ","https://www.blueprintsprograms.org/factsheet/project-northland","Curriculum &Materials: There are 4 components to the curriculum, each purchased separately:\n\nSlick Tracy-$195/curriculum\nAmazing Alternatives-$195/curriculum\nPower Lines-$210/curriculum\nProject Northland Program Guide-$195 each\nProject Northland (grade 6-8) collection-$595 (includes 1 each of the above)\nClass Action-$595/curriculum. Year One Cost Example: The following cost example would permit implementation of Project Northland/Class Action in two middle/junior high schools and one high school. Each middle school would have ten classes for each of grades 6-8, with 250 students per grade. Approximately 250 students would receive the Class Action curriculum in High School.\n\n12 Project Northland collections @ $595 $7,140.00\nClass Action Curriculum $595.00\nOn-site training for 12 middle school teachers (two days of training) and 2 high school teachers (1 day of training) $6,200.00\nTrainer travel and expenses $1,000.00\nTotal One Year Cost $14,935.00\nWith this model, 750 middle school students and 250 high school students would participate in Year One for a cost per student of roughly $15.00.","N/A","Training-of-Trainers: In certain situations, Hazelden Publishing will conduct a training-of-trainers to allow qualified individuals to conduct Project Northland implementation training for personnel within their school district. The Training-of-Trainers will require one additional day per grade level. For more information, contact Hazelden Training at 651-213-4672.","N/A","Zack and Taylor/PIE","Yes",1,1,1,null,null,1,1,1,null,null,1,1,1,null,null,null,null,null,null,null,null,null,null,null,null,null,null,null,null,null,1,1,1,null,null,1,1,1,null,null,1,1,1]
["QPR","QPR is a suicide gatekeeper training providing understanding around suicide myths and facts, warning signs of someone in distress, and provides participants with an action plan for asking appropriate questions, giving reassurance, and connecting individuals to resources and help. ","Education","Universal Direct","Individual","15 Years and Older","N/A","Suicidal Thoughts or Mental Distress","1 session, 60-90 minutes","One time training","School, community, organization","QPR has research to show evidence of effectiveness","https://qprinstitute.com/","$495 for Instructor Training.  $3.95 per participant booklet. $30 per participant in online format through website. ",null,"Instructor training required. Can be done through an independent study format or can bring in an in-person instructor training. ",null,"Crystal Fuller/PIE","No"]
["Responsible Beverage Service Training","Responsible beverage service (RBS) training programs are designed for people who own, manage, or work in establishments that serve alcohol. Programs provide information and teach participants how to serve alcohol responsibly and fulfill the legal requirements of alcohol service.","Environmental","Universal Indirect","Population","Ages 19 and above","N/A","N/A","Varies","N/A","Community","The systematic review included 11 studies.\nRBS training for owners and managers led to positive changes in establishment policies, such as requiring identification checks of underage-looking customers. RBS training for servers modestly improved observed and self-reported server practices. RBS training generally resulted in a net decrease in the number of alcoholic drinks consumed by the patrons. Researchers observed a net decrease in mean blood alcohol concentration (BAC) levels among patrons whose servers had been trained. The percentage of intoxicated patrons leaving an establishment decreased by a median of 26.7% after being helped by trained servers.","https://www.thecommunityguide.org/findings/alcohol-excessive-consumption-responsible-beverage-service-training","To be a trainer, you have to go through and pass a course that costs $499.00, Training Guides $35.00 each; DVD Kit for each class (On-Premise, Off Premise, Concessions, University) are $99.95 each; Participant training manual $16.00 each; ","8 hours per training","2 day training","4 out of 5 stars for this RBST; the trainiing is only as good as those attending will make it.  It is very interactive, but there are times when those attending are made to attend by their employer but do no put much into it.  Overall, it is a good training.  When we have done alcohol compliance checks, I believe we have only had one person sell that had the training, and it wasn't TiPS training, it was some other training, possibly an online training.","Lanette Richards/PIE","Yes",1,null,null,null,null,null,null,null,null,null,null,null,null,null,null,null,null,null,null,null,null,null,null,null,null,null,null,null,null,null,null,null,null,null,null,null,null,null,null,null,1,null,null,null,null,null,null,null,null,null,null,null,null,null,null,null,null,null,null,null,1]
["Retailer Education without Reinforcement","These education interventions deliver messages to retailers about tobacco sales to minors without providing follow-up and feedback on retailer performance. Education interventions, which aim to increase retailer compliance with prohibitions on the sale of tobacco to minors, include distribution of information about current or recent changes in local or state laws governing sales to minors as well as distribution of materials such as display signs or training manuals for clerks.","Environmental","Universal Indirect","Population","All ages","N/A","N/A","Varies","N/A","Community","Three studies qualified for the review.\nNone of the studies provided measurements of youth tobacco use or purchase behaviors. One study observed a 21.3 percentage point increase in the number of retailers requiring proof of age from youth making test purchase attempts. Two studies reported reductions in retailer sales rates of 9 and 27.5 percentage points.",null,"N/A","N/A","N/A","N/A","Taylor Moore/PIE","I don't know",null,null,1,null,null,null,null,null,null,null,null,null,null,null,null,null,null,null,null,null,null,null,null,null,null,null,null,null,null,null,null,null,null,null,null,null,null,null,null,null,null,null,null,null,null,null,null,null,null,null,null,null,null,null,null,null,null,null,null,null,null,null,1]
["Rob Turrisi's Parent Handbook","A parent handbook for talking with college students about alcohol.","Information Dissemination","Universal Direct","Individual","Parents of college students","N/A","N/A","Single dissemination","N/A","Community",null,null,"$9,000 for printing and postage of books and a license for each OCC institution","a moderate amount of time is needed to coordinate the number of schools that are ordering books, how many they are ordering, and updates to the Power of Parenting websites at each institution","N/A","4/5- members seem to see the parent handbook as a great resource. The only fall back is the needed updates to the parenting websites","Antoinette/PIE","No",1,null,null,null,null,1,null,null,null,null,1,null,null,null,null,null,null,null,null,null,1,null,null,null,null,1,null,null,null,null,null,null,null,null,null,null,null,null,null,null,null,null,null,null,null,1]
["Screening, Brief Intervention, and Referral to Treatment (SBIRT)","Screening quickly assesses the severity of substance use and identifies the appropriate level of treatment. Brief intervention focuses on increasing insight and awareness regarding substance use and motivation toward behavioral change. Referral to treatment provides those identified as needing more extensive treatment with access to specialty care.","ProblemID and Referral","Universal Direct","Individual","All ages",null,null,"N/A","N/A","Community, Health care settings, Colleges","There is substantial research on the effectiveness of SBIRT in reducing risky alcoholconsumption. However, the evidence for the effectiveness of SBIRT in reducing risky drug\nuse, although promising, is still accumulating. ","https://www.samhsa.gov/sbirt",null,null,"Training on how to pose difficult questions and have uncomfortable conversations with patient are advised. Involves medical certification and, in some cases, mental/behavioral health speciality.","3 -- the strategy is supported by the US Preventive Services Task Force for clinical care, but without an electronic screening option available, it is not considered a community-based strategy.","Chris Wagner/PIE","I don't know",1,1,1,1,1,1,1,1,1,1,null,null,null,null,null,1,1,1,1,1,null,null,null,null,null,1,1,1,1,1,1,1,1,1,1]
["Second Step","Second Step is a program rooted in social-emotional learning that helps transform schools into supportive, successful learning environments uniquely equipped to encourage children to thrive. More than just a classroom curriculum, Second Step's holistic approach helps create a more empathetic society by providing education professionals, families, and the larger community with tools to enable them to take an active role in the social-emotional growth and safety of today's children. ","Education","Universal Direct","Individual","Grades PreK-12","N/A","N/A","Varies","N/A","School","Most research is linked to prosocial skills. With regard to substance use: In a follow-up to their groundbreaking 2011 meta-analysis, CASEL and collaborating researchers have found that students from kindergarten to high school significantly benefit from school-based, universal social-emotional learning (SEL) interventions. This meta-analysis, released in July 2017, evaluated results of nearly 97,500 students in 82 schools, and the effects were assessed six months to 18 years after the program had ended. Researchers saw that conduct problems, emotional distress, and drug use were much lower for students with SEL exposure than those without.  Taylor, R.D., Oberle, E., Durlak, J.A., & Weissberg, R.P. (2017). Promoting positive youth development through school-based social and emotional learning interventions: a meta-analysis of follow-up effects. Child Development, 88(4), 1156–1171. https://doi.org/10.1111/cdev.12864","https://www.secondstep.org","Classroom kits range from $2,300-$12,000","Modest amount of time may be needed to prepare materials for second step and follow-up with students as needed","Curricula Training",null,"PIE/Shyanne","Yes",1,null,null,null,null,null,null,null,null,null,null,null,null,null,null,1,null,null,null,null,1,null,null,null,null,null,null,null,null,null,null,null,null,null,null,1]
["Seeking Safety","Seeking Safety is a present-focused, coping skills therapy to help people attain safety from trauma and/or substance abuse. The treatment is available as a book, providing both client handouts and clinician guidelines. The treatment may be conducted in group or individual format for adolescents (both females, and males) in various settings (e.g., community settings, outpatient, inpatient, residential, home care, and schools). Seeking Safety consists of 25 topics that can be conducted in any order and number. ","Education","Universal Direct","Individual","Adolescents-Adults","N/A","Seeking Safety is a present-focused, coping skills to help people attain safety from trauma, PTSD and/or substance misuse. \n","25 sessions, 1 hour, weekly","N/A","School or Community","Positive outcomes favoring the Seeking Safety condition were found in various domains including substance use and associated problems, some trauma-related symptoms , cognitions related to SUD and PTSD, and various psychopathology. It is notable that on the latter scale, improvements were seen even on problems that were not targeted in the treatment (e.g., anorexia, somatization). Effect sizes were generally in the moderate to high range. Some gains were sustained at follow-up. Seeking Safety appears a promising treatment for this population, but needs further study and perhaps additional clinical modification. Limitations included small sample sizes, greater level of psychopathology at intake on some variables, and female-only samples.","https://www.cebc4cw.org/program/seeking-safety-for-adults/detailed","1-day training instructors (webinar) $145.00.","Preparatation and follow-up time required outside of implementation time. Prep includes reviewing chapters and making copies of materials for the weekly class. 45min- 1 hour prep for each class","1-day webinar training available, however, a certificate is not requred to conduct offer Seeking Safety. ","4.5 out of 5 stars,\" Content is helpful & relevent to smaller groups.\"","Shannon Sell/PIE","Yes",1,1,1,1,1,1,1,1,1,1,null,null,null,null,null,null,null,null,null,null,1,1,1,1,1,1,1,1,1,1,1,1,1,1,1]
["Shoulder Tap Program","The Decoy Shoulder Tap Program is an enforcement program that sheriff and local law enforcement agencies use to detect and deter shoulder tap activity. During the program, a minor decoy, under the direct supervision of law enforcement officers, solicits adults outside licensed stores to buy the minor alcohol. Any person seen furnishing alcohol to the minor decoy is arrested (either cited or booked) for furnishing alcohol to a minor.","Environmental","Universal Indirect","Population","Ages 20 and under","N/A","N/A","Law Enforcement","N/A","Community","Those law enforcement agencies that have used the Decoy Shoulder Tap Program report having significant results, but studies show varied evidence of effectiveness. https://www.wyomingpreventiondepot.org/strategies/strategies/shoulder-tap-enforcement-programs/ ","https://www.prevention.org/alcohol-policy-resource-center/law-enforcement-strategies/shoulder-tap-operations/#:~:text=Shoulder%20tap%20operations%20are%20a,providing%20alcohol%20to%20underage%20youth.",null,null,null,null,"PIE/DBH","No",1,null,null,null,null,null,null,null,null,null,null,null,null,null,null,null,null,null,null,null,null,null,null,null,null,null,null,null,null,null,null,null,null,null,null,null,null,null,null,null,null,null,null,null,null,null,null,null,null,null,null,null,null,null,null,null,null,null,null,null,1,null,null,null,null,1]
["Sobriety Checkpoints","Sobriety checkpoints are police operations that aim to reduce the number of alcohol-related car crashes by preventing people from driving under the influence of alcohol and other substances. Driving under the influence (DUI) is prevented by increasing the perceived and actual risk of detection and apprehension by the police.","Environmental","Universal Indirect","Population","All ages","N/A","Alcohol & Drug Use","N/A","N/A","Community","Erke, Goldenbeld, and Vaa (2009) found that sobriety checkpoints have a significant effect on reducing the number of car crashes. Aggregating the results of 58 effect sizes from studies that included comparison groups, the authors found an overall reduction of 13 percent in the number of crashes in locations that implemented sobriety checkpoints, compared with control locations.","https://www.crimesolutions.gov/PracticeDetails.aspx?ID=62","Officer overtime (rates very per agency & officer); minimal staff time to compile & distribute binders and after the operation to collect & compile the data","Preparations include working with law enforcement to set up operation dates. Prior to the operation binders are distributed to each agency. Coalitions are not a part of the actual enforcement, unless asked by law enforcement. Following the operation, binders are retrieved and data compiled for a press release. ","Coalitions not involved in training; PEM provides annual law enforcement training on varying topics to refresh best practices & how to be more effective","Limited to law enforcement personnel availability. Avoid weekends/times when agencies are already on grants. You can have an idea on when you want these done, but dependent on the agencies involved. MOU process took a while but now that it's in place, easier to have agencies come together. Don't always get a lot of results, but that is still better than none.","Liene Topko/PIE","I don't know",1,1,null,1,1,null,null,null,null,null,null,null,null,null,null,null,null,null,null,null,null,null,null,null,null,null,null,null,null,null,null,null,null,null,null,null,null,null,null,null,null,null,null,null,null,null,null,null,null,null,null,null,null,null,null,null,null,null,null,null,null,null,null,null,null,1,1,null,1,1]
["Social Norming Campaigns","The social norms approach to behavior change combines lessons learned from a variety of fields including social marketing, sociology, behavioral psychology and evaluation research. Social norms marketing campaigns are based on current, accurate information about the  intended audience and adhere, in process and content, to good social marketing principles.","Information Dissemination","Universal Indirect","Population","All ages","N/A","N/A","Varies",null,"School or Community","Some important lessons learned in the course of several decades of research include:\nThe effectiveness of social norms marketing interventions can be undermined if the overall environment supports and promotes unhealthy choices. The effectiveness of social norms marketing interventions can be enhanced if the norms that are promoted reflect a group that the individuals closely identify with. Social norms marketing campaigns are perhaps best conceptualized as culture change interventions, taking more than one year to realize the behavioral change effects.","https://socialnorms.org/social-norms-approach/","Costs vary between cost of survey and the types of promotional material used for campaign, (e.g. flyers, ads, additional PSA material).","Prepreation time for data collection. Time for data to be discerned. ","No training is required, knowledge and understanding of topic is highly reccomended.",null,"Antoinette/PIE","I don't know",1,1,1,1,1,1,1,1,1,1,null,null,null,null,null,1,1,1,1,1,1,1,1,1,1,1,1,1,1,1,1,1,1,1,1,1,1,1,1,1,null,null,null,null,null,null,null,null,null,null,null,null,null,null,null,null,null,null,null,null,null,null,null,null,null,null,null,null,null,null,1,1,1,1,1]
["SPORT Prevention Plus Wellness","SPORT Prevention Plus Wellness is a health promotion program to improve their physical fitness, nutrition, and sleep habits, and avoid alcohol, tobacco and drug use. SPORT content highlights the positive image benefits of an active lifestyle by showing youth as active and fit, and emphasizes substance abuse as counterproductive to achieving positive image and behavior goals. The program consists of an in-person health behavior screen, a one-on-one consultation with the teens, a take-home fitness prescription targeting adolescent health promoting behaviors and alcohol use along with its risk and protective factors, and a flyer reinforcing key content of the consultation mailed to the home.","Education","Universal Direct","Individual","Children (age 7-10)\nMiddle School (age 10-14)\nHigh School (age 14-18)","N/A","N/A","Single session, including\nHealth behavior screen, a one-on-one consultation with the teens, a take-home fitness prescription.","N/A","School, Afterschool, or Community","2 of 3 studies analyzed found no effects, while one study showed Three months after receiving the intervention, students in the treatment group scored significantly lower on alcohol consumption, alcohol use risk, drug use behaviors, and alcohol initiation measures than students in the control group. \nhttps://www.blueprintsprograms.org/programs/477999999/sport-prevention-plus-wellness/","https://www.blueprintsprograms.org/factsheet/sport-prevention-plus-wellness","$530/version or\n$5,500 for unlimited license for 3 years\nOnline, self-paced implementer training - $250/version or $5,500 for unlimited training license for 3 years","20 minutes prep","On-site workshop for implementers is 5 hours. \nOnline, self-paced courses are also available.","A good option for funders that require EBP programming, time is minimal for EBP.  Hard to get a relationship with students with such a short EBP. Best if used as part of a bigger program offered to schools. Does allow for some communication and basic teaching of healthy decisions, behaviors etc... 3.5/5. Pros- Time for preparing, time taken to run a full EBP minimal- Allowing for more students learning this information, easier to get into schools than a longer curriculum. Cons, not enough time, limited on information being shared, unknown for long term effectivness based on same session feedback. ","PIE/DBH/Kerry-Anne Block","Yes",1,1,1,null,1,1,1,1,null,1,null,null,null,null,null,null,null,null,null,null,null,null,null,null,null,null,null,null,null,null,1,1,1,null,1]
["Strengthening Families 10-14 (and 12-16)","Strengthening Families 10-14 is a seven-session program for families with young adolescents that aims to enhance family protective and resiliency processes and reduce family risk related to adolescent substance abuse and other problem behaviors. The weekly, two-hour sessions include separate parent and child skills-building followed by a family session where parents and children practice the skills they have learned independently, work on conflict resolution and communication, and engage in activities to increase family cohesiveness and positive involvement of the child in the family. Parents are taught how to clarify expectations based on child development norms of adolescent substance use, using appropriate disciplinary practices, managing strong emotions regarding their children, and using effective communication. Children are taught refusal skills for dealing with peer pressure and other personal and social interactional skills. These sessions are led by three-person teams and include an average of eight families per session. Cultural adaptations of Strengthening Families 10-14 include versions for African American (Spoth et al., 2003) and European (Baldus et al., 2016; Skärstrand et al., 2008, 2014) families, which contain similar content as the original version but make use of videotapes that include narrators and actors of the relevant racial/ethnic groups.","Education","Selective","Individual","Ages 10-14 and parents (also a version for ages 12-16)","African American and European cultural adaption version available","N/A","Seven sessions, 2 hours, weekly","N/A","Community, School","Spoth, Redmond et al. (1999), Spoth et al. (2000), and 13 other reports found that, relative to the control group, the Iowa Strengthening Families program produced the following significant findings: Lower rates of initiation in each of the three alcohol ever-use measures at the one-, two-, and four-year follow-ups.\nLower transitions to substance use at the two-year follow-up.\nLower proportion reporting initiation of each of the five substance use behaviors (use of alcohol, alcohol without parental permission, drunkenness, cigarettes, and marijuana) at the four-year follow-up (10th grade).\nLower frequency and proportion reporting past month alcohol use and past month cigarette use in 10th grade.\nLower composite index for both alcohol and tobacco at 10th grade.","https://www.blueprintsprograms.org/programs/189999999/strengthening-families-10-14/","The cost for 10-15 facilitators is $4,000 plus travel for one trainer at $1,500. Costs vary depending on the number of families to be served. Serving 30 families per year costs $1,600 plus shipping for the first year for curriculum materials. The cost drops to $100 in the second year. These costs include one manual per 2 facilitators at $175, curriculum DVDs at $298, curriculum posters at $50 and Love & Limits magnets at $2 per family.","Startup 3 to 6 months. Allow enough time to hire a site or program coordinator, hire group leaders, and arrange the training workshop for the staff team members. You also need to assure adequate recruitment from your existing client base or from referral sources. Arrangements must be made for child care, transportation, adequate space, and incentives.","Curricula Training",null,"PIE/Shyanne","Yes",1,1,1,null,1,null,null,null,null,null,1,1,1,null,1,1,1,1,null,1,1,1,1,null,1,null,null,null,null,null,1,1,1,null,1,1,1,1,null,1]
["Student Assistance Team Action/Training","SCIP utilizes the Student Assistance Team Action/Training by providing education, training and technical assistance to school personnel to help them better address student behavioral health concerns.  Through the SCIP process, school peronnel identifying students who might be struggling with a behavioral health concern.  The SCIP process uses the problem & identification referral strategy along with the educational strategy in helping connect students and their families to resources, supports and services inside and outside of the school. ","Education","Selective","Population","Ages 5-65","N/A","Substance Use Emotional/Mental Health Concerns","1 session, 20 minutes to 60 minutes weekly, bi-weekly and monthly (dependent upon school)","program runs all grade levels in a school Elementary, Middle, High","schools, communities, zoom,","???",null,"Thre is no cost to students or families to utilize SCIP.  Schools may have a training fee for team members of $365 to be trained","A great deal of time is required to provide training to personnel, providing current trend reources and working with providers and trainers/educators on bejavioral health topics ",null,"N/A","Chris Ivory/PIE","Yes",1,1,1,1,1,1,1,1,1,1,1,1,1,1,1,1,1,1,1,1,1,1,1,1,1,1,1,1,1,1,1,1,1,1,1,1,1,1,1,1]
["Too Good for Drugs (K-12)","Too Good for Drugs is an alcohol, tobacco, and other illicit drug prevention program designed to develop (1) resistance skills towards drugs, (2) goal-setting, decision-making, assertiveness, and communication skills, (3) knowledge about the negative consequences of drug use and benefits of being drug-free, and (4) knowledge about the prevalence of drug use in comparison to perceptions. The interactive lessons can be delivered by trained classroom teachers or program instructors during the school day in a 40-50 minute lesson once a week over nine weeks.","Education","Universal Direct","Individual","Grades 6-8","N/A","N/A","9 sessions, 40-50 minutes, weekly","N/A","School","At post-test, the intervention group had a significantly lower likelihood of tobacco use intentions compared with the control group. The intervention group had a significantly lower alcohol use intentions when compared with the control group. There was no significant difference on alcohol use intention between groups at the 20-week follow up. For intention to use marijuana, there was no significant impact at post-test; however, at the 20-week follow-up, the treatment group was significantly less likely to use marijuana when compared with the control group (12% vs. 17%).","https://www.childtrends.org/programs/too-good-for-drugs","Each class kit (K-8)  ranges from $275 to $325 plus shipping. High School kit $455.95 plus shipping . Each kit has a bundle of 30 work books included in the kit and are $44.95 to $54.95 plus shipping for additional bundles.","It requires approx 1 hr prep time for classes.","Training - $345 per person per session (3 sessions for K-12)   Onsite training $2,000 per day plus travel costs for trainer","4 out 5 stars.","Sally Peters/PIE","Yes",1,1,1,1,1,1,1,1,1,1,1,1,1,1,1,1,1,1,1,1,1,1,1,1,1,null,null,null,null,null,1,1,1,1,1,1,1,1,1,1]
["Training for Intervention Procedures (TIPS) for the University","TIPS for the University acknowledges that whether or not students choose to drink, they are likely to find themselves in situations where alcohol is being consumed. Unlike other alcohol education programs, TIPS for the University provides students with the confidence, skills, and strategies to prevent alcohol-related problems such as intoxication, drunk driving, and underage drinking among their peers. Proven effective by third-party studies, TIPS training can be delivered in the classroom or online.","Environmental","Universal Indirect","Population","College Students","N/A","N/A","2-hour, single online session","N/A","College or web-based","Case studies showing efficacy can be found here: https://www.tipsuniversity.org/about/case_studies.html\n\nOne study: The subjects were 3,400 members of a national college fraternity. Within six months of implementing TIPS, there was a significant decline in both the frequency and intensity of drinking among the fraternity members who participated in the study","https://www.tipsuniversity.org/","$40/2-hour program",null,"Training is a one-day workshop",null,"PIE/DBH",null,1,null,null,null,null,1,null,null,null,null,null,null,null,null,null,null,null,null,null,null,null,null,null,null,null,1,null,null,null,null,null,null,null,null,null,1]
["Well Initiatives for Senior Education (WISE)","The Wellness Initiative for Senior Education (WISE) Program celebrates healthy aging and educates older adults on a variety of topics including safe medication use, communicating effectively with healthcare providers and strategies for healthy living. ","Education","Universal Direct","Individual","Older Adults","N/A","N/A","6 sesson curriculum, once per week over a six-week period. Each lesson is about two hours in length and is generally offered with breakfast or lunch.","N/A","Community","One study found when compared with participants in the control group, those who completed WISE had increases over time in knowledge about the ability of the body to metabolize alcohol (p = .001) and medications (p = .006). These group differences were associated with medium effect sizes (eta-squared = .11 and .07, respectively). \nhttps://acl.gov/sites/default/files/programs/2017-03/WISE_ACL_Summary.pdf","https://www.njpn.org/wise",null,null,"2-day WISE facilitator training",null,"PIE/DBH",null,1,null,1,1,1,1,null,1,1,1]
["Wellness Recovery Action Plan (WRAP)","Wellness Recovery Action Plan is an evidence-based manualized group intervention for illness self-management delivered in a self-help group context (in-person or online). WRAP guides participants through the process of identifying and understanding their personal wellness resources (“wellness tools”), and then helps them to develop an individualized plan to use these resources to manage daily stress and symptoms.","Education","Selective","Individual","All ages","N/A","WRAP is used primarily by people with mental illnesses of varying severity and people coping with various health issues (such as arthritis, diabetes, Hepatitis C, HIV)","2.4 hour sessions for 8 weeks with 8-12 participants; 2 or 3 full days with 20-50 participants; online 4-week sessions","N/A","Community, Online","raining in mental illness self-management with WRAP reduced depression and anxiety and improved self-perceived recovery over time for people with serious mental illness, according to research presented in the June issue of Psychiatric Services, a journal of the American Psychiatric Association. (https://www.wellnessrecoveryactionplan.com/new-study-examines-benefits-of-wellness-recovery-action-plan-wrap-for-people-with-serious-mental-illness/)","https://www.wellnessrecoveryactionplan.com/what-is-wrap/",null,null,"2 trained and certified WRAP Facilitators - training is a 5-day course, with the pre-requisite of first attending a WRAP group",null,"PIE/DBH",null,1,1,1,1,1,1,1,1,1,1,null,null,null,null,null,1,1,1,1,1]
["Year One College Behavior Profile (Year One CBP)","Year One CAP is a web-based prevention tool for incoming students to complete prior to coming to campus. Schools can consider whether they wish to make the Year One CAP mandatory as a condition of enrollment for all students or select groups such as those living in campus housing. Incoming students are sent a letter from a senior adminstrator letting them know that they will recieve an email directing them to the Year One CAP and stating that they are expected to complete the CAP prior to coming to campus. ","ProblemID and Referral","Universal Direct","Individual","College Students","N/A","N/A","Single dissemination","N/A","Online",null,"http://www.nebraskaconsortium.org/documents/approach/final-year-one-cap-handout-11-22-10.pdf","$16,000 for Y1CBP promotion, data analysis, & innovations and improvements","Y1CBP planning involves a moderate amount of preparation including months out preparation of promotional activities and working with a third party to do the data analysis of the program results","N/A","4/5- Y1CBP promotion has given satisfactory results, working with a third party has been satisfactory, however, disruptions in their organizations such as turnover, can lead to a delay in our plans and timeliens ","Antoinette/PIE","Yes",1,1,null,null,null,1,1,null,null,null,null,null,null,null,null,null,null,null,null,null,null,null,null,null,null,1,1,null,null,null,null,null,null,null,null,1,1]